BEGIN:VCALENDAR
VERSION:2.0
PRODID:-//Fränkische Kirchweih - ECPv6.15.17.1//NONSGML v1.0//EN
CALSCALE:GREGORIAN
METHOD:PUBLISH
X-ORIGINAL-URL:https://fraenkische-kirchweih.de
X-WR-CALDESC:Veranstaltungen für Fränkische Kirchweih
REFRESH-INTERVAL;VALUE=DURATION:PT1H
X-Robots-Tag:noindex
X-PUBLISHED-TTL:PT1H
BEGIN:VTIMEZONE
TZID:Europe/Berlin
BEGIN:DAYLIGHT
TZOFFSETFROM:+0100
TZOFFSETTO:+0200
TZNAME:CEST
DTSTART:20250330T010000
END:DAYLIGHT
BEGIN:STANDARD
TZOFFSETFROM:+0200
TZOFFSETTO:+0100
TZNAME:CET
DTSTART:20251026T010000
END:STANDARD
BEGIN:DAYLIGHT
TZOFFSETFROM:+0100
TZOFFSETTO:+0200
TZNAME:CEST
DTSTART:20260329T010000
END:DAYLIGHT
BEGIN:STANDARD
TZOFFSETFROM:+0200
TZOFFSETTO:+0100
TZNAME:CET
DTSTART:20261025T010000
END:STANDARD
BEGIN:DAYLIGHT
TZOFFSETFROM:+0100
TZOFFSETTO:+0200
TZNAME:CEST
DTSTART:20270328T010000
END:DAYLIGHT
BEGIN:STANDARD
TZOFFSETFROM:+0200
TZOFFSETTO:+0100
TZNAME:CET
DTSTART:20271031T010000
END:STANDARD
END:VTIMEZONE
BEGIN:VEVENT
DTSTART;VALUE=DATE:20260618
DTEND;VALUE=DATE:20260623
DTSTAMP:20260421T214829
CREATED:20260131T144601Z
LAST-MODIFIED:20260131T144601Z
UID:10002710-1781740800-1782172799@fraenkische-kirchweih.de
SUMMARY:Rattelsdorfer Kerwa
DESCRIPTION:
URL:https://fraenkische-kirchweih.de/kalendereintrag/rattelsdorfer-kerwa-5/
LOCATION:Ortsvereine Rattelsdorf\, Rattelsdorf\, Bayern\, 96179\, DEU
CATEGORIES:"Kerwa,Bamberg,Oberfranken
GEO:50.0146638;10.8901574
END:VEVENT
BEGIN:VEVENT
DTSTART;VALUE=DATE:20260618
DTEND;VALUE=DATE:20260623
DTSTAMP:20260421T214829
CREATED:20260222T162210Z
LAST-MODIFIED:20260411T174657Z
UID:10003108-1781740800-1782172799@fraenkische-kirchweih.de
SUMMARY:Kleedorfer Kirwa
DESCRIPTION:
URL:https://fraenkische-kirchweih.de/kalendereintrag/kleedorfer-kirwa/
LOCATION:Kirwa Kleedorf\, Kleedorf\, Bayern\, 91241\, DEU
CATEGORIES:"Kirwa,Mittelfranken,Nürnberger Land
GEO:49.5361202;11.4432947
END:VEVENT
BEGIN:VEVENT
DTSTART;VALUE=DATE:20260619
DTEND;VALUE=DATE:20260621
DTSTAMP:20260421T214829
CREATED:20260222T162218Z
LAST-MODIFIED:20260411T174728Z
UID:10003115-1781827200-1781999999@fraenkische-kirchweih.de
SUMMARY:Diepoltsdorfer Kirwa
DESCRIPTION:
URL:https://fraenkische-kirchweih.de/kalendereintrag/diepoltsdorfer-kirwa/
LOCATION:Kirwa Diepoktsdorf\, Diepoltsdorf\, Bayern\, 91245\, DEU
CATEGORIES:"Kirwa,Mittelfranken,Nürnberger Land
GEO:49.6086235;11.3564576
END:VEVENT
BEGIN:VEVENT
DTSTART;VALUE=DATE:20260619
DTEND;VALUE=DATE:20260622
DTSTAMP:20260421T214829
CREATED:20260131T141942Z
LAST-MODIFIED:20260411T174712Z
UID:10002652-1781827200-1782086399@fraenkische-kirchweih.de
SUMMARY:Veitsauracher Kerwa
DESCRIPTION:
URL:https://fraenkische-kirchweih.de/kalendereintrag/veitsauracher-kerwa/
LOCATION:Kerwaboum- und Madli Veitsaurach e.V.\, Veitsaurach\, Bayern\, 91575\, DEU
CATEGORIES:"Kerwa,Ansbach,Mittelfranken
GEO:49.2866928;10.8858581
END:VEVENT
BEGIN:VEVENT
DTSTART;VALUE=DATE:20260619
DTEND;VALUE=DATE:20260622
DTSTAMP:20260421T214829
CREATED:20260131T142402Z
LAST-MODIFIED:20260411T174712Z
UID:10002679-1781827200-1782086399@fraenkische-kirchweih.de
SUMMARY:Volkersgauer Kerwa
DESCRIPTION:
URL:https://fraenkische-kirchweih.de/kalendereintrag/volkersgauer-kerwa/
LOCATION:Kerwaboum und Madli Volkersgau\, Volkersgau\, Bayern\, 91126\, DEU
CATEGORIES:"Kerwa,Mittelfranken,Roth
GEO:49.3129283;10.943663
END:VEVENT
BEGIN:VEVENT
DTSTART;VALUE=DATE:20260619
DTEND;VALUE=DATE:20260623
DTSTAMP:20260421T214829
CREATED:20260131T140256Z
LAST-MODIFIED:20260320T230400Z
UID:10002418-1781827200-1782172799@fraenkische-kirchweih.de
SUMMARY:Kärwa Baiersdorf
DESCRIPTION:
URL:https://fraenkische-kirchweih.de/kalendereintrag/kaerwa-baiersdorf-5/
LOCATION:Ortsvereine Baiersdorf\, Baiersdorf\, Bayern\, 91083\, DEU
CATEGORIES:"Kärwa,Erlangen-Höchstadt,Mittelfranken
GEO:49.6593595;11.0338667
END:VEVENT
BEGIN:VEVENT
DTSTART;VALUE=DATE:20260619
DTEND;VALUE=DATE:20260623
DTSTAMP:20260421T214829
CREATED:20260131T140257Z
LAST-MODIFIED:20260411T174658Z
UID:10002419-1781827200-1782172799@fraenkische-kirchweih.de
SUMMARY:Greuther Kerwa
DESCRIPTION:
URL:https://fraenkische-kirchweih.de/kalendereintrag/greuther-kerwa-5/
LOCATION:Kerwagemeinschaft Greuth\, Greuth\, Bayern\, 91315\, DEU
CATEGORIES:"Kerwa,Erlangen-Höchstadt,Mittelfranken
GEO:49.7554096;10.9157324
END:VEVENT
BEGIN:VEVENT
DTSTART;VALUE=DATE:20260619
DTEND;VALUE=DATE:20260623
DTSTAMP:20260421T214829
CREATED:20260131T140259Z
LAST-MODIFIED:20260411T174711Z
UID:10002422-1781827200-1782172799@fraenkische-kirchweih.de
SUMMARY:Behringersdorfer Kirchweih
DESCRIPTION:
URL:https://fraenkische-kirchweih.de/kalendereintrag/behringersdorfer-kirchweih-5/
LOCATION:Kirchweihverein Behringersdorf\, Behringersdorf\, Bayern\, 90571\, DEU
CATEGORIES:"Kirchweih,Mittelfranken,Nürnberger Land
GEO:49.4841525;11.2032962
END:VEVENT
BEGIN:VEVENT
DTSTART;VALUE=DATE:20260619
DTEND;VALUE=DATE:20260623
DTSTAMP:20260421T214829
CREATED:20260131T141534Z
LAST-MODIFIED:20260411T174711Z
UID:10002616-1781827200-1782172799@fraenkische-kirchweih.de
SUMMARY:Ohrabrünner Kerba
DESCRIPTION:
URL:https://fraenkische-kirchweih.de/kalendereintrag/ohrabruenner-kerba/
LOCATION:Ortsvereine Großohrenbronn\, Großohrenbronn\, Bayern\, 91599\, DEU
CATEGORIES:"Kerba,Ansbach,Mittelfranken
GEO:49.1352055;10.4370086
END:VEVENT
BEGIN:VEVENT
DTSTART;VALUE=DATE:20260619
DTEND;VALUE=DATE:20260623
DTSTAMP:20260421T214829
CREATED:20260131T142403Z
LAST-MODIFIED:20260411T174713Z
UID:10002680-1781827200-1782172799@fraenkische-kirchweih.de
SUMMARY:Hembacher Kärwa
DESCRIPTION:
URL:https://fraenkische-kirchweih.de/kalendereintrag/hembacher-kaerwa/
LOCATION:Kärwaboum und Madli Rednitzhembach\, Rednitzhembach\, Bayern\, 91126\, DEU
CATEGORIES:"Kärwa,Mittelfranken,Roth
GEO:49.2990931;11.082914
END:VEVENT
BEGIN:VEVENT
DTSTART;VALUE=DATE:20260619
DTEND;VALUE=DATE:20260623
DTSTAMP:20260421T214829
CREATED:20260131T144602Z
LAST-MODIFIED:20260131T144602Z
UID:10002711-1781827200-1782172799@fraenkische-kirchweih.de
SUMMARY:Mistendorfer Kerwa
DESCRIPTION:
URL:https://fraenkische-kirchweih.de/kalendereintrag/mistendorfer-kerwa-5/
LOCATION:Freiwillige Feuerwehr Mistendorf\, Mistendorf\, Bayern\, 96129\, DEU
CATEGORIES:"Kerwa,Bamberg,Oberfranken
GEO:49.87205;11.0459486
END:VEVENT
BEGIN:VEVENT
DTSTART;VALUE=DATE:20260619
DTEND;VALUE=DATE:20260623
DTSTAMP:20260421T214829
CREATED:20260131T144603Z
LAST-MODIFIED:20260131T144603Z
UID:10002712-1781827200-1782172799@fraenkische-kirchweih.de
SUMMARY:Igensdorfer Kerwa
DESCRIPTION:
URL:https://fraenkische-kirchweih.de/kalendereintrag/igensdorfer-kerwa-5/
LOCATION:Kerwaboum Igensdorf e.V.\, Igensdorf\, Bayern\, 91338\, DEU
CATEGORIES:"Kerwa,Forchheim,Oberfranken
GEO:49.6231756;11.2314398
END:VEVENT
BEGIN:VEVENT
DTSTART;VALUE=DATE:20260619
DTEND;VALUE=DATE:20260623
DTSTAMP:20260421T214829
CREATED:20260131T151644Z
LAST-MODIFIED:20260321T000755Z
UID:10002850-1781827200-1782172799@fraenkische-kirchweih.de
SUMMARY:Kirwa Högen
DESCRIPTION:
URL:https://fraenkische-kirchweih.de/kalendereintrag/kirwa-hoegen-5/
LOCATION:Ortsvereine Högen\, Högen\, Bayern\, 91249\, DEU
CATEGORIES:"Kirwa,Amberg-Sulzbach,Oberpfalz
GEO:49.4914165;11.6056024
END:VEVENT
BEGIN:VEVENT
DTSTART;VALUE=DATE:20260619
DTEND;VALUE=DATE:20260623
DTSTAMP:20260421T214829
CREATED:20260304T172910Z
LAST-MODIFIED:20260411T174728Z
UID:10003127-1781827200-1782172799@fraenkische-kirchweih.de
SUMMARY:Loher Kärwa
DESCRIPTION:
URL:https://fraenkische-kirchweih.de/kalendereintrag/loher-kaerwa/
LOCATION:Loher Kärwaburschen und Madla\, Lohe\, Bayern\, 90427\, DEU
CATEGORIES:"Kärwa,Mittelfranken,Nürnberg
GEO:49.4903318;10.7594262
END:VEVENT
BEGIN:VEVENT
DTSTART;VALUE=DATE:20260619
DTEND;VALUE=DATE:20260623
DTSTAMP:20260421T214829
CREATED:20260411T174728Z
LAST-MODIFIED:20260411T174728Z
UID:10003211-1781827200-1782172799@fraenkische-kirchweih.de
SUMMARY:Birnbaumer Zeltkerwa
DESCRIPTION:
URL:https://fraenkische-kirchweih.de/kalendereintrag/birnbaumer-zeltkerwa/
LOCATION:Ortsburschen und Madle Birnbaum\, Birnbaum\, Bayern\, 91466\, DEU
CATEGORIES:"Kerwa,Mittelfranken,Neustadt an der Aisch-Bad Windsheim
GEO:49.6265172;10.7182904
END:VEVENT
BEGIN:VEVENT
DTSTART;VALUE=DATE:20260619
DTEND;VALUE=DATE:20260624
DTSTAMP:20260421T214829
CREATED:20260131T140258Z
LAST-MODIFIED:20260411T174659Z
UID:10002420-1781827200-1782259199@fraenkische-kirchweih.de
SUMMARY:Kärwa Langenzenn
DESCRIPTION:
URL:https://fraenkische-kirchweih.de/kalendereintrag/kaerwa-langenzenn-5/
LOCATION:Ortsvereine Langenzenn\, Langenzenn\, Bayern\, 90579\, DEU
CATEGORIES:"Kärwa,Fürth,Mittelfranken
GEO:49.4862673;10.7650387
END:VEVENT
BEGIN:VEVENT
DTSTART;VALUE=DATE:20260620
DTEND;VALUE=DATE:20260623
DTSTAMP:20260421T214829
CREATED:20260131T143236Z
LAST-MODIFIED:20260201T232237Z
UID:10002698-1781913600-1782172799@fraenkische-kirchweih.de
SUMMARY:Pettenhofer Kirwa
DESCRIPTION:
URL:https://fraenkische-kirchweih.de/kalendereintrag/pettenhofer-kirwa-5/
LOCATION:Kirwaboum und Kirwamoidla Pettenhofen e.V.\, Pettenhofen\, Bayern\, 85049\, DEU
CATEGORIES:"Kirwa,Ingolstadt,Oberbayern
GEO:48.7764931;11.2872548
END:VEVENT
BEGIN:VEVENT
DTSTART;VALUE=DATE:20260620
DTEND;VALUE=DATE:20260623
DTSTAMP:20260421T214829
CREATED:20260131T144600Z
LAST-MODIFIED:20260131T144600Z
UID:10002709-1781913600-1782172799@fraenkische-kirchweih.de
SUMMARY:Wildensorger Kirchweih
DESCRIPTION:
URL:https://fraenkische-kirchweih.de/kalendereintrag/wildensorger-kirchweih-5/
LOCATION:Ortsvereine Wildensorg\, Wildensorg\, Bayern\, 96049\, DEU
CATEGORIES:"Kirchweih,Bamberg,Oberfranken
GEO:49.8795487;10.8586328
END:VEVENT
BEGIN:VEVENT
DTSTART;VALUE=DATE:20260620
DTEND;VALUE=DATE:20260623
DTSTAMP:20260421T214829
CREATED:20260131T151410Z
LAST-MODIFIED:20260131T151410Z
UID:10002827-1781913600-1782172799@fraenkische-kirchweih.de
SUMMARY:Kirwa Berg
DESCRIPTION:
URL:https://fraenkische-kirchweih.de/kalendereintrag/kirwa-berg-5/
LOCATION:Berger Kirwaboum und -moila\, Berg\, Bayern\, 92348\, DEU
CATEGORIES:"Kirwa,Neumarkt in der Oberpfalz,Oberpfalz
GEO:49.3498439;11.4297499
END:VEVENT
BEGIN:VEVENT
DTSTART;VALUE=DATE:20260620
DTEND;VALUE=DATE:20260623
DTSTAMP:20260421T214829
CREATED:20260131T151813Z
LAST-MODIFIED:20260131T151813Z
UID:10002880-1781913600-1782172799@fraenkische-kirchweih.de
SUMMARY:Weißenberger Kirwa
DESCRIPTION:
URL:https://fraenkische-kirchweih.de/kalendereintrag/weissenberger-kirwa-4/
LOCATION:Ortsvereine Weißenberg\, Weißenberg\, Bayern\, 92265\, DEU
CATEGORIES:"Kirwa,Amberg-Sulzbach,Oberpfalz
GEO:49.5778354;11.7259628
END:VEVENT
BEGIN:VEVENT
DTSTART;VALUE=DATE:20260624
DTEND;VALUE=DATE:20260627
DTSTAMP:20260421T214829
CREATED:20260131T154731Z
LAST-MODIFIED:20260131T154731Z
UID:10003021-1782259200-1782518399@fraenkische-kirchweih.de
SUMMARY:Steinheider Kirmes
DESCRIPTION:
URL:https://fraenkische-kirchweih.de/kalendereintrag/steinheider-kirmes-5/
LOCATION:Heimat- und Kirmesverein Steinheid e.V.\, Steinheid\, Thüringen\, 98724\, DEU
CATEGORIES:"Kirmes,Sonneberg,Werra-Main-Franken
GEO:50.4939927;11.1404127
END:VEVENT
BEGIN:VEVENT
DTSTART;VALUE=DATE:20260624
DTEND;VALUE=DATE:20260701
DTSTAMP:20260421T214829
CREATED:20260131T140308Z
LAST-MODIFIED:20260411T174729Z
UID:10002424-1782259200-1782863999@fraenkische-kirchweih.de
SUMMARY:Sporcher Kärwa
DESCRIPTION:
URL:https://fraenkische-kirchweih.de/kalendereintrag/sporcher-kaerwa-5/
LOCATION:Kärwaburschen und Madli Cadolzburg\, Cadolzburg\, Bayern\, 90556\, DEU
CATEGORIES:"Kärwa,Fürth,Mittelfranken
GEO:49.4565712;10.861676
END:VEVENT
BEGIN:VEVENT
DTSTART;VALUE=DATE:20260625
DTEND;VALUE=DATE:20260629
DTSTAMP:20260421T214829
CREATED:20260131T154116Z
LAST-MODIFIED:20260131T154116Z
UID:10002928-1782345600-1782691199@fraenkische-kirchweih.de
SUMMARY:Plankirmes Westhausen
DESCRIPTION:
URL:https://fraenkische-kirchweih.de/kalendereintrag/plankirmes-westhausen-5/
LOCATION:Kirmesverein Westhausen e.V.\, Westhausen\, Thüringen\, 98663\, DEU
CATEGORIES:"Kirmes,Hildburghausen,Werra-Main-Franken
GEO:50.3155651;10.6595765
END:VEVENT
BEGIN:VEVENT
DTSTART;VALUE=DATE:20260625
DTEND;VALUE=DATE:20260629
DTSTAMP:20260421T214829
CREATED:20260304T172908Z
LAST-MODIFIED:20260411T174740Z
UID:10003122-1782345600-1782691199@fraenkische-kirchweih.de
SUMMARY:Gebersdorfer Kärwa
DESCRIPTION:
URL:https://fraenkische-kirchweih.de/kalendereintrag/gebersdorfer-kaerwa/
LOCATION:Gebersdorfer Kärwa e.V.\, Gebersdorf\, Bayern\, 90449\, DEU
CATEGORIES:"Kärwa,Mittelfranken,Nürnberg
GEO:49.4243655;11.0098282
END:VEVENT
BEGIN:VEVENT
DTSTART;VALUE=DATE:20260625
DTEND;VALUE=DATE:20260630
DTSTAMP:20260421T214829
CREATED:20260131T140310Z
LAST-MODIFIED:20260411T174729Z
UID:10002428-1782345600-1782777599@fraenkische-kirchweih.de
SUMMARY:Neunhofer Kirwa
DESCRIPTION:
URL:https://fraenkische-kirchweih.de/kalendereintrag/neunhofer-kirwa-5/
LOCATION:Kirwaboum Neunhof 1986 e.V.\, Neunhof\, Bayern\, 91207\, DEU
CATEGORIES:"Kirwa,Mittelfranken,Nürnberger Land
GEO:49.5542726;11.2306052
END:VEVENT
BEGIN:VEVENT
DTSTART;VALUE=DATE:20260625
DTEND;VALUE=DATE:20260630
DTSTAMP:20260421T214829
CREATED:20260131T141119Z
LAST-MODIFIED:20260411T174736Z
UID:10002552-1782345600-1782777599@fraenkische-kirchweih.de
SUMMARY:Engelthaler Kirwa
DESCRIPTION:
URL:https://fraenkische-kirchweih.de/kalendereintrag/engelthaler-kirwa-5/
LOCATION:Ortsvereine Engelthal\, Engelthal\, Bayern\, 91238\, DEU
CATEGORIES:"Kirwa,Mittelfranken,Nürnberger Land
GEO:49.4453626;11.4006127
END:VEVENT
BEGIN:VEVENT
DTSTART;VALUE=DATE:20260625
DTEND;VALUE=DATE:20260630
DTSTAMP:20260421T214829
CREATED:20260131T141724Z
LAST-MODIFIED:20260411T174737Z
UID:10002639-1782345600-1782777599@fraenkische-kirchweih.de
SUMMARY:Wernsbacher Kerwa
DESCRIPTION:
URL:https://fraenkische-kirchweih.de/kalendereintrag/wernsbacher-kerwa/
LOCATION:Dorfgemeinschaft Wernsbach e.V.\, Wernsbach\, Bayern\, 91564\, DEU
CATEGORIES:"Kerwa,Ansbach,Mittelfranken
GEO:49.2652025;10.8048439
END:VEVENT
BEGIN:VEVENT
DTSTART;VALUE=DATE:20260625
DTEND;VALUE=DATE:20260630
DTSTAMP:20260421T214829
CREATED:20260411T174740Z
LAST-MODIFIED:20260411T174740Z
UID:10003212-1782345600-1782777599@fraenkische-kirchweih.de
SUMMARY:Neidhardswindner Zeltkärwa
DESCRIPTION:
URL:https://fraenkische-kirchweih.de/kalendereintrag/neidhardswindner-zeltkaerwa/
LOCATION:Ortsburschen Neidhardswinden\, Neidhardswinden\, Bayern\, 91448\, DEU
CATEGORIES:"Kärwa,Mittelfranken,Neustadt an der Aisch-Bad Windsheim
GEO:49.5221892;10.6939771
END:VEVENT
BEGIN:VEVENT
DTSTART;VALUE=DATE:20260625
DTEND;VALUE=DATE:20260701
DTSTAMP:20260421T214829
CREATED:20260304T172906Z
LAST-MODIFIED:20260411T174738Z
UID:10003120-1782345600-1782863999@fraenkische-kirchweih.de
SUMMARY:Eibacher Kärwa
DESCRIPTION:
URL:https://fraenkische-kirchweih.de/kalendereintrag/eibacher-kaerwa/
LOCATION:Eibacher Kärwaboum und -madla\, Eibach\, Bayern\, 90451\, DEU
CATEGORIES:"Kärwa,Mittelfranken,Nürnberg
GEO:49.4016318;11.0329845
END:VEVENT
BEGIN:VEVENT
DTSTART;VALUE=DATE:20260626
DTEND;VALUE=DATE:20260628
DTSTAMP:20260421T214829
CREATED:20260131T142342Z
LAST-MODIFIED:20260411T174807Z
UID:10002671-1782432000-1782604799@fraenkische-kirchweih.de
SUMMARY:Götzenreuther Kärwa
DESCRIPTION:
URL:https://fraenkische-kirchweih.de/kalendereintrag/goetzenreuther-kaerwa/
LOCATION:Kärwaboum und -madli in Götzenreuth\, Götzenreuth\, Bayern\, 91186\, DEU
CATEGORIES:"Kärwa,Mittelfranken,Roth
GEO:49.2729039;10.9899067
END:VEVENT
END:VCALENDAR