BEGIN:VCALENDAR
VERSION:2.0
PRODID:-//Fränkische Kirchweih - ECPv6.15.17.1//NONSGML v1.0//EN
CALSCALE:GREGORIAN
METHOD:PUBLISH
X-ORIGINAL-URL:https://fraenkische-kirchweih.de
X-WR-CALDESC:Veranstaltungen für Fränkische Kirchweih
REFRESH-INTERVAL;VALUE=DURATION:PT1H
X-Robots-Tag:noindex
X-PUBLISHED-TTL:PT1H
BEGIN:VTIMEZONE
TZID:Europe/Berlin
BEGIN:DAYLIGHT
TZOFFSETFROM:+0100
TZOFFSETTO:+0200
TZNAME:CEST
DTSTART:20250330T010000
END:DAYLIGHT
BEGIN:STANDARD
TZOFFSETFROM:+0200
TZOFFSETTO:+0100
TZNAME:CET
DTSTART:20251026T010000
END:STANDARD
BEGIN:DAYLIGHT
TZOFFSETFROM:+0100
TZOFFSETTO:+0200
TZNAME:CEST
DTSTART:20260329T010000
END:DAYLIGHT
BEGIN:STANDARD
TZOFFSETFROM:+0200
TZOFFSETTO:+0100
TZNAME:CET
DTSTART:20261025T010000
END:STANDARD
BEGIN:DAYLIGHT
TZOFFSETFROM:+0100
TZOFFSETTO:+0200
TZNAME:CEST
DTSTART:20270328T010000
END:DAYLIGHT
BEGIN:STANDARD
TZOFFSETFROM:+0200
TZOFFSETTO:+0100
TZNAME:CET
DTSTART:20271031T010000
END:STANDARD
END:VTIMEZONE
BEGIN:VEVENT
DTSTART;VALUE=DATE:20260520
DTEND;VALUE=DATE:20260524
DTSTAMP:20260422T003804
CREATED:20260131T154525Z
LAST-MODIFIED:20260131T154525Z
UID:10002998-1779235200-1779580799@fraenkische-kirchweih.de
SUMMARY:Kerwa Gefell
DESCRIPTION:
URL:https://fraenkische-kirchweih.de/kalendereintrag/kerwa-gefell-5/
LOCATION:Feuerwehrverein Gefell e.V.\, Gefell\, Thüringen\, 96524\, DEU
CATEGORIES:"Gefell,Sonneberg,Werra-Main-Franken
GEO:50.3155393;11.207615
END:VEVENT
BEGIN:VEVENT
DTSTART;VALUE=DATE:20260520
DTEND;VALUE=DATE:20260524
DTSTAMP:20260422T003804
CREATED:20260131T154701Z
LAST-MODIFIED:20260131T154701Z
UID:10003013-1779235200-1779580799@fraenkische-kirchweih.de
SUMMARY:Rauensteiner Plankerwa
DESCRIPTION:
URL:https://fraenkische-kirchweih.de/kalendereintrag/rauensteiner-plankerwa-4/
LOCATION:Kirmesgesellschaft Rauenstein\, Rauenstein\, Thüringen\, 96528\, DEU
CATEGORIES:"Kerwa,Sonneberg,Werra-Main-Franken
GEO:50.4147049;11.046686
END:VEVENT
BEGIN:VEVENT
DTSTART;VALUE=DATE:20260520
DTEND;VALUE=DATE:20260525
DTSTAMP:20260422T003804
CREATED:20260320T225436Z
LAST-MODIFIED:20260411T174606Z
UID:10003131-1779235200-1779667199@fraenkische-kirchweih.de
SUMMARY:Pfingstkirchweih Wilhermsdorf
DESCRIPTION:
URL:https://fraenkische-kirchweih.de/kalendereintrag/pfingstkirchweih-wilhermsdorf/
LOCATION:Ortsburschen Wilhermsdorf e.V.\, Wilhermsdorf\, Bayern\, 91452\, DEU
CATEGORIES:"Kirchweih,Fürth,Mittelfranken
GEO:49.4819836;10.7175498
END:VEVENT
BEGIN:VEVENT
DTSTART;VALUE=DATE:20260522
DTEND;VALUE=DATE:20260524
DTSTAMP:20260422T003804
CREATED:20260131T141134Z
LAST-MODIFIED:20260411T174620Z
UID:10002555-1779408000-1779580799@fraenkische-kirchweih.de
SUMMARY:Wirtshauskirwa Hagenhausen
DESCRIPTION:
URL:https://fraenkische-kirchweih.de/kalendereintrag/wirtshauskirwa-hagenhausen-5/
LOCATION:Ortsvereine Hagenhausen\, Hagenhausen\, Bayern\, 90518\, DEU
CATEGORIES:"Kirwa,Mittelfranken,Nürnberger Land
GEO:49.3814725;11.4026608
END:VEVENT
BEGIN:VEVENT
DTSTART;VALUE=DATE:20260522
DTEND;VALUE=DATE:20260526
DTSTAMP:20260422T003804
CREATED:20260131T141047Z
LAST-MODIFIED:20260411T174620Z
UID:10002538-1779408000-1779753599@fraenkische-kirchweih.de
SUMMARY:Leinburger Kirwa
DESCRIPTION:
URL:https://fraenkische-kirchweih.de/kalendereintrag/leinburger-kirwa-5/
LOCATION:Kirwaverein Leinburg e.V.\, Leinburg\, Bayern\, 91227\, DEU
CATEGORIES:"Kirwa,Mittelfranken,Nürnberger Land
GEO:49.4512851;11.3066283
END:VEVENT
BEGIN:VEVENT
DTSTART;VALUE=DATE:20260522
DTEND;VALUE=DATE:20260527
DTSTAMP:20260422T003804
CREATED:20260131T141047Z
LAST-MODIFIED:20260411T174620Z
UID:10002537-1779408000-1779839999@fraenkische-kirchweih.de
SUMMARY:Laufamholzer Kärwa
DESCRIPTION:
URL:https://fraenkische-kirchweih.de/kalendereintrag/laufamholzer-kaerwa-5/
LOCATION:Laufamholzer Kärwaburschen und Madla\, Laufamholz\, Bayern\, 90482\, DEU
CATEGORIES:"Kärwa,Mittelfranken,Nürnberg
GEO:49.467722;11.1474024
END:VEVENT
BEGIN:VEVENT
DTSTART;VALUE=DATE:20260523
DTEND;VALUE=DATE:20260525
DTSTAMP:20260422T003804
CREATED:20260131T151758Z
LAST-MODIFIED:20260131T151758Z
UID:10002871-1779494400-1779667199@fraenkische-kirchweih.de
SUMMARY:Kirwa Rengersricht
DESCRIPTION:
URL:https://fraenkische-kirchweih.de/kalendereintrag/kirwa-rengersricht-4/
LOCATION:Kirwaboum Verein Rengersricht e.V.\, Rengersricht\, Bayern\, 90602\, DEU
CATEGORIES:"Kirwa,Neumarkt in der Oberpfalz,Oberpfalz
GEO:49.274457;11.3031317
END:VEVENT
BEGIN:VEVENT
DTSTART;VALUE=DATE:20260523
DTEND;VALUE=DATE:20260526
DTSTAMP:20260422T003804
CREATED:20260131T144556Z
LAST-MODIFIED:20260131T144556Z
UID:10002705-1779494400-1779753599@fraenkische-kirchweih.de
SUMMARY:Halbersdorfewr Kerwa
DESCRIPTION:
URL:https://fraenkische-kirchweih.de/kalendereintrag/halbersdorfewr-kerwa-5/
LOCATION:Gfriähäusla e.V. Halbersdorf\, Halbersdorf\, Bayern\, 96185\, DEU
CATEGORIES:"Kerwa,Bamberg,Oberfranken
GEO:49.8700338;10.6385136
END:VEVENT
BEGIN:VEVENT
DTSTART;VALUE=DATE:20260523
DTEND;VALUE=DATE:20260526
DTSTAMP:20260422T003804
CREATED:20260131T151401Z
LAST-MODIFIED:20260131T151401Z
UID:10002822-1779494400-1779753599@fraenkische-kirchweih.de
SUMMARY:Schönlinder Kirwa
DESCRIPTION:
URL:https://fraenkische-kirchweih.de/kalendereintrag/schoenlinder-kirwa-5/
LOCATION:Kirwaleid Schönlind\, Schönlind\, Bayern\, 92249\, DEU
CATEGORIES:"Kirwa,Amberg-Sulzbach,Oberpfalz
GEO:49.5727463;11.7755242
END:VEVENT
BEGIN:VEVENT
DTSTART;VALUE=DATE:20260524
DTEND;VALUE=DATE:20260527
DTSTAMP:20260422T003804
CREATED:20260131T141230Z
LAST-MODIFIED:20260411T174621Z
UID:10002563-1779580800-1779839999@fraenkische-kirchweih.de
SUMMARY:Kirwa Osti
DESCRIPTION:
URL:https://fraenkische-kirchweih.de/kalendereintrag/kirwa-osti-5/
LOCATION:Kirwaboum Osternohe\, Osternohe\, Bayern\, 91220\, DEU
CATEGORIES:"Kirwa,Mittelfranken,Nürnberger Land
GEO:49.5885955;11.3697118
END:VEVENT
BEGIN:VEVENT
DTSTART;VALUE=DATE:20260525
DTEND;VALUE=DATE:20260602
DTSTAMP:20260422T003804
CREATED:20260411T174622Z
LAST-MODIFIED:20260411T174622Z
UID:10003209-1779667200-1780358399@fraenkische-kirchweih.de
SUMMARY:Ipsheimer Maien-Kirchweih
DESCRIPTION:
URL:https://fraenkische-kirchweih.de/kalendereintrag/ipsheimer-maien-kirchweih/
LOCATION:Ortsburschen Ipsheim\, Ipsheim\, Bayern\, 91472\, DEU
CATEGORIES:"Kerwa,Mittelfranken,Neustadt an der Aisch-Bad Windsheim
GEO:49.5264553;10.4827583
END:VEVENT
BEGIN:VEVENT
DTSTART;VALUE=DATE:20260527
DTEND;VALUE=DATE:20260530
DTSTAMP:20260422T003804
CREATED:20260411T174625Z
LAST-MODIFIED:20260411T174625Z
UID:10003210-1779840000-1780099199@fraenkische-kirchweih.de
SUMMARY:Lindemer Kerwa
DESCRIPTION:
URL:https://fraenkische-kirchweih.de/kalendereintrag/lindemer-kerwa/
LOCATION:Ortsburschen und -madli Linden e.V.\, Linden\, Bayern\, 91459\, DEU
CATEGORIES:"Kerwa,Mittelfranken,Neustadt an der Aisch-Bad Windsheim
GEO:49.4997614;10.585547
END:VEVENT
BEGIN:VEVENT
DTSTART;VALUE=DATE:20260527
DTEND;VALUE=DATE:20260531
DTSTAMP:20260422T003804
CREATED:20260131T141059Z
LAST-MODIFIED:20260411T174624Z
UID:10002539-1779840000-1780185599@fraenkische-kirchweih.de
SUMMARY:Wachendorfer Kärwa
DESCRIPTION:
URL:https://fraenkische-kirchweih.de/kalendereintrag/wachendorfer-kaerwa-5/
LOCATION:Kirchweihverein Wachendorf e.V.\, Wachendorf\, Bayern\, 90556\, DEU
CATEGORIES:"Kärwa,Fürth,Mittelfranken
GEO:49.4604518;10.888545
END:VEVENT
BEGIN:VEVENT
DTSTART;VALUE=DATE:20260529
DTEND;VALUE=DATE:20260602
DTSTAMP:20260422T003804
CREATED:20260131T151759Z
LAST-MODIFIED:20260131T151759Z
UID:10002872-1780012800-1780358399@fraenkische-kirchweih.de
SUMMARY:Kirwa Röckersbühl
DESCRIPTION:
URL:https://fraenkische-kirchweih.de/kalendereintrag/kirwa-roeckersbuehl-5/
LOCATION:Ortsvereine Röckersbühl\, Röckersbühl\, Bayern\, 92631\, DEU
CATEGORIES:"Kirwa,Neumarkt in der Oberpfalz,Oberpfalz
GEO:49.2381755;11.3714648
END:VEVENT
BEGIN:VEVENT
DTSTART;VALUE=DATE:20260601
DTEND;VALUE=DATE:20260606
DTSTAMP:20260422T003804
CREATED:20260131T141100Z
LAST-MODIFIED:20260411T174625Z
UID:10002540-1780272000-1780703999@fraenkische-kirchweih.de
SUMMARY:Hartmannshofer Kirwa
DESCRIPTION:
URL:https://fraenkische-kirchweih.de/kalendereintrag/hartmannshofer-kirwa-5/
LOCATION:Ortsvereine Hartmannshof\, Hartmannshof\, Bayern\, 91224\, DEU
CATEGORIES:"Kirwa,Mittelfranken,Nürnberger Land
GEO:49.5001871;11.5539573
END:VEVENT
BEGIN:VEVENT
DTSTART;VALUE=DATE:20260604
DTEND;VALUE=DATE:20260609
DTSTAMP:20260422T003804
CREATED:20260131T142334Z
LAST-MODIFIED:20260411T174626Z
UID:10002658-1780531200-1780963199@fraenkische-kirchweih.de
SUMMARY:Rothauracher Kerwa
DESCRIPTION:
URL:https://fraenkische-kirchweih.de/kalendereintrag/rothauracher-kerwa/
LOCATION:Kerwaboum und -madli Rothaurach\, Rothaurach\, Bayern\, 91154\, DEU
CATEGORIES:"Kerwa,Mittelfranken,Roth
GEO:49.2382246;11.0571289
END:VEVENT
BEGIN:VEVENT
DTSTART;VALUE=DATE:20260605
DTEND;VALUE=DATE:20260609
DTSTAMP:20260422T003804
CREATED:20260131T151431Z
LAST-MODIFIED:20260131T151431Z
UID:10002844-1780617600-1780963199@fraenkische-kirchweih.de
SUMMARY:Kirwa Büchelberg
DESCRIPTION:
URL:https://fraenkische-kirchweih.de/kalendereintrag/kirwa-buechelberg-5/
LOCATION:Ortsvereine Büchelberg\, Büchelberg\, Bayern\, 92259\, DEU
CATEGORIES:"Kirwa,Amberg-Sulzbach,Oberpfalz
GEO:49.4930381;11.6277173
END:VEVENT
BEGIN:VEVENT
DTSTART;VALUE=DATE:20260605
DTEND;VALUE=DATE:20260609
DTSTAMP:20260422T003804
CREATED:20260131T151736Z
LAST-MODIFIED:20260131T151736Z
UID:10002855-1780617600-1780963199@fraenkische-kirchweih.de
SUMMARY:Kreiz Kirwa Kastl
DESCRIPTION:
URL:https://fraenkische-kirchweih.de/kalendereintrag/kreiz-kirwa-kastl-5/
LOCATION:Kirwaverein Kastl e.V.\, Kastl\, Bayern\, 92280\, DEU
CATEGORIES:"Kirwa,Amberg-Sulzbach,Oberpfalz
GEO:49.3666054;11.6854848
END:VEVENT
BEGIN:VEVENT
DTSTART;VALUE=DATE:20260605
DTEND;VALUE=DATE:20260609
DTSTAMP:20260422T003804
CREATED:20260409T155931Z
LAST-MODIFIED:20260411T174638Z
UID:10003172-1780617600-1780963199@fraenkische-kirchweih.de
SUMMARY:Kärwa Eckenhaid
DESCRIPTION:
URL:https://fraenkische-kirchweih.de/kalendereintrag/kaerwa-eckenhaid/
LOCATION:Kärwaboum Eckenhaid 1980 e.V.\, Eckenhaid\, Bayern\, 90542\, DEU
CATEGORIES:"Kärwa,Erlangen-Höchstadt,Mittelfranken
GEO:49.5728699;11.2184544
END:VEVENT
BEGIN:VEVENT
DTSTART;VALUE=DATE:20260605
DTEND;VALUE=DATE:20260615
DTSTAMP:20260422T003804
CREATED:20260131T141353Z
LAST-MODIFIED:20260411T174626Z
UID:10002590-1780617600-1781481599@fraenkische-kirchweih.de
SUMMARY:Kerwa Neustadt an der Aisch
DESCRIPTION:
URL:https://fraenkische-kirchweih.de/kalendereintrag/kerwa-neustadt-an-der-aisch/
LOCATION:Ortsvereine Neustadt an der Aisch\, Neustadt an der Aisch\, Bayern\, 91413\, DEU
CATEGORIES:"Kerwa,Mittelfranken,Neustadt an der Aisch-Bad Windsheim
GEO:49.5852494;10.5867169
END:VEVENT
BEGIN:VEVENT
DTSTART;VALUE=DATE:20260611
DTEND;VALUE=DATE:20260615
DTSTAMP:20260422T003804
CREATED:20260131T153758Z
LAST-MODIFIED:20260131T153758Z
UID:10002889-1781136000-1781481599@fraenkische-kirchweih.de
SUMMARY:Pfersdorfer Kirmes
DESCRIPTION:
URL:https://fraenkische-kirchweih.de/kalendereintrag/pfersdorfer-kirmes-5/
LOCATION:Kirmesgesellschaft Pfersdorf\, Pfersdorf\, Thüringen\, 98646\, DEU
CATEGORIES:"Kirmes,Hildburghausen,Werra-Main-Franken
GEO:50.4188952;10.6692322
END:VEVENT
BEGIN:VEVENT
DTSTART;VALUE=DATE:20260611
DTEND;VALUE=DATE:20260616
DTSTAMP:20260422T003804
CREATED:20260131T140256Z
LAST-MODIFIED:20260411T174639Z
UID:10002417-1781136000-1781567999@fraenkische-kirchweih.de
SUMMARY:Hedersdorfer Kirwa
DESCRIPTION:
URL:https://fraenkische-kirchweih.de/kalendereintrag/hedersdorfer-kirwa-5/
LOCATION:Kirwa Hedersdorf e.V.\, Hedersdorf\, Bayern\, 91220\, DEU
CATEGORIES:"Kirwa,Mittelfranken,Nürnberger Land
GEO:49.5692016;11.3408563
END:VEVENT
BEGIN:VEVENT
DTSTART;VALUE=DATE:20260611
DTEND;VALUE=DATE:20260616
DTSTAMP:20260422T003804
CREATED:20260304T172911Z
LAST-MODIFIED:20260411T174639Z
UID:10003128-1781136000-1781567999@fraenkische-kirchweih.de
SUMMARY:Mögeldorfer Kärwa
DESCRIPTION:
URL:https://fraenkische-kirchweih.de/kalendereintrag/moegeldorfer-kaerwa/
LOCATION:Mögeldorfer Kärwabuam und Madla\, Mögeldorf\, Bayern\, 90480\, DEU
CATEGORIES:"Kärwa,Mittelfranken,Nürnberg
GEO:49.462323;11.1367537
END:VEVENT
BEGIN:VEVENT
DTSTART;VALUE=DATE:20260612
DTEND;VALUE=DATE:20260615
DTSTAMP:20260422T003804
CREATED:20260131T142421Z
LAST-MODIFIED:20260411T174646Z
UID:10002697-1781222400-1781481599@fraenkische-kirchweih.de
SUMMARY:Penzendorfer Kärwa
DESCRIPTION:
URL:https://fraenkische-kirchweih.de/kalendereintrag/penzendorfer-kaerwa/
LOCATION:Kärwaboum- und Madli Penzendorf\, Penzendorf\, Bayern\, 91126\, DEU
CATEGORIES:"Kärwa,Mittelfranken,Schwabach
GEO:49.3261434;11.0631995
END:VEVENT
BEGIN:VEVENT
DTSTART;VALUE=DATE:20260612
DTEND;VALUE=DATE:20260615
DTSTAMP:20260422T003804
CREATED:20260131T151359Z
LAST-MODIFIED:20260131T151359Z
UID:10002820-1781222400-1781481599@fraenkische-kirchweih.de
SUMMARY:Kirwa Breitenstein
DESCRIPTION:
URL:https://fraenkische-kirchweih.de/kalendereintrag/kirwa-breitenstein-5/
LOCATION:Trachtenverein Königstein D’Ossinger\, Breitenstein\, Bayern\, 92281\, DEU
CATEGORIES:"Kirwa,Amberg-Sulzbach,Oberpfalz
GEO:49.5988348;11.6479822
END:VEVENT
BEGIN:VEVENT
DTSTART;VALUE=DATE:20260612
DTEND;VALUE=DATE:20260615
DTSTAMP:20260422T003804
CREATED:20260131T151400Z
LAST-MODIFIED:20260131T151400Z
UID:10002821-1781222400-1781481599@fraenkische-kirchweih.de
SUMMARY:Ursensollner Vituskirwa
DESCRIPTION:
URL:https://fraenkische-kirchweih.de/kalendereintrag/ursensollner-vituskirwa-5/
LOCATION:Kirwagemeinschaft Ursensollen e.V.\, Ursensollen\, Bayern\, 92289\, DEU
CATEGORIES:"Kirwa,Amberg-Sulzbach,Oberpfalz
GEO:49.4008175;11.7567381
END:VEVENT
BEGIN:VEVENT
DTSTART;VALUE=DATE:20260612
DTEND;VALUE=DATE:20260616
DTSTAMP:20260422T003804
CREATED:20260131T141231Z
LAST-MODIFIED:20260411T174640Z
UID:10002564-1781222400-1781567999@fraenkische-kirchweih.de
SUMMARY:Ottensooser Kirchweih
DESCRIPTION:
URL:https://fraenkische-kirchweih.de/kalendereintrag/ottensooser-kirchweih-5/
LOCATION:Ortsvereine Ottensoos\, Ottensoos\, Bayern\, 91242\, DEU
CATEGORIES:"Kirchweih,Mittelfranken,Nürnberger Land
GEO:49.5085528;11.340139
END:VEVENT
BEGIN:VEVENT
DTSTART;VALUE=DATE:20260612
DTEND;VALUE=DATE:20260616
DTSTAMP:20260422T003804
CREATED:20260131T141349Z
LAST-MODIFIED:20260411T174645Z
UID:10002587-1781222400-1781567999@fraenkische-kirchweih.de
SUMMARY:Kichweih Kaltenbuch
DESCRIPTION:
URL:https://fraenkische-kirchweih.de/kalendereintrag/kichweih-kaltenbuch/
LOCATION:Kaltenbucher Dorfjugend\, Kaltenbuch\, Bayern\, 91790\, DEU
CATEGORIES:"Kirchweih,Mittelfranken,Weißenburg-Gunzenhausen
GEO:49.0637276;11.0650909
END:VEVENT
BEGIN:VEVENT
DTSTART;VALUE=DATE:20260612
DTEND;VALUE=DATE:20260616
DTSTAMP:20260422T003804
CREATED:20260131T142420Z
LAST-MODIFIED:20260411T174646Z
UID:10002695-1781222400-1781567999@fraenkische-kirchweih.de
SUMMARY:Kärwa Groußschwärzerla
DESCRIPTION:
URL:https://fraenkische-kirchweih.de/kalendereintrag/kaerwa-groussschwaerzerla/
LOCATION:Kärwaboum Groußschwärzerla e.V.\, Großschwarzenlohe\, Bayern\, 90530\, DEU
CATEGORIES:"Kärwa,Mittelfranken,Roth
GEO:49.3409694;11.1155806
END:VEVENT
BEGIN:VEVENT
DTSTART;VALUE=DATE:20260612
DTEND;VALUE=DATE:20260616
DTSTAMP:20260422T003804
CREATED:20260131T144600Z
LAST-MODIFIED:20260131T144600Z
UID:10002708-1781222400-1781567999@fraenkische-kirchweih.de
SUMMARY:Lindenkerwa Peesten
DESCRIPTION:
URL:https://fraenkische-kirchweih.de/kalendereintrag/lindenkerwa-peesten-5/
LOCATION:Freiwillige Feuerwehr Peesten\, Peesten\, Bayern\, 95359\, DEU
CATEGORIES:"Kerwa,Kulmbach,Oberfranken
GEO:50.0623621;11.3672475
END:VEVENT
END:VCALENDAR