BEGIN:VCALENDAR
VERSION:2.0
PRODID:-//Fränkische Kirchweih - ECPv6.15.17.1//NONSGML v1.0//EN
CALSCALE:GREGORIAN
METHOD:PUBLISH
X-ORIGINAL-URL:https://fraenkische-kirchweih.de
X-WR-CALDESC:Veranstaltungen für Fränkische Kirchweih
REFRESH-INTERVAL;VALUE=DURATION:PT1H
X-Robots-Tag:noindex
X-PUBLISHED-TTL:PT1H
BEGIN:VTIMEZONE
TZID:Europe/Berlin
BEGIN:DAYLIGHT
TZOFFSETFROM:+0100
TZOFFSETTO:+0200
TZNAME:CEST
DTSTART:20250330T010000
END:DAYLIGHT
BEGIN:STANDARD
TZOFFSETFROM:+0200
TZOFFSETTO:+0100
TZNAME:CET
DTSTART:20251026T010000
END:STANDARD
BEGIN:DAYLIGHT
TZOFFSETFROM:+0100
TZOFFSETTO:+0200
TZNAME:CEST
DTSTART:20260329T010000
END:DAYLIGHT
BEGIN:STANDARD
TZOFFSETFROM:+0200
TZOFFSETTO:+0100
TZNAME:CET
DTSTART:20261025T010000
END:STANDARD
BEGIN:DAYLIGHT
TZOFFSETFROM:+0100
TZOFFSETTO:+0200
TZNAME:CEST
DTSTART:20270328T010000
END:DAYLIGHT
BEGIN:STANDARD
TZOFFSETFROM:+0200
TZOFFSETTO:+0100
TZNAME:CET
DTSTART:20271031T010000
END:STANDARD
END:VTIMEZONE
BEGIN:VEVENT
DTSTART;VALUE=DATE:20261008
DTEND;VALUE=DATE:20261012
DTSTAMP:20260422T032042
CREATED:20260131T153804Z
LAST-MODIFIED:20260131T153804Z
UID:10002896-1791417600-1791763199@fraenkische-kirchweih.de
SUMMARY:Kirmes in Bedheim
DESCRIPTION:
URL:https://fraenkische-kirchweih.de/kalendereintrag/kirmes-in-bedheim-5/
LOCATION:Kirmesgesellschaft Bedheim\, Bedheim\, Thüringen\, 98630\, DEU
CATEGORIES:"Kirmes,Hildburghausen,Werra-Main-Franken
GEO:50.3901943;10.6547658
END:VEVENT
BEGIN:VEVENT
DTSTART;VALUE=DATE:20261008
DTEND;VALUE=DATE:20261012
DTSTAMP:20260422T032042
CREATED:20260131T153810Z
LAST-MODIFIED:20260131T153810Z
UID:10002901-1791417600-1791763199@fraenkische-kirchweih.de
SUMMARY:Kermes in Mendhausen
DESCRIPTION:
URL:https://fraenkische-kirchweih.de/kalendereintrag/kermes-in-mendhausen-5/
LOCATION:Kermesgesellschaft Mendhausen\, Mendhausen\, Thüringen\, 98630\, DEU
CATEGORIES:"Kermes,Hildburghausen,Werra-Main-Franken
GEO:50.383383;10.4714326
END:VEVENT
BEGIN:VEVENT
DTSTART;VALUE=DATE:20261008
DTEND;VALUE=DATE:20261012
DTSTAMP:20260422T032042
CREATED:20260131T153814Z
LAST-MODIFIED:20260131T153814Z
UID:10002906-1791417600-1791763199@fraenkische-kirchweih.de
SUMMARY:Kirmes Sachsenbrunn
DESCRIPTION:
URL:https://fraenkische-kirchweih.de/kalendereintrag/kirmes-sachsenbrunn-5/
LOCATION:Kirmesgesellschaft Sachsenbrunn\, Sachsenbrunn\, Thüringen\, 98678\, DEU
CATEGORIES:"Kirmes,Hildburghausen,Werra-Main-Franken
GEO:50.447138;10.9491364
END:VEVENT
BEGIN:VEVENT
DTSTART;VALUE=DATE:20261008
DTEND;VALUE=DATE:20261012
DTSTAMP:20260422T032042
CREATED:20260131T154244Z
LAST-MODIFIED:20260131T154244Z
UID:10002972-1791417600-1791763199@fraenkische-kirchweih.de
SUMMARY:Kirmes Ritschenhausen
DESCRIPTION:
URL:https://fraenkische-kirchweih.de/kalendereintrag/kirmes-ritschenhausen-5/
LOCATION:Kirmesgesellschaft Ritschenhausen\, Ritschenhausen\, Thüringen\, 98617\, DEU
CATEGORIES:"Kirmes,Schmalkalden-Meiningen,Werra-Main-Franken
GEO:50.51012;10.4324086
END:VEVENT
BEGIN:VEVENT
DTSTART;VALUE=DATE:20261008
DTEND;VALUE=DATE:20261012
DTSTAMP:20260422T032042
CREATED:20260131T154253Z
LAST-MODIFIED:20260131T154253Z
UID:10002974-1791417600-1791763199@fraenkische-kirchweih.de
SUMMARY:Kirmes in Rosa
DESCRIPTION:
URL:https://fraenkische-kirchweih.de/kalendereintrag/kirmes-in-rosa-5/
LOCATION:Ortsvereine Rosa\, Rosa\, Thüringen\, 98590\, DEU
CATEGORIES:"Kirmes,Schmalkalden-Meiningen,Werra-Main-Franken
GEO:50.7123851;10.2498736
END:VEVENT
BEGIN:VEVENT
DTSTART;VALUE=DATE:20261008
DTEND;VALUE=DATE:20261012
DTSTAMP:20260422T032042
CREATED:20260411T180221Z
LAST-MODIFIED:20260411T180221Z
UID:10003258-1791417600-1791763199@fraenkische-kirchweih.de
SUMMARY:Oberhescherter Kerwa
DESCRIPTION:
URL:https://fraenkische-kirchweih.de/kalendereintrag/oberhescherter-kerwa/
LOCATION:Kerwafreunde Oberhöchstädt e.V.\, Oberhöchstädt\, Bayern\, 91462\, DEU
CATEGORIES:"Kerwa,Mittelfranken,Neustadt an der Aisch-Bad Windsheim
GEO:49.6477881;10.6976355
END:VEVENT
BEGIN:VEVENT
DTSTART;VALUE=DATE:20261008
DTEND;VALUE=DATE:20261012
DTSTAMP:20260422T032042
CREATED:20260411T180231Z
LAST-MODIFIED:20260411T180231Z
UID:10003262-1791417600-1791763199@fraenkische-kirchweih.de
SUMMARY:Unterlaimbacher Kerwa
DESCRIPTION:
URL:https://fraenkische-kirchweih.de/kalendereintrag/unterlaimbacher-kerwa/
LOCATION:Ortsjugend Unterlaimbach\, Unterlaimbach\, Bayern\, 91443\, DEU
CATEGORIES:"Kerwa,Mittelfranken,Neustadt an der Aisch-Bad Windsheim
GEO:49.6387771;10.4878902
END:VEVENT
BEGIN:VEVENT
DTSTART;VALUE=DATE:20261008
DTEND;VALUE=DATE:20261013
DTSTAMP:20260422T032042
CREATED:20260131T140950Z
LAST-MODIFIED:20260411T180212Z
UID:10002529-1791417600-1791849599@fraenkische-kirchweih.de
SUMMARY:Kerwa Brunn
DESCRIPTION:
URL:https://fraenkische-kirchweih.de/kalendereintrag/kerwa-brunn-5/
LOCATION:Ortsburschen und Madli Brunn\, Brunn\, Bayern\, 91448\, DEU
CATEGORIES:"Kerwa,Mittelfranken,Neustadt an der Aisch-Bad Windsheim
GEO:49.5735405;10.7094088
END:VEVENT
BEGIN:VEVENT
DTSTART;VALUE=DATE:20261008
DTEND;VALUE=DATE:20261013
DTSTAMP:20260422T032042
CREATED:20260131T141133Z
LAST-MODIFIED:20260411T180213Z
UID:10002553-1791417600-1791849599@fraenkische-kirchweih.de
SUMMARY:Firabächer Kirwa
DESCRIPTION:
URL:https://fraenkische-kirchweih.de/kalendereintrag/firabaecher-kirwa-5/
LOCATION:Kirwaverein Firabo\, Förrenbach\, Bayern\, 91230\, DEU
CATEGORIES:"Kirwa,Mittelfranken,Nürnberger Land
GEO:49.4771093;11.5016203
END:VEVENT
BEGIN:VEVENT
DTSTART;VALUE=DATE:20261008
DTEND;VALUE=DATE:20261013
DTSTAMP:20260422T032042
CREATED:20260131T141709Z
LAST-MODIFIED:20260411T180214Z
UID:10002623-1791417600-1791849599@fraenkische-kirchweih.de
SUMMARY:Kerwa Virnsberg
DESCRIPTION:
URL:https://fraenkische-kirchweih.de/kalendereintrag/kerwa-virnsberg/
LOCATION:Ortsvereiene Virnsberg\, Virnsberg\, Bayern\, 91604\, DEU
CATEGORIES:"Kerwa,Ansbach,Mittelfranken
GEO:49.4230532;10.5112484
END:VEVENT
BEGIN:VEVENT
DTSTART;VALUE=DATE:20261008
DTEND;VALUE=DATE:20261013
DTSTAMP:20260422T032042
CREATED:20260131T141709Z
LAST-MODIFIED:20260411T180220Z
UID:10002624-1791417600-1791849599@fraenkische-kirchweih.de
SUMMARY:Kerwa Geslau
DESCRIPTION:
URL:https://fraenkische-kirchweih.de/kalendereintrag/kerwa-geslau/
LOCATION:Kerwabuam und -madli Geslau e.V.\, Geslau\, Bayern\, 91608\, DEU
CATEGORIES:"Kerwa,Ansbach,Mittelfranken
GEO:49.3631574;10.3157927
END:VEVENT
BEGIN:VEVENT
DTSTART;VALUE=DATE:20261008
DTEND;VALUE=DATE:20261013
DTSTAMP:20260422T032042
CREATED:20260131T142338Z
LAST-MODIFIED:20260411T180220Z
UID:10002664-1791417600-1791849599@fraenkische-kirchweih.de
SUMMARY:Baabacher Kerwa
DESCRIPTION:
URL:https://fraenkische-kirchweih.de/kalendereintrag/baabacher-kerwa/
LOCATION:Ortsburschen und -Madli Beerbach\, Beerbach\, Bayern\, 91463\, DEU
CATEGORIES:"Kerwa,Mittelfranken,Roth
GEO:49.21406;10.9117892
END:VEVENT
BEGIN:VEVENT
DTSTART;VALUE=DATE:20261008
DTEND;VALUE=DATE:20261013
DTSTAMP:20260422T032042
CREATED:20260131T154645Z
LAST-MODIFIED:20260131T154645Z
UID:10003004-1791417600-1791849599@fraenkische-kirchweih.de
SUMMARY:Mupperger Kerwa
DESCRIPTION:
URL:https://fraenkische-kirchweih.de/kalendereintrag/mupperger-kerwa-5/
LOCATION:Feuerwehrverein Mupperg e.V.\, Mupperg\, Thüringen\, 96524\, DEU
CATEGORIES:"Kerwa,Sonneberg,Werra-Main-Franken
GEO:50.2946505;11.1538912
END:VEVENT
BEGIN:VEVENT
DTSTART;VALUE=DATE:20261008
DTEND;VALUE=DATE:20261013
DTSTAMP:20260422T032042
CREATED:20260131T155225Z
LAST-MODIFIED:20260131T155225Z
UID:10003061-1791417600-1791849599@fraenkische-kirchweih.de
SUMMARY:Dermbacher Schloßkirmes
DESCRIPTION:
URL:https://fraenkische-kirchweih.de/kalendereintrag/dermbacher-schlosskirmes-5/
LOCATION:Kirmesgesellschaft Dermich e.V.\, Dermbach\, Thüringen\, 36466\, DEU
CATEGORIES:"Kirmes,Wartburgkreis,Werra-Main-Franken
GEO:50.7144684;10.1190749
END:VEVENT
BEGIN:VEVENT
DTSTART;VALUE=DATE:20261008
DTEND;VALUE=DATE:20261013
DTSTAMP:20260422T032042
CREATED:20260131T155245Z
LAST-MODIFIED:20260131T155245Z
UID:10003073-1791417600-1791849599@fraenkische-kirchweih.de
SUMMARY:Kirmes in Kieselbach
DESCRIPTION:
URL:https://fraenkische-kirchweih.de/kalendereintrag/kirmes-in-kieselbach-5/
LOCATION:Kirmesgesellschaft Kieselbach\, Kieselbach\, Thüringen\, 36460\, DEU
CATEGORIES:"Kirmes,Wartburgkreis,Werra-Main-Franken
GEO:50.8410251;10.1198379
END:VEVENT
BEGIN:VEVENT
DTSTART;VALUE=DATE:20261008
DTEND;VALUE=DATE:20261013
DTSTAMP:20260422T032042
CREATED:20260409T160949Z
LAST-MODIFIED:20260411T180221Z
UID:10003199-1791417600-1791849599@fraenkische-kirchweih.de
SUMMARY:Kerwa Vestenbergsgreuth
DESCRIPTION:
URL:https://fraenkische-kirchweih.de/kalendereintrag/kerwa-vestenbergsgreuth/
LOCATION:Junggesellenverein Vestenbergsgreuth e.V.\, Vestenbergsgreuth\, Bayern\, 91487\, DEU
CATEGORIES:"Kerwa,Erlangen-Höchstadt,Mittelfranken
GEO:49.688781;10.6518583
END:VEVENT
BEGIN:VEVENT
DTSTART;VALUE=DATE:20261008
DTEND;VALUE=DATE:20261013
DTSTAMP:20260422T032042
CREATED:20260411T180221Z
LAST-MODIFIED:20260411T180221Z
UID:10003259-1791417600-1791849599@fraenkische-kirchweih.de
SUMMARY:Beerbacher Zeltkerwa
DESCRIPTION:
URL:https://fraenkische-kirchweih.de/kalendereintrag/beerbacher-zeltkerwa/
LOCATION:Ortsburschen und -Madli Beerbach\, Beerbach\, Bayern\, 91463\, DEU
CATEGORIES:"Kerwa,Mittelfranken,Neustadt an der Aisch-Bad Windsheim
GEO:49.21406;10.9117892
END:VEVENT
BEGIN:VEVENT
DTSTART;VALUE=DATE:20261008
DTEND;VALUE=DATE:20261013
DTSTAMP:20260422T032042
CREATED:20260411T180229Z
LAST-MODIFIED:20260411T180229Z
UID:10003260-1791417600-1791849599@fraenkische-kirchweih.de
SUMMARY:Ermetzhöfer Kerwa
DESCRIPTION:
URL:https://fraenkische-kirchweih.de/kalendereintrag/ermetzhoefer-kerwa/
LOCATION:Dorfjugend Ermetzhofen\, Ermetzhofen\, Bayern\, 91465\, DEU
CATEGORIES:"Kerwa,Mittelfranken,Neustadt an der Aisch-Bad Windsheim
GEO:49.5034471;10.2762747
END:VEVENT
BEGIN:VEVENT
DTSTART;VALUE=DATE:20261008
DTEND;VALUE=DATE:20261013
DTSTAMP:20260422T032042
CREATED:20260411T180230Z
LAST-MODIFIED:20260411T180230Z
UID:10003261-1791417600-1791849599@fraenkische-kirchweih.de
SUMMARY:Kerwa Gollachostheim
DESCRIPTION:
URL:https://fraenkische-kirchweih.de/kalendereintrag/kerwa-gollachostheim/
LOCATION:ELJ Gollachostheim\, Gollachostheim\, Bayern\, 97258\, DEU
CATEGORIES:"Kerwa,Mittelfranken,Neustadt an der Aisch-Bad Windsheim
GEO:49.5652911;10.1448211
END:VEVENT
BEGIN:VEVENT
DTSTART;VALUE=DATE:20261008
DTEND;VALUE=DATE:20261013
DTSTAMP:20260422T032042
CREATED:20260411T180232Z
LAST-MODIFIED:20260411T180232Z
UID:10003263-1791417600-1791849599@fraenkische-kirchweih.de
SUMMARY:Kerwa Welbhausen
DESCRIPTION:
URL:https://fraenkische-kirchweih.de/kalendereintrag/kerwa-welbhausen/
LOCATION:Kerwaburschen Welbhausen\, Welbhausen\, Bayern\, 97215\, DEU
CATEGORIES:"Kerwa,Mittelfranken,Neustadt an der Aisch-Bad Windsheim
GEO:49.5272425;10.2113214
END:VEVENT
BEGIN:VEVENT
DTSTART;VALUE=DATE:20261009
DTEND;VALUE=DATE:20261012
DTSTAMP:20260422T032042
CREATED:20260131T140937Z
LAST-MODIFIED:20260409T151957Z
UID:10002528-1791504000-1791763199@fraenkische-kirchweih.de
SUMMARY:Kerwa Kirchrimbach
DESCRIPTION:
URL:https://fraenkische-kirchweih.de/kalendereintrag/kerwa-kirchrimbach-5/
LOCATION:Ortsvereine Kirchrimbach\, Kirchrimbach\, Bayern\, 96152\, DEU
CATEGORIES:"Kerwa,Mittelfranken,Neustadt an der Aisch-Bad Windsheim
GEO:49.7254222;10.5454341
END:VEVENT
BEGIN:VEVENT
DTSTART;VALUE=DATE:20261009
DTEND;VALUE=DATE:20261012
DTSTAMP:20260422T032042
CREATED:20260131T141535Z
LAST-MODIFIED:20260411T180239Z
UID:10002617-1791504000-1791763199@fraenkische-kirchweih.de
SUMMARY:Kirchweih Diebach
DESCRIPTION:
URL:https://fraenkische-kirchweih.de/kalendereintrag/kirchweih-diebach/
LOCATION:Ortsvereine Diebach\, Diebach\, Bayern\, 91583\, DEU
CATEGORIES:"Kirchweih,Ansbach,Mittelfranken
GEO:49.3091434;10.1913331
END:VEVENT
BEGIN:VEVENT
DTSTART;VALUE=DATE:20261009
DTEND;VALUE=DATE:20261012
DTSTAMP:20260422T032042
CREATED:20260131T141710Z
LAST-MODIFIED:20260411T180239Z
UID:10002625-1791504000-1791763199@fraenkische-kirchweih.de
SUMMARY:Heilsbronner Kerwa
DESCRIPTION:
URL:https://fraenkische-kirchweih.de/kalendereintrag/heilsbronner-kerwa/
LOCATION:Klästerer Kerwabuum und -madli e.V.\, Heilsbronn\, Bayern\, 91560\, DEU
CATEGORIES:"Kerwa,Ansbach,Mittelfranken
GEO:49.3400573;10.7896074
END:VEVENT
BEGIN:VEVENT
DTSTART;VALUE=DATE:20261009
DTEND;VALUE=DATE:20261012
DTSTAMP:20260422T032042
CREATED:20260131T151737Z
LAST-MODIFIED:20260131T151737Z
UID:10002856-1791504000-1791763199@fraenkische-kirchweih.de
SUMMARY:Roum Kirwa Kastl
DESCRIPTION:
URL:https://fraenkische-kirchweih.de/kalendereintrag/roum-kirwa-kastl-5/
LOCATION:Kirwaverein Kastl e.V.\, Kastl\, Bayern\, 92280\, DEU
CATEGORIES:"Kirwa,Amberg-Sulzbach,Oberpfalz
GEO:49.3666054;11.6854848
END:VEVENT
BEGIN:VEVENT
DTSTART;VALUE=DATE:20261009
DTEND;VALUE=DATE:20261012
DTSTAMP:20260422T032042
CREATED:20260131T154037Z
LAST-MODIFIED:20260131T154037Z
UID:10002923-1791504000-1791763199@fraenkische-kirchweih.de
SUMMARY:Kirmes Themar
DESCRIPTION:
URL:https://fraenkische-kirchweih.de/kalendereintrag/kirmes-themar-5/
LOCATION:Kirmesverein Themar e.V.\, Themar\, Thüringen\, 98660\, DEU
CATEGORIES:"Kirmes,Hildburghausen,Werra-Main-Franken
GEO:50.5033639;10.6177162
END:VEVENT
BEGIN:VEVENT
DTSTART;VALUE=DATE:20261009
DTEND;VALUE=DATE:20261012
DTSTAMP:20260422T032042
CREATED:20260131T154221Z
LAST-MODIFIED:20260131T154221Z
UID:10002959-1791504000-1791763199@fraenkische-kirchweih.de
SUMMARY:Kirmes in Kaltensundheim
DESCRIPTION:
URL:https://fraenkische-kirchweih.de/kalendereintrag/kirmes-in-kaltensundheim-5/
LOCATION:Kirmesgesellschaft Kaltensundheim e.V.\, Kaltensundheim\, Thüringen\, 98634\, DEU
CATEGORIES:"Kirmes,Schmalkalden-Meiningen,Werra-Main-Franken
GEO:50.606188;10.1563661
END:VEVENT
BEGIN:VEVENT
DTSTART;VALUE=DATE:20261009
DTEND;VALUE=DATE:20261012
DTSTAMP:20260422T032042
CREATED:20260131T154325Z
LAST-MODIFIED:20260131T154325Z
UID:10002993-1791504000-1791763199@fraenkische-kirchweih.de
SUMMARY:14-15 Kermes in Wallbach
DESCRIPTION:
URL:https://fraenkische-kirchweih.de/kalendereintrag/14-15-kermes-in-wallbach-5/
LOCATION:Heimatverein Wallbachsgrund e.V.\, Wallbach\, Thüringen\, 98639\, DEU
CATEGORIES:"Kermes,Schmalkalden-Meiningen,Werra-Main-Franken
GEO:50.6289391;10.3951761
END:VEVENT
BEGIN:VEVENT
DTSTART;VALUE=DATE:20261009
DTEND;VALUE=DATE:20261012
DTSTAMP:20260422T032042
CREATED:20260131T154745Z
LAST-MODIFIED:20260131T154745Z
UID:10003024-1791504000-1791763199@fraenkische-kirchweih.de
SUMMARY:Katzberger Kärwa
DESCRIPTION:
URL:https://fraenkische-kirchweih.de/kalendereintrag/katzberger-kaerwa-5/
LOCATION:Feuerwehrverein Katzberg\, Katzberg\, Thüringen\, 96528\, DEU
CATEGORIES:"Kärwa,Sonneberg,Werra-Main-Franken
GEO:50.3939221;10.9735252
END:VEVENT
BEGIN:VEVENT
DTSTART;VALUE=DATE:20261009
DTEND;VALUE=DATE:20261012
DTSTAMP:20260422T032042
CREATED:20260131T154747Z
LAST-MODIFIED:20260131T154747Z
UID:10003028-1791504000-1791763199@fraenkische-kirchweih.de
SUMMARY:Kirmes Truckenthal
DESCRIPTION:
URL:https://fraenkische-kirchweih.de/kalendereintrag/kirmes-truckenthal-5/
LOCATION:Kirmesverein Truckenthal\, Truckenthal\, Thüringen\, 96528\, DEU
CATEGORIES:"Kirmes,Sonneberg,Werra-Main-Franken
GEO:50.4162271;11.0137137
END:VEVENT
BEGIN:VEVENT
DTSTART;VALUE=DATE:20261009
DTEND;VALUE=DATE:20261012
DTSTAMP:20260422T032042
CREATED:20260131T154845Z
LAST-MODIFIED:20260131T154845Z
UID:10003047-1791504000-1791763199@fraenkische-kirchweih.de
SUMMARY:Meimerser Saalkirmes
DESCRIPTION:
URL:https://fraenkische-kirchweih.de/kalendereintrag/meimerser-saalkirmes-5/
LOCATION:Kirmesgesellschaft Meimers\, Meimers\, Thüringen\, 36448\, DEU
CATEGORIES:"Kirmes,Wartburgkreis,Werra-Main-Franken
GEO:50.7870727;10.347518
END:VEVENT
END:VCALENDAR