BEGIN:VCALENDAR
VERSION:2.0
PRODID:-//Fränkische Kirchweih - ECPv6.15.17.1//NONSGML v1.0//EN
CALSCALE:GREGORIAN
METHOD:PUBLISH
X-ORIGINAL-URL:https://fraenkische-kirchweih.de
X-WR-CALDESC:Veranstaltungen für Fränkische Kirchweih
REFRESH-INTERVAL;VALUE=DURATION:PT1H
X-Robots-Tag:noindex
X-PUBLISHED-TTL:PT1H
BEGIN:VTIMEZONE
TZID:Europe/Berlin
BEGIN:DAYLIGHT
TZOFFSETFROM:+0100
TZOFFSETTO:+0200
TZNAME:CEST
DTSTART:20250330T010000
END:DAYLIGHT
BEGIN:STANDARD
TZOFFSETFROM:+0200
TZOFFSETTO:+0100
TZNAME:CET
DTSTART:20251026T010000
END:STANDARD
BEGIN:DAYLIGHT
TZOFFSETFROM:+0100
TZOFFSETTO:+0200
TZNAME:CEST
DTSTART:20260329T010000
END:DAYLIGHT
BEGIN:STANDARD
TZOFFSETFROM:+0200
TZOFFSETTO:+0100
TZNAME:CET
DTSTART:20261025T010000
END:STANDARD
BEGIN:DAYLIGHT
TZOFFSETFROM:+0100
TZOFFSETTO:+0200
TZNAME:CEST
DTSTART:20270328T010000
END:DAYLIGHT
BEGIN:STANDARD
TZOFFSETFROM:+0200
TZOFFSETTO:+0100
TZNAME:CET
DTSTART:20271031T010000
END:STANDARD
END:VTIMEZONE
BEGIN:VEVENT
DTSTART;VALUE=DATE:20261002
DTEND;VALUE=DATE:20261005
DTSTAMP:20260421T230746
CREATED:20260131T155228Z
LAST-MODIFIED:20260131T155228Z
UID:10003064-1790899200-1791158399@fraenkische-kirchweih.de
SUMMARY:Kirmes in Diedorf
DESCRIPTION:
URL:https://fraenkische-kirchweih.de/kalendereintrag/kirmes-in-diedorf-5/
LOCATION:Kirmesgesellschaft Diedorf\, Diedorf\, Thüringen\, 36452\, DEU
CATEGORIES:"Kirmes,Wartburgkreis,Werra-Main-Franken
GEO:50.6612603;10.1246034
END:VEVENT
BEGIN:VEVENT
DTSTART;VALUE=DATE:20261002
DTEND;VALUE=DATE:20261005
DTSTAMP:20260421T230746
CREATED:20260411T180207Z
LAST-MODIFIED:20260411T180207Z
UID:10003257-1790899200-1791158399@fraenkische-kirchweih.de
SUMMARY:Kerwa Schnodsenbach
DESCRIPTION:
URL:https://fraenkische-kirchweih.de/kalendereintrag/kerwa-schnodsenbach/
LOCATION:Ortsvereine Schnodsenbach\, Schnodsenbach\, Bayern\, 91443\, DEU
CATEGORIES:"Kerwa,Mittelfranken,Neustadt an der Aisch-Bad Windsheim
GEO:49.6829132;10.4457491
END:VEVENT
BEGIN:VEVENT
DTSTART;VALUE=DATE:20261002
DTEND;VALUE=DATE:20261006
DTSTAMP:20260421T230746
CREATED:20260131T135451Z
LAST-MODIFIED:20260131T135451Z
UID:10002407-1790899200-1791244799@fraenkische-kirchweih.de
SUMMARY:Kirmes Steinbach
DESCRIPTION:
URL:https://fraenkische-kirchweih.de/kalendereintrag/kirmes-steinbach-5/
LOCATION:Kirmesgesellschaft Steinbach Burghaun\, Steinbach\, Hessen\, 36151\, DEU
CATEGORIES:"Kirmes,Fulda,Osthessen
GEO:50.7317402;9.7417855
END:VEVENT
BEGIN:VEVENT
DTSTART;VALUE=DATE:20261002
DTEND;VALUE=DATE:20261006
DTSTAMP:20260421T230746
CREATED:20260131T140935Z
LAST-MODIFIED:20260411T180204Z
UID:10002524-1790899200-1791244799@fraenkische-kirchweih.de
SUMMARY:Haundorfer Kerwa
DESCRIPTION:
URL:https://fraenkische-kirchweih.de/kalendereintrag/haundorfer-kerwa-5/
LOCATION:Ortsvereine Haundorf\, Haundorf\, Bayern\, 91729\, DEU
CATEGORIES:"Kerwa,Erlangen-Höchstadt,Mittelfranken
GEO:49.5882569;10.9189151
END:VEVENT
BEGIN:VEVENT
DTSTART;VALUE=DATE:20261002
DTEND;VALUE=DATE:20261006
DTSTAMP:20260421T230746
CREATED:20260131T141941Z
LAST-MODIFIED:20260411T180205Z
UID:10002650-1790899200-1791244799@fraenkische-kirchweih.de
SUMMARY:Kirchweih Windelsbach
DESCRIPTION:
URL:https://fraenkische-kirchweih.de/kalendereintrag/kirchweih-windelsbach/
LOCATION:Ortsvereine Windelsbach\, Windelsbach\, Bayern\, 91635\, DEU
CATEGORIES:"Kerwa,Ansbach,Mittelfranken
GEO:49.3991432;10.2981047
END:VEVENT
BEGIN:VEVENT
DTSTART;VALUE=DATE:20261002
DTEND;VALUE=DATE:20261006
DTSTAMP:20260421T230746
CREATED:20260131T145237Z
LAST-MODIFIED:20260131T145237Z
UID:10002770-1790899200-1791244799@fraenkische-kirchweih.de
SUMMARY:Suttenkerwa Waischenfeld
DESCRIPTION:
URL:https://fraenkische-kirchweih.de/kalendereintrag/suttenkerwa-waischenfeld-5/
LOCATION:Burschenverein Waischenfeld\, Waischenfeld\, Bayern\, 91344\, DEU
CATEGORIES:"Kerwa,Bayreuth,Oberfranken
GEO:49.8477842;11.3469137
END:VEVENT
BEGIN:VEVENT
DTSTART;VALUE=DATE:20261002
DTEND;VALUE=DATE:20261006
DTSTAMP:20260421T230746
CREATED:20260131T145238Z
LAST-MODIFIED:20260131T145238Z
UID:10002771-1790899200-1791244799@fraenkische-kirchweih.de
SUMMARY:Neikergna Kerwa
DESCRIPTION:
URL:https://fraenkische-kirchweih.de/kalendereintrag/neikergna-kerwa-5/
LOCATION:Burschenschaft vom Torplatz\, Neunkirchen am Brand\, Bayern\, 91077\, DEU
CATEGORIES:"Kerwa,Forchheim,Oberfranken
GEO:49.6115753;11.1308819
END:VEVENT
BEGIN:VEVENT
DTSTART;VALUE=DATE:20261002
DTEND;VALUE=DATE:20261006
DTSTAMP:20260421T230746
CREATED:20260131T145238Z
LAST-MODIFIED:20260131T145238Z
UID:10002772-1790899200-1791244799@fraenkische-kirchweih.de
SUMMARY:Pretzfelder Kerwa
DESCRIPTION:
URL:https://fraenkische-kirchweih.de/kalendereintrag/pretzfelder-kerwa-5/
LOCATION:Musikverein Pretzfeld e.V.\, Pretzfeld\, Bayern\, 91362\, DEU
CATEGORIES:"Kerwa,Forchheim,Oberfranken
GEO:49.7556689;11.1742098
END:VEVENT
BEGIN:VEVENT
DTSTART;VALUE=DATE:20261002
DTEND;VALUE=DATE:20261006
DTSTAMP:20260421T230746
CREATED:20260131T153835Z
LAST-MODIFIED:20260131T153835Z
UID:10002915-1790899200-1791244799@fraenkische-kirchweih.de
SUMMARY:Trachtenkirmes Waldau
DESCRIPTION:
URL:https://fraenkische-kirchweih.de/kalendereintrag/trachtenkirmes-waldau-5/
LOCATION:Kirmesverein Waldau e.V.\, Waldau\, Thüringen\, 98553\, DEU
CATEGORIES:"Kirmes,Hildburghausen,Werra-Main-Franken
GEO:50.5013424;10.8227444
END:VEVENT
BEGIN:VEVENT
DTSTART;VALUE=DATE:20261002
DTEND;VALUE=DATE:20261006
DTSTAMP:20260421T230746
CREATED:20260131T154245Z
LAST-MODIFIED:20260131T154245Z
UID:10002973-1790899200-1791244799@fraenkische-kirchweih.de
SUMMARY:Kirmes in Rohr
DESCRIPTION:
URL:https://fraenkische-kirchweih.de/kalendereintrag/kirmes-in-rohr-5/
LOCATION:Kirmesverein Rohr e.V.\, Rohr\, Thüringen\, 98530\, DEU
CATEGORIES:"Kirmes,Schmalkalden-Meiningen,Werra-Main-Franken
GEO:50.5769002;10.4990754
END:VEVENT
BEGIN:VEVENT
DTSTART;VALUE=DATE:20261002
DTEND;VALUE=DATE:20261006
DTSTAMP:20260421T230746
CREATED:20260131T154830Z
LAST-MODIFIED:20260131T154830Z
UID:10003040-1790899200-1791244799@fraenkische-kirchweih.de
SUMMARY:Baasebenner Kermes
DESCRIPTION:
URL:https://fraenkische-kirchweih.de/kalendereintrag/baasebenner-kermes-5/
LOCATION:Malmescher Kermesverein e. V.\, Albrechts\, Thüringen\, 98529\, DEU
CATEGORIES:"Kermes,Suhl,Werra-Main-Franken
GEO:50.6174363;10.6445569
END:VEVENT
BEGIN:VEVENT
DTSTART;VALUE=DATE:20261002
DTEND;VALUE=DATE:20261006
DTSTAMP:20260421T230746
CREATED:20260131T154831Z
LAST-MODIFIED:20260131T154831Z
UID:10003042-1790899200-1791244799@fraenkische-kirchweih.de
SUMMARY:Kirmes Goldlauter-Heidersbach
DESCRIPTION:
URL:https://fraenkische-kirchweih.de/kalendereintrag/kirmes-goldlauter-heidersbach-5/
LOCATION:Kirmesgesellschaft Goldlauter-Heidersbach\, Goldlauter-Heidersbach\, Thüringen\, 98528\, DEU
CATEGORIES:"Kirmes,Suhl,Werra-Main-Franken
GEO:50.6364703;10.7328464
END:VEVENT
BEGIN:VEVENT
DTSTART;VALUE=DATE:20261002
DTEND;VALUE=DATE:20261006
DTSTAMP:20260421T230746
CREATED:20260131T155229Z
LAST-MODIFIED:20260131T155229Z
UID:10003067-1790899200-1791244799@fraenkische-kirchweih.de
SUMMARY:Kirmes Geismar
DESCRIPTION:
URL:https://fraenkische-kirchweih.de/kalendereintrag/kirmes-geismar-5/
LOCATION:Kirmesgesellschaft Geismar\, Geismar\, Thüringen\, 36419\, DEU
CATEGORIES:"Kirmes,Wartburgkreis,Werra-Main-Franken
GEO:50.6811973;9.9280142
END:VEVENT
BEGIN:VEVENT
DTSTART;VALUE=DATE:20261002
DTEND;VALUE=DATE:20261006
DTSTAMP:20260421T230746
CREATED:20260411T180206Z
LAST-MODIFIED:20260411T180206Z
UID:10003256-1790899200-1791244799@fraenkische-kirchweih.de
SUMMARY:Kirchweih Appenfelden
DESCRIPTION:
URL:https://fraenkische-kirchweih.de/kalendereintrag/kirchweih-appenfelden/
LOCATION:Appenfelder Jugend\, Appenfelden\, Bayern\, 91483\, DEU
CATEGORIES:"Kerwa,Mittelfranken,Neustadt an der Aisch-Bad Windsheim
GEO:49.7382561;10.4863413
END:VEVENT
BEGIN:VEVENT
DTSTART;VALUE=DATE:20261002
DTEND;VALUE=DATE:20261007
DTSTAMP:20260421T230746
CREATED:20260131T135452Z
LAST-MODIFIED:20260131T135452Z
UID:10002408-1790899200-1791331199@fraenkische-kirchweih.de
SUMMARY:Kirmes Friesenhausen
DESCRIPTION:
URL:https://fraenkische-kirchweih.de/kalendereintrag/kirmes-friesenhausen-5/
LOCATION:Kirmesgesellschaft Friesenhausen\, Friesenhausen\, Hessen\, 36160\, DEU
CATEGORIES:"Kirmes,Fulda,Osthessen
GEO:50.524575;9.8281607
END:VEVENT
BEGIN:VEVENT
DTSTART;VALUE=DATE:20261003
DTEND;VALUE=DATE:20261004
DTSTAMP:20260421T230746
CREATED:20260131T154139Z
LAST-MODIFIED:20260131T154139Z
UID:10002940-1790985600-1791071999@fraenkische-kirchweih.de
SUMMARY:Kirmes in Ellingshausen
DESCRIPTION:
URL:https://fraenkische-kirchweih.de/kalendereintrag/kirmes-in-ellingshausen-5/
LOCATION:Kirmesgesellschaft Ellingshausen\, Ellingshausen\, Thüringen\, 98617\, DEU
CATEGORIES:"Kirmes,Schmalkalden-Meiningen,Werra-Main-Franken
GEO:50.5464862;10.4714824
END:VEVENT
BEGIN:VEVENT
DTSTART;VALUE=DATE:20261003
DTEND;VALUE=DATE:20261005
DTSTAMP:20260421T230746
CREATED:20260131T151308Z
LAST-MODIFIED:20260131T153748Z
UID:10002791-1790985600-1791158399@fraenkische-kirchweih.de
SUMMARY:Kirmes in Bischofrod
DESCRIPTION:
URL:https://fraenkische-kirchweih.de/kalendereintrag/kirmes-in-bischofrod-5/
LOCATION:Kirmesgesellschaft Bischofrod\, Bischofrod\, Thüringen\, 98553\, DEU
CATEGORIES:"Kirmes,Hildburghausen,Werra-Main-Franken
GEO:50.5376057;10.6639257
END:VEVENT
BEGIN:VEVENT
DTSTART;VALUE=DATE:20261003
DTEND;VALUE=DATE:20261006
DTSTAMP:20260421T230746
CREATED:20260131T140936Z
LAST-MODIFIED:20260411T180210Z
UID:10002526-1790985600-1791244799@fraenkische-kirchweih.de
SUMMARY:Kärwa Burgthann
DESCRIPTION:
URL:https://fraenkische-kirchweih.de/kalendereintrag/kaerwa-burgthann-5/
LOCATION:Kärwa Burgthann\, Burgthann\, Bayern\, 90559\, DEU
CATEGORIES:"Kärwa,Mittelfranken,Nürnberger Land
GEO:49.3293086;11.3261797
END:VEVENT
BEGIN:VEVENT
DTSTART;VALUE=DATE:20261007
DTEND;VALUE=DATE:20261013
DTSTAMP:20260421T230746
CREATED:20260131T145239Z
LAST-MODIFIED:20260131T145239Z
UID:10002774-1791331200-1791849599@fraenkische-kirchweih.de
SUMMARY:Herbstkirchweih Heiligenstadt i.Ofr.
DESCRIPTION:
URL:https://fraenkische-kirchweih.de/kalendereintrag/herbstkirchweih-heiligenstadt-i-ofr-5/
LOCATION:Ortsvereine Heiligenstadt\, Heiligenstadt\, Bayern\, 91332\, DEU
CATEGORIES:"Kirchweih,Bamberg,Oberfranken
GEO:49.8645053;11.1692155
END:VEVENT
BEGIN:VEVENT
DTSTART;VALUE=DATE:20261008
DTEND;VALUE=DATE:20261012
DTSTAMP:20260421T230746
CREATED:20260131T141357Z
LAST-MODIFIED:20260411T180213Z
UID:10002595-1791417600-1791763199@fraenkische-kirchweih.de
SUMMARY:Pfofelder Kerwa
DESCRIPTION:
URL:https://fraenkische-kirchweih.de/kalendereintrag/pfofelder-kerwa/
LOCATION:Ortsvereine Pfofeld\, Pfofeld\, Bayern\, 91738\, DEU
CATEGORIES:"Kerwa,Mittelfranken,Weißenburg-Gunzenhausen
GEO:49.1042136;10.8356316
END:VEVENT
BEGIN:VEVENT
DTSTART;VALUE=DATE:20261008
DTEND;VALUE=DATE:20261012
DTSTAMP:20260421T230746
CREATED:20260131T153804Z
LAST-MODIFIED:20260131T153804Z
UID:10002896-1791417600-1791763199@fraenkische-kirchweih.de
SUMMARY:Kirmes in Bedheim
DESCRIPTION:
URL:https://fraenkische-kirchweih.de/kalendereintrag/kirmes-in-bedheim-5/
LOCATION:Kirmesgesellschaft Bedheim\, Bedheim\, Thüringen\, 98630\, DEU
CATEGORIES:"Kirmes,Hildburghausen,Werra-Main-Franken
GEO:50.3901943;10.6547658
END:VEVENT
BEGIN:VEVENT
DTSTART;VALUE=DATE:20261008
DTEND;VALUE=DATE:20261012
DTSTAMP:20260421T230746
CREATED:20260131T153810Z
LAST-MODIFIED:20260131T153810Z
UID:10002901-1791417600-1791763199@fraenkische-kirchweih.de
SUMMARY:Kermes in Mendhausen
DESCRIPTION:
URL:https://fraenkische-kirchweih.de/kalendereintrag/kermes-in-mendhausen-5/
LOCATION:Kermesgesellschaft Mendhausen\, Mendhausen\, Thüringen\, 98630\, DEU
CATEGORIES:"Kermes,Hildburghausen,Werra-Main-Franken
GEO:50.383383;10.4714326
END:VEVENT
BEGIN:VEVENT
DTSTART;VALUE=DATE:20261008
DTEND;VALUE=DATE:20261012
DTSTAMP:20260421T230746
CREATED:20260131T153814Z
LAST-MODIFIED:20260131T153814Z
UID:10002906-1791417600-1791763199@fraenkische-kirchweih.de
SUMMARY:Kirmes Sachsenbrunn
DESCRIPTION:
URL:https://fraenkische-kirchweih.de/kalendereintrag/kirmes-sachsenbrunn-5/
LOCATION:Kirmesgesellschaft Sachsenbrunn\, Sachsenbrunn\, Thüringen\, 98678\, DEU
CATEGORIES:"Kirmes,Hildburghausen,Werra-Main-Franken
GEO:50.447138;10.9491364
END:VEVENT
BEGIN:VEVENT
DTSTART;VALUE=DATE:20261008
DTEND;VALUE=DATE:20261012
DTSTAMP:20260421T230746
CREATED:20260131T154244Z
LAST-MODIFIED:20260131T154244Z
UID:10002972-1791417600-1791763199@fraenkische-kirchweih.de
SUMMARY:Kirmes Ritschenhausen
DESCRIPTION:
URL:https://fraenkische-kirchweih.de/kalendereintrag/kirmes-ritschenhausen-5/
LOCATION:Kirmesgesellschaft Ritschenhausen\, Ritschenhausen\, Thüringen\, 98617\, DEU
CATEGORIES:"Kirmes,Schmalkalden-Meiningen,Werra-Main-Franken
GEO:50.51012;10.4324086
END:VEVENT
BEGIN:VEVENT
DTSTART;VALUE=DATE:20261008
DTEND;VALUE=DATE:20261012
DTSTAMP:20260421T230746
CREATED:20260131T154253Z
LAST-MODIFIED:20260131T154253Z
UID:10002974-1791417600-1791763199@fraenkische-kirchweih.de
SUMMARY:Kirmes in Rosa
DESCRIPTION:
URL:https://fraenkische-kirchweih.de/kalendereintrag/kirmes-in-rosa-5/
LOCATION:Ortsvereine Rosa\, Rosa\, Thüringen\, 98590\, DEU
CATEGORIES:"Kirmes,Schmalkalden-Meiningen,Werra-Main-Franken
GEO:50.7123851;10.2498736
END:VEVENT
BEGIN:VEVENT
DTSTART;VALUE=DATE:20261008
DTEND;VALUE=DATE:20261012
DTSTAMP:20260421T230746
CREATED:20260411T180221Z
LAST-MODIFIED:20260411T180221Z
UID:10003258-1791417600-1791763199@fraenkische-kirchweih.de
SUMMARY:Oberhescherter Kerwa
DESCRIPTION:
URL:https://fraenkische-kirchweih.de/kalendereintrag/oberhescherter-kerwa/
LOCATION:Kerwafreunde Oberhöchstädt e.V.\, Oberhöchstädt\, Bayern\, 91462\, DEU
CATEGORIES:"Kerwa,Mittelfranken,Neustadt an der Aisch-Bad Windsheim
GEO:49.6477881;10.6976355
END:VEVENT
BEGIN:VEVENT
DTSTART;VALUE=DATE:20261008
DTEND;VALUE=DATE:20261012
DTSTAMP:20260421T230746
CREATED:20260411T180231Z
LAST-MODIFIED:20260411T180231Z
UID:10003262-1791417600-1791763199@fraenkische-kirchweih.de
SUMMARY:Unterlaimbacher Kerwa
DESCRIPTION:
URL:https://fraenkische-kirchweih.de/kalendereintrag/unterlaimbacher-kerwa/
LOCATION:Ortsjugend Unterlaimbach\, Unterlaimbach\, Bayern\, 91443\, DEU
CATEGORIES:"Kerwa,Mittelfranken,Neustadt an der Aisch-Bad Windsheim
GEO:49.6387771;10.4878902
END:VEVENT
BEGIN:VEVENT
DTSTART;VALUE=DATE:20261008
DTEND;VALUE=DATE:20261013
DTSTAMP:20260421T230746
CREATED:20260131T140950Z
LAST-MODIFIED:20260411T180212Z
UID:10002529-1791417600-1791849599@fraenkische-kirchweih.de
SUMMARY:Kerwa Brunn
DESCRIPTION:
URL:https://fraenkische-kirchweih.de/kalendereintrag/kerwa-brunn-5/
LOCATION:Ortsburschen und Madli Brunn\, Brunn\, Bayern\, 91448\, DEU
CATEGORIES:"Kerwa,Mittelfranken,Neustadt an der Aisch-Bad Windsheim
GEO:49.5735405;10.7094088
END:VEVENT
BEGIN:VEVENT
DTSTART;VALUE=DATE:20261008
DTEND;VALUE=DATE:20261013
DTSTAMP:20260421T230746
CREATED:20260131T141133Z
LAST-MODIFIED:20260411T180213Z
UID:10002553-1791417600-1791849599@fraenkische-kirchweih.de
SUMMARY:Firabächer Kirwa
DESCRIPTION:
URL:https://fraenkische-kirchweih.de/kalendereintrag/firabaecher-kirwa-5/
LOCATION:Kirwaverein Firabo\, Förrenbach\, Bayern\, 91230\, DEU
CATEGORIES:"Kirwa,Mittelfranken,Nürnberger Land
GEO:49.4771093;11.5016203
END:VEVENT
BEGIN:VEVENT
DTSTART;VALUE=DATE:20261008
DTEND;VALUE=DATE:20261013
DTSTAMP:20260421T230746
CREATED:20260131T141709Z
LAST-MODIFIED:20260411T180214Z
UID:10002623-1791417600-1791849599@fraenkische-kirchweih.de
SUMMARY:Kerwa Virnsberg
DESCRIPTION:
URL:https://fraenkische-kirchweih.de/kalendereintrag/kerwa-virnsberg/
LOCATION:Ortsvereiene Virnsberg\, Virnsberg\, Bayern\, 91604\, DEU
CATEGORIES:"Kerwa,Ansbach,Mittelfranken
GEO:49.4230532;10.5112484
END:VEVENT
END:VCALENDAR