BEGIN:VCALENDAR
VERSION:2.0
PRODID:-//Fränkische Kirchweih - ECPv6.15.17.1//NONSGML v1.0//EN
CALSCALE:GREGORIAN
METHOD:PUBLISH
X-ORIGINAL-URL:https://fraenkische-kirchweih.de
X-WR-CALDESC:Veranstaltungen für Fränkische Kirchweih
REFRESH-INTERVAL;VALUE=DURATION:PT1H
X-Robots-Tag:noindex
X-PUBLISHED-TTL:PT1H
BEGIN:VTIMEZONE
TZID:Europe/Berlin
BEGIN:DAYLIGHT
TZOFFSETFROM:+0100
TZOFFSETTO:+0200
TZNAME:CEST
DTSTART:20250330T010000
END:DAYLIGHT
BEGIN:STANDARD
TZOFFSETFROM:+0200
TZOFFSETTO:+0100
TZNAME:CET
DTSTART:20251026T010000
END:STANDARD
BEGIN:DAYLIGHT
TZOFFSETFROM:+0100
TZOFFSETTO:+0200
TZNAME:CEST
DTSTART:20260329T010000
END:DAYLIGHT
BEGIN:STANDARD
TZOFFSETFROM:+0200
TZOFFSETTO:+0100
TZNAME:CET
DTSTART:20261025T010000
END:STANDARD
BEGIN:DAYLIGHT
TZOFFSETFROM:+0100
TZOFFSETTO:+0200
TZNAME:CEST
DTSTART:20270328T010000
END:DAYLIGHT
BEGIN:STANDARD
TZOFFSETFROM:+0200
TZOFFSETTO:+0100
TZNAME:CET
DTSTART:20271031T010000
END:STANDARD
END:VTIMEZONE
BEGIN:VEVENT
DTSTART;VALUE=DATE:20260930
DTEND;VALUE=DATE:20261007
DTSTAMP:20260421T225737
CREATED:20260131T145239Z
LAST-MODIFIED:20260131T145239Z
UID:10002773-1790726400-1791331199@fraenkische-kirchweih.de
SUMMARY:Trachtenkirchweih Hirschfeld
DESCRIPTION:
URL:https://fraenkische-kirchweih.de/kalendereintrag/trachtenkirchweih-hirschfeld-5/
LOCATION:Zechgemeinschaft Hirschfeld\, Hirschfeld\, Bayern\, 96361\, DEU
CATEGORIES:"Kirchweih,Kronach,Oberfranken
GEO:50.4127244;11.3362468
END:VEVENT
BEGIN:VEVENT
DTSTART;VALUE=DATE:20261001
DTEND;VALUE=DATE:20261004
DTSTAMP:20260421T225737
CREATED:20260409T160350Z
LAST-MODIFIED:20260411T180157Z
UID:10003186-1790812800-1791071999@fraenkische-kirchweih.de
SUMMARY:Klebheimer Kerwa
DESCRIPTION:
URL:https://fraenkische-kirchweih.de/kalendereintrag/klebheimer-kerwa/
LOCATION:Traditionsverein Klebheim e.V.\, Klebheim\, Bayern\, 91093\, DEU
CATEGORIES:"Kerwa,Erlangen-Höchstadt,Mittelfranken
GEO:49.6559299;10.8888151
END:VEVENT
BEGIN:VEVENT
DTSTART;VALUE=DATE:20261001
DTEND;VALUE=DATE:20261005
DTSTAMP:20260421T225737
CREATED:20260131T153753Z
LAST-MODIFIED:20260131T153753Z
UID:10002884-1790812800-1791158399@fraenkische-kirchweih.de
SUMMARY:Kirmes in Rieth
DESCRIPTION:
URL:https://fraenkische-kirchweih.de/kalendereintrag/kirmes-in-rieth-5/
LOCATION:Kirmesgesellschaft Rieth\, Rieth\, Thüringen\, 98663\, DEU
CATEGORIES:"Kirmes,Hildburghausen,Werra-Main-Franken
GEO:50.2644192;10.6325767
END:VEVENT
BEGIN:VEVENT
DTSTART;VALUE=DATE:20261001
DTEND;VALUE=DATE:20261005
DTSTAMP:20260421T225737
CREATED:20260131T154523Z
LAST-MODIFIED:20260131T154523Z
UID:10002994-1790812800-1791158399@fraenkische-kirchweih.de
SUMMARY:Kirmes Walldorf
DESCRIPTION:
URL:https://fraenkische-kirchweih.de/kalendereintrag/kirmes-walldorf-5/
LOCATION:Freiwillige Feuerwehr Walldorf/Werra e.V.\, Walldorf\, Thüringen\, 98639\, DEU
CATEGORIES:Hildburghausen,Schmalkalden-Meiningen,Werra-Main-Franken
GEO:50.6097209;10.3839035
END:VEVENT
BEGIN:VEVENT
DTSTART;VALUE=DATE:20261001
DTEND;VALUE=DATE:20261006
DTSTAMP:20260421T225737
CREATED:20260131T140936Z
LAST-MODIFIED:20260411T180156Z
UID:10002525-1790812800-1791244799@fraenkische-kirchweih.de
SUMMARY:Oberndorfer Zeltkerwa
DESCRIPTION:
URL:https://fraenkische-kirchweih.de/kalendereintrag/oberndorfer-zeltkerwa-5/
LOCATION:Ortsburschen Oberndorf\, Oberndorf\, Bayern\, 91472\, DEU
CATEGORIES:"Kerwa,Mittelfranken,Neustadt an der Aisch-Bad Windsheim
GEO:49.5168727;10.4691666
END:VEVENT
BEGIN:VEVENT
DTSTART;VALUE=DATE:20261001
DTEND;VALUE=DATE:20261006
DTSTAMP:20260421T225737
CREATED:20260409T155948Z
LAST-MODIFIED:20260411T180156Z
UID:10003174-1790812800-1791244799@fraenkische-kirchweih.de
SUMMARY:Forther Kirchweih
DESCRIPTION:
URL:https://fraenkische-kirchweih.de/kalendereintrag/forther-kirchweih/
LOCATION:Burschenschaft Forth-Büg e.V. 1979\, Forth\, Bayern\, 90542\, DEU
CATEGORIES:"Kerwa,Erlangen-Höchstadt,Mittelfranken
GEO:49.5947765;11.2250968
END:VEVENT
BEGIN:VEVENT
DTSTART;VALUE=DATE:20261001
DTEND;VALUE=DATE:20261007
DTSTAMP:20260421T225737
CREATED:20260411T180157Z
LAST-MODIFIED:20260411T180157Z
UID:10003255-1790812800-1791331199@fraenkische-kirchweih.de
SUMMARY:Kerwa Oberzenn
DESCRIPTION:
URL:https://fraenkische-kirchweih.de/kalendereintrag/kerwa-oberzenn/
LOCATION:Ortsburschen Oberzenn\, Oberzenn\, Bayern\, 91619\, DEU
CATEGORIES:"Kerwa,Mittelfranken,Neustadt an der Aisch-Bad Windsheim
GEO:49.4497965;10.4661952
END:VEVENT
BEGIN:VEVENT
DTSTART;VALUE=DATE:20261002
DTEND;VALUE=DATE:20261005
DTSTAMP:20260421T225737
CREATED:20260131T142335Z
LAST-MODIFIED:20260411T180206Z
UID:10002659-1790899200-1791158399@fraenkische-kirchweih.de
SUMMARY:Kerwa Aue
DESCRIPTION:
URL:https://fraenkische-kirchweih.de/kalendereintrag/kerwa-aue/
LOCATION:Aucher Buam und Moidla\, Aue\, Bayern\, 91177\, DEU
CATEGORIES:"Kerwa,Mittelfranken,Roth
GEO:49.0870872;11.2546196
END:VEVENT
BEGIN:VEVENT
DTSTART;VALUE=DATE:20261002
DTEND;VALUE=DATE:20261005
DTSTAMP:20260421T225737
CREATED:20260131T153759Z
LAST-MODIFIED:20260131T153759Z
UID:10002891-1790899200-1791158399@fraenkische-kirchweih.de
SUMMARY:Kirmes Lengfeld
DESCRIPTION:
URL:https://fraenkische-kirchweih.de/kalendereintrag/kirmes-lengfeld-5/
LOCATION:Kirmesverein Lengfeld 2011  e.V.\, Lengfeld\, Thüringen\, 98660\, DEU
CATEGORIES:"Kirmes,Hildburghausen,Werra-Main-Franken
GEO:50.5251719;10.651021
END:VEVENT
BEGIN:VEVENT
DTSTART;VALUE=DATE:20261002
DTEND;VALUE=DATE:20261005
DTSTAMP:20260421T225737
CREATED:20260131T153836Z
LAST-MODIFIED:20260131T153836Z
UID:10002917-1790899200-1791158399@fraenkische-kirchweih.de
SUMMARY:Kirmes in Schweickershausen
DESCRIPTION:
URL:https://fraenkische-kirchweih.de/kalendereintrag/kirmes-in-schweickershausen-5/
LOCATION:Kirmesgesellschaft Schweickershausen\, Schweickershausen\, Thüringen\, 98663\, DEU
CATEGORIES:"Kirmes,Hildburghausen,Werra-Main-Franken
GEO:50.2391593;10.6313319
END:VEVENT
BEGIN:VEVENT
DTSTART;VALUE=DATE:20261002
DTEND;VALUE=DATE:20261005
DTSTAMP:20260421T225737
CREATED:20260131T154118Z
LAST-MODIFIED:20260131T154118Z
UID:10002929-1790899200-1791158399@fraenkische-kirchweih.de
SUMMARY:Neustädter Kirmes
DESCRIPTION:
URL:https://fraenkische-kirchweih.de/kalendereintrag/neustaedter-kirmes-5/
LOCATION:Kirmesgesellschaft Neustadt am Rennsteig e.V.\, Neustadt am Rennsteig\, Thüringen\, 98701\, DEU
CATEGORIES:"Kirmes,Ilm-Kreis,Werra-Main-Franken
GEO:50.5830231;10.9336362
END:VEVENT
BEGIN:VEVENT
DTSTART;VALUE=DATE:20261002
DTEND;VALUE=DATE:20261005
DTSTAMP:20260421T225737
CREATED:20260131T154139Z
LAST-MODIFIED:20260131T154139Z
UID:10002941-1790899200-1791158399@fraenkische-kirchweih.de
SUMMARY:Kirmes Erbenhausen
DESCRIPTION:
URL:https://fraenkische-kirchweih.de/kalendereintrag/kirmes-erbenhausen-5/
LOCATION:Kirmesgesellschaft Erbenhausen\, Erbenhausen\, Thüringen\, 98634\, DEU
CATEGORIES:"Kirmes,Schmalkalden-Meiningen,Werra-Main-Franken
GEO:50.5757295;10.1454757
END:VEVENT
BEGIN:VEVENT
DTSTART;VALUE=DATE:20261002
DTEND;VALUE=DATE:20261005
DTSTAMP:20260421T225737
CREATED:20260131T154210Z
LAST-MODIFIED:20260131T154210Z
UID:10002957-1790899200-1791158399@fraenkische-kirchweih.de
SUMMARY:Kirmes Henneberg
DESCRIPTION:
URL:https://fraenkische-kirchweih.de/kalendereintrag/kirmes-henneberg-5/
LOCATION:Henneberger Kirmesgesellschaft\, Henneberg\, Thüringen\, 98617\, DEU
CATEGORIES:"Kirmes,Schmalkalden-Meiningen,Werra-Main-Franken
GEO:50.4920907;10.3557757
END:VEVENT
BEGIN:VEVENT
DTSTART;VALUE=DATE:20261002
DTEND;VALUE=DATE:20261005
DTSTAMP:20260421T225737
CREATED:20260131T154242Z
LAST-MODIFIED:20260131T154242Z
UID:10002970-1790899200-1791158399@fraenkische-kirchweih.de
SUMMARY:Kermes in  Helmershausen
DESCRIPTION:
URL:https://fraenkische-kirchweih.de/kalendereintrag/kermes-in-helmershausen-5/
LOCATION:Traditionsverein Helmershausen\, Helmershausen\, Thüringen\, 98617\, DEU
CATEGORIES:"Kermes,Schmalkalden-Meiningen,Werra-Main-Franken
GEO:50.5633231;10.2364458
END:VEVENT
BEGIN:VEVENT
DTSTART;VALUE=DATE:20261002
DTEND;VALUE=DATE:20261005
DTSTAMP:20260421T225737
CREATED:20260131T154255Z
LAST-MODIFIED:20260131T154255Z
UID:10002977-1790899200-1791158399@fraenkische-kirchweih.de
SUMMARY:Kirmes in Mittelschmalkalden
DESCRIPTION:
URL:https://fraenkische-kirchweih.de/kalendereintrag/kirmes-in-mittelschmalkalden-5/
LOCATION:FSV 06 Mittelschmalkalden e.V.\, Mittelschmalkalden\, Thüringen\, 98574\, DEU
CATEGORIES:"Kirmes,Schmalkalden-Meiningen,Werra-Main-Franken
GEO:50.7184721;10.3989486
END:VEVENT
BEGIN:VEVENT
DTSTART;VALUE=DATE:20261002
DTEND;VALUE=DATE:20261005
DTSTAMP:20260421T225737
CREATED:20260131T154646Z
LAST-MODIFIED:20260131T154646Z
UID:10003007-1790899200-1791158399@fraenkische-kirchweih.de
SUMMARY:Kerwa Rottmar
DESCRIPTION:
URL:https://fraenkische-kirchweih.de/kalendereintrag/kerwa-rottmar-5/
LOCATION:Ortsvereine Rottmar\, Rottmar\, Thüringen\, 96524\, DEU
CATEGORIES:"Kerwa,Sonneberg,Werra-Main-Franken
GEO:50.3263547;11.2071777
END:VEVENT
BEGIN:VEVENT
DTSTART;VALUE=DATE:20261002
DTEND;VALUE=DATE:20261005
DTSTAMP:20260421T225737
CREATED:20260131T154701Z
LAST-MODIFIED:20260131T154701Z
UID:10003012-1790899200-1791158399@fraenkische-kirchweih.de
SUMMARY:Kirmes Rabenäußig
DESCRIPTION:
URL:https://fraenkische-kirchweih.de/kalendereintrag/kirmes-rabenaeussig-5/
LOCATION:Ortsvereine Rabenäußig\, Rabenäußig\, Thüringen\, 96528\, DEU
CATEGORIES:"Kirmes,Sonneberg,Werra-Main-Franken
GEO:50.4002732;11.0880524
END:VEVENT
BEGIN:VEVENT
DTSTART;VALUE=DATE:20261002
DTEND;VALUE=DATE:20261005
DTSTAMP:20260421T225737
CREATED:20260131T154731Z
LAST-MODIFIED:20260131T154731Z
UID:10003022-1790899200-1791158399@fraenkische-kirchweih.de
SUMMARY:Kirmes Almerswind
DESCRIPTION:
URL:https://fraenkische-kirchweih.de/kalendereintrag/kirmes-almerswind-5/
LOCATION:Kirmesgesellschaft Almerswind\, Almerswind\, Thüringen\, 96528\, DEU
CATEGORIES:"Kirmes,Sonneberg,Werra-Main-Franken
GEO:50.3696965;11.0083487
END:VEVENT
BEGIN:VEVENT
DTSTART;VALUE=DATE:20261002
DTEND;VALUE=DATE:20261005
DTSTAMP:20260421T225737
CREATED:20260131T155101Z
LAST-MODIFIED:20260131T155101Z
UID:10003054-1790899200-1791158399@fraenkische-kirchweih.de
SUMMARY:Zeltkirmes Wildprechtroda
DESCRIPTION:
URL:https://fraenkische-kirchweih.de/kalendereintrag/zeltkirmes-wildprechtroda-5/
LOCATION:Kirmesverein Wildprechtroda\, Wildprechtroda\, Thüringen\, 36433\, DEU
CATEGORIES:"Kirmes,Wartburgkreis,Werra-Main-Franken
GEO:50.7982779;10.2437209
END:VEVENT
BEGIN:VEVENT
DTSTART;VALUE=DATE:20261002
DTEND;VALUE=DATE:20261005
DTSTAMP:20260421T225737
CREATED:20260131T155226Z
LAST-MODIFIED:20260131T155226Z
UID:10003062-1790899200-1791158399@fraenkische-kirchweih.de
SUMMARY:Zeltkirmes in Oberalba
DESCRIPTION:
URL:https://fraenkische-kirchweih.de/kalendereintrag/zeltkirmes-in-oberalba-5/
LOCATION:Kirmesgesellschaft Oberalba\, Oberalba\, Thüringen\, 36466\, DEU
CATEGORIES:"Kirmes,Wartburgkreis,Werra-Main-Franken
GEO:50.725573;10.091942
END:VEVENT
BEGIN:VEVENT
DTSTART;VALUE=DATE:20261002
DTEND;VALUE=DATE:20261005
DTSTAMP:20260421T225737
CREATED:20260131T155228Z
LAST-MODIFIED:20260131T155228Z
UID:10003064-1790899200-1791158399@fraenkische-kirchweih.de
SUMMARY:Kirmes in Diedorf
DESCRIPTION:
URL:https://fraenkische-kirchweih.de/kalendereintrag/kirmes-in-diedorf-5/
LOCATION:Kirmesgesellschaft Diedorf\, Diedorf\, Thüringen\, 36452\, DEU
CATEGORIES:"Kirmes,Wartburgkreis,Werra-Main-Franken
GEO:50.6612603;10.1246034
END:VEVENT
BEGIN:VEVENT
DTSTART;VALUE=DATE:20261002
DTEND;VALUE=DATE:20261005
DTSTAMP:20260421T225737
CREATED:20260411T180207Z
LAST-MODIFIED:20260411T180207Z
UID:10003257-1790899200-1791158399@fraenkische-kirchweih.de
SUMMARY:Kerwa Schnodsenbach
DESCRIPTION:
URL:https://fraenkische-kirchweih.de/kalendereintrag/kerwa-schnodsenbach/
LOCATION:Ortsvereine Schnodsenbach\, Schnodsenbach\, Bayern\, 91443\, DEU
CATEGORIES:"Kerwa,Mittelfranken,Neustadt an der Aisch-Bad Windsheim
GEO:49.6829132;10.4457491
END:VEVENT
BEGIN:VEVENT
DTSTART;VALUE=DATE:20261002
DTEND;VALUE=DATE:20261006
DTSTAMP:20260421T225737
CREATED:20260131T135451Z
LAST-MODIFIED:20260131T135451Z
UID:10002407-1790899200-1791244799@fraenkische-kirchweih.de
SUMMARY:Kirmes Steinbach
DESCRIPTION:
URL:https://fraenkische-kirchweih.de/kalendereintrag/kirmes-steinbach-5/
LOCATION:Kirmesgesellschaft Steinbach Burghaun\, Steinbach\, Hessen\, 36151\, DEU
CATEGORIES:"Kirmes,Fulda,Osthessen
GEO:50.7317402;9.7417855
END:VEVENT
BEGIN:VEVENT
DTSTART;VALUE=DATE:20261002
DTEND;VALUE=DATE:20261006
DTSTAMP:20260421T225737
CREATED:20260131T140935Z
LAST-MODIFIED:20260411T180204Z
UID:10002524-1790899200-1791244799@fraenkische-kirchweih.de
SUMMARY:Haundorfer Kerwa
DESCRIPTION:
URL:https://fraenkische-kirchweih.de/kalendereintrag/haundorfer-kerwa-5/
LOCATION:Ortsvereine Haundorf\, Haundorf\, Bayern\, 91729\, DEU
CATEGORIES:"Kerwa,Erlangen-Höchstadt,Mittelfranken
GEO:49.5882569;10.9189151
END:VEVENT
BEGIN:VEVENT
DTSTART;VALUE=DATE:20261002
DTEND;VALUE=DATE:20261006
DTSTAMP:20260421T225737
CREATED:20260131T141941Z
LAST-MODIFIED:20260411T180205Z
UID:10002650-1790899200-1791244799@fraenkische-kirchweih.de
SUMMARY:Kirchweih Windelsbach
DESCRIPTION:
URL:https://fraenkische-kirchweih.de/kalendereintrag/kirchweih-windelsbach/
LOCATION:Ortsvereine Windelsbach\, Windelsbach\, Bayern\, 91635\, DEU
CATEGORIES:"Kerwa,Ansbach,Mittelfranken
GEO:49.3991432;10.2981047
END:VEVENT
BEGIN:VEVENT
DTSTART;VALUE=DATE:20261002
DTEND;VALUE=DATE:20261006
DTSTAMP:20260421T225737
CREATED:20260131T145237Z
LAST-MODIFIED:20260131T145237Z
UID:10002770-1790899200-1791244799@fraenkische-kirchweih.de
SUMMARY:Suttenkerwa Waischenfeld
DESCRIPTION:
URL:https://fraenkische-kirchweih.de/kalendereintrag/suttenkerwa-waischenfeld-5/
LOCATION:Burschenverein Waischenfeld\, Waischenfeld\, Bayern\, 91344\, DEU
CATEGORIES:"Kerwa,Bayreuth,Oberfranken
GEO:49.8477842;11.3469137
END:VEVENT
BEGIN:VEVENT
DTSTART;VALUE=DATE:20261002
DTEND;VALUE=DATE:20261006
DTSTAMP:20260421T225737
CREATED:20260131T145238Z
LAST-MODIFIED:20260131T145238Z
UID:10002771-1790899200-1791244799@fraenkische-kirchweih.de
SUMMARY:Neikergna Kerwa
DESCRIPTION:
URL:https://fraenkische-kirchweih.de/kalendereintrag/neikergna-kerwa-5/
LOCATION:Burschenschaft vom Torplatz\, Neunkirchen am Brand\, Bayern\, 91077\, DEU
CATEGORIES:"Kerwa,Forchheim,Oberfranken
GEO:49.6115753;11.1308819
END:VEVENT
BEGIN:VEVENT
DTSTART;VALUE=DATE:20261002
DTEND;VALUE=DATE:20261006
DTSTAMP:20260421T225737
CREATED:20260131T145238Z
LAST-MODIFIED:20260131T145238Z
UID:10002772-1790899200-1791244799@fraenkische-kirchweih.de
SUMMARY:Pretzfelder Kerwa
DESCRIPTION:
URL:https://fraenkische-kirchweih.de/kalendereintrag/pretzfelder-kerwa-5/
LOCATION:Musikverein Pretzfeld e.V.\, Pretzfeld\, Bayern\, 91362\, DEU
CATEGORIES:"Kerwa,Forchheim,Oberfranken
GEO:49.7556689;11.1742098
END:VEVENT
BEGIN:VEVENT
DTSTART;VALUE=DATE:20261002
DTEND;VALUE=DATE:20261006
DTSTAMP:20260421T225737
CREATED:20260131T153835Z
LAST-MODIFIED:20260131T153835Z
UID:10002915-1790899200-1791244799@fraenkische-kirchweih.de
SUMMARY:Trachtenkirmes Waldau
DESCRIPTION:
URL:https://fraenkische-kirchweih.de/kalendereintrag/trachtenkirmes-waldau-5/
LOCATION:Kirmesverein Waldau e.V.\, Waldau\, Thüringen\, 98553\, DEU
CATEGORIES:"Kirmes,Hildburghausen,Werra-Main-Franken
GEO:50.5013424;10.8227444
END:VEVENT
BEGIN:VEVENT
DTSTART;VALUE=DATE:20261002
DTEND;VALUE=DATE:20261006
DTSTAMP:20260421T225737
CREATED:20260131T154245Z
LAST-MODIFIED:20260131T154245Z
UID:10002973-1790899200-1791244799@fraenkische-kirchweih.de
SUMMARY:Kirmes in Rohr
DESCRIPTION:
URL:https://fraenkische-kirchweih.de/kalendereintrag/kirmes-in-rohr-5/
LOCATION:Kirmesverein Rohr e.V.\, Rohr\, Thüringen\, 98530\, DEU
CATEGORIES:"Kirmes,Schmalkalden-Meiningen,Werra-Main-Franken
GEO:50.5769002;10.4990754
END:VEVENT
END:VCALENDAR