BEGIN:VCALENDAR
VERSION:2.0
PRODID:-//Fränkische Kirchweih - ECPv6.15.17.1//NONSGML v1.0//EN
CALSCALE:GREGORIAN
METHOD:PUBLISH
X-ORIGINAL-URL:https://fraenkische-kirchweih.de
X-WR-CALDESC:Veranstaltungen für Fränkische Kirchweih
REFRESH-INTERVAL;VALUE=DURATION:PT1H
X-Robots-Tag:noindex
X-PUBLISHED-TTL:PT1H
BEGIN:VTIMEZONE
TZID:Europe/Berlin
BEGIN:DAYLIGHT
TZOFFSETFROM:+0100
TZOFFSETTO:+0200
TZNAME:CEST
DTSTART:20250330T010000
END:DAYLIGHT
BEGIN:STANDARD
TZOFFSETFROM:+0200
TZOFFSETTO:+0100
TZNAME:CET
DTSTART:20251026T010000
END:STANDARD
BEGIN:DAYLIGHT
TZOFFSETFROM:+0100
TZOFFSETTO:+0200
TZNAME:CEST
DTSTART:20260329T010000
END:DAYLIGHT
BEGIN:STANDARD
TZOFFSETFROM:+0200
TZOFFSETTO:+0100
TZNAME:CET
DTSTART:20261025T010000
END:STANDARD
BEGIN:DAYLIGHT
TZOFFSETFROM:+0100
TZOFFSETTO:+0200
TZNAME:CEST
DTSTART:20270328T010000
END:DAYLIGHT
BEGIN:STANDARD
TZOFFSETFROM:+0200
TZOFFSETTO:+0100
TZNAME:CET
DTSTART:20271031T010000
END:STANDARD
END:VTIMEZONE
BEGIN:VEVENT
DTSTART;VALUE=DATE:20260917
DTEND;VALUE=DATE:20260921
DTSTAMP:20260422T032039
CREATED:20260131T154231Z
LAST-MODIFIED:20260131T154231Z
UID:10002964-1789603200-1789948799@fraenkische-kirchweih.de
SUMMARY:Kermes in Metzels
DESCRIPTION:
URL:https://fraenkische-kirchweih.de/kalendereintrag/kermes-in-metzels-5/
LOCATION:Metzelser Trachtenkirmesverein e.V.\, Metzels\, Thüringen\, 98639\, DEU
CATEGORIES:"Kermes,Schmalkalden-Meiningen,Werra-Main-Franken
GEO:50.6473618;10.435248
END:VEVENT
BEGIN:VEVENT
DTSTART;VALUE=DATE:20260917
DTEND;VALUE=DATE:20260921
DTSTAMP:20260422T032039
CREATED:20260131T154831Z
LAST-MODIFIED:20260131T154831Z
UID:10003043-1789603200-1789948799@fraenkische-kirchweih.de
SUMMARY:Heinrichser Kirmes
DESCRIPTION:
URL:https://fraenkische-kirchweih.de/kalendereintrag/heinrichser-kirmes-5/
LOCATION:Heinrichser Burschenschaft e.V.\, Heinrichs\, Thüringen\, 98529\, DEU
CATEGORIES:"Kirmes,Suhl,Werra-Main-Franken
GEO:50.599311;10.662806
END:VEVENT
BEGIN:VEVENT
DTSTART;VALUE=DATE:20260917
DTEND;VALUE=DATE:20260921
DTSTAMP:20260422T032039
CREATED:20260131T154846Z
LAST-MODIFIED:20260131T154846Z
UID:10003048-1789603200-1789948799@fraenkische-kirchweih.de
SUMMARY:Kirmes Schweina
DESCRIPTION:
URL:https://fraenkische-kirchweih.de/kalendereintrag/kirmes-schweina-5/
LOCATION:Kirmesgesellschaft Schweina\, Schweina\, Thüringen\, 36448\, DEU
CATEGORIES:"Kirmes,Wartburgkreis,Werra-Main-Franken
GEO:50.8249671;10.3378385
END:VEVENT
BEGIN:VEVENT
DTSTART;VALUE=DATE:20260917
DTEND;VALUE=DATE:20260921
DTSTAMP:20260422T032039
CREATED:20260131T155846Z
LAST-MODIFIED:20260131T155846Z
UID:10003088-1789603200-1789948799@fraenkische-kirchweih.de
SUMMARY:Zeltkirmes Unterbreizbach
DESCRIPTION:
URL:https://fraenkische-kirchweih.de/kalendereintrag/zeltkirmes-unterbreizbach-5/
LOCATION:Kirmesverein Unterbreizbach\, Unterbreizbach\, Thüringen\, 36414\, DEU
CATEGORIES:"Kirmes,Wartburgkreis,Werra-Main-Franken
GEO:50.8164917;9.9797317
END:VEVENT
BEGIN:VEVENT
DTSTART;VALUE=DATE:20260917
DTEND;VALUE=DATE:20260922
DTSTAMP:20260422T032039
CREATED:20260131T140911Z
LAST-MODIFIED:20260411T180033Z
UID:10002513-1789603200-1790035199@fraenkische-kirchweih.de
SUMMARY:Vacher Kärwa
DESCRIPTION:
URL:https://fraenkische-kirchweih.de/kalendereintrag/vacher-kaerwa-5/
LOCATION:Kärwaburschen Vach\, Vach\, Bayern\, 90768\, DEU
CATEGORIES:"Kärwa,Fürth,Mittelfranken
GEO:49.517816;10.9617764
END:VEVENT
BEGIN:VEVENT
DTSTART;VALUE=DATE:20260917
DTEND;VALUE=DATE:20260922
DTSTAMP:20260422T032039
CREATED:20260131T153756Z
LAST-MODIFIED:20260131T153756Z
UID:10002888-1789603200-1790035199@fraenkische-kirchweih.de
SUMMARY:Häselriether Zeltkirmes
DESCRIPTION:
URL:https://fraenkische-kirchweih.de/kalendereintrag/haeselriether-zeltkirmes-5/
LOCATION:Kirmesverein Häselrieth e. V.\, Häselrieth\, Thüringen\, 98646\, DEU
CATEGORIES:"Kirmes,Hildburghausen,Werra-Main-Franken
GEO:50.4323473;10.7073514
END:VEVENT
BEGIN:VEVENT
DTSTART;VALUE=DATE:20260917
DTEND;VALUE=DATE:20260922
DTSTAMP:20260422T032039
CREATED:20260320T233251Z
LAST-MODIFIED:20260411T180033Z
UID:10003151-1789603200-1790035199@fraenkische-kirchweih.de
SUMMARY:Kärwa in Laubendorf
DESCRIPTION:
URL:https://fraenkische-kirchweih.de/kalendereintrag/kaerwa-in-laubendorf/
LOCATION:Ortsburschen und Madli Laubendorf\, Laubendorf\, Bayern\, 90579\, DEU
CATEGORIES:"Kärwa,Fürth,Mittelfranken
GEO:49.495366;10.7537634
END:VEVENT
BEGIN:VEVENT
DTSTART;VALUE=DATE:20260917
DTEND;VALUE=DATE:20260922
DTSTAMP:20260422T032039
CREATED:20260411T180034Z
LAST-MODIFIED:20260411T180034Z
UID:10003248-1789603200-1790035199@fraenkische-kirchweih.de
SUMMARY:Suchermer Kerwa
DESCRIPTION:
URL:https://fraenkische-kirchweih.de/kalendereintrag/suchermer-kerwa/
LOCATION:Kirchweihverein Sugenheim e.V.\, Sugenheim\, Bayern\, 91484\, DEU
CATEGORIES:"Kerwa,Mittelfranken,Neustadt an der Aisch-Bad Windsheim
GEO:49.602279;10.4360357
END:VEVENT
BEGIN:VEVENT
DTSTART;VALUE=DATE:20260917
DTEND;VALUE=DATE:20260923
DTSTAMP:20260422T032039
CREATED:20260131T140910Z
LAST-MODIFIED:20260411T180031Z
UID:10002511-1789603200-1790121599@fraenkische-kirchweih.de
SUMMARY:Membacher Kerwa
DESCRIPTION:
URL:https://fraenkische-kirchweih.de/kalendereintrag/membacher-kerwa-5/
LOCATION:Ortsburschen Membach\, Untermembach\, Bayern\, 91093\, DEU
CATEGORIES:"Kerwa,Erlangen-Höchstadt,Mittelfranken
GEO:49.6160399;10.9081062
END:VEVENT
BEGIN:VEVENT
DTSTART;VALUE=DATE:20260918
DTEND;VALUE=DATE:20260920
DTSTAMP:20260422T032039
CREATED:20260131T142339Z
LAST-MODIFIED:20260411T180049Z
UID:10002666-1789689600-1789862399@fraenkische-kirchweih.de
SUMMARY:Kärwa Kapsdorf
DESCRIPTION:
URL:https://fraenkische-kirchweih.de/kalendereintrag/kaerwa-kapsdorf/
LOCATION:Kärwaboum und -madli Kapsdorf\, Kapsdorf\, Bayern\, 91183\, DEU
CATEGORIES:"Kärwa,Mittelfranken,Roth
GEO:49.2639401;10.9127452
END:VEVENT
BEGIN:VEVENT
DTSTART;VALUE=DATE:20260918
DTEND;VALUE=DATE:20260921
DTSTAMP:20260422T032039
CREATED:20260131T154159Z
LAST-MODIFIED:20260131T154159Z
UID:10002952-1789689600-1789948799@fraenkische-kirchweih.de
SUMMARY:Kirmes in Bibra
DESCRIPTION:
URL:https://fraenkische-kirchweih.de/kalendereintrag/kirmes-in-bibra-5/
LOCATION:Kirmesgesellschaft Bibra\, Bibra\, Thüringen\, 98631\, DEU
CATEGORIES:"Kirmes,Schmalkalden-Meiningen,Werra-Main-Franken
GEO:50.4701275;10.4376828
END:VEVENT
BEGIN:VEVENT
DTSTART;VALUE=DATE:20260918
DTEND;VALUE=DATE:20260921
DTSTAMP:20260422T032039
CREATED:20260131T154802Z
LAST-MODIFIED:20260131T154802Z
UID:10003033-1789689600-1789948799@fraenkische-kirchweih.de
SUMMARY:Mürschnitzer Kerwa
DESCRIPTION:
URL:https://fraenkische-kirchweih.de/kalendereintrag/muerschnitzer-kerwa-5/
LOCATION:Ortsvereine Mürschnitz\, Mürschnitz\, Thüringen\, 96515\, DEU
CATEGORIES:"Kerwa,Sonneberg,Werra-Main-Franken
GEO:50.366684;11.1448106
END:VEVENT
BEGIN:VEVENT
DTSTART;VALUE=DATE:20260918
DTEND;VALUE=DATE:20260921
DTSTAMP:20260422T032039
CREATED:20260131T155645Z
LAST-MODIFIED:20260131T155645Z
UID:10003080-1789689600-1789948799@fraenkische-kirchweih.de
SUMMARY:Zeltkirmes Neidhartshausen
DESCRIPTION:
URL:https://fraenkische-kirchweih.de/kalendereintrag/zeltkirmes-neidhartshausen-5/
LOCATION:Kirmesgesellschaft Neidhartshausen\, Neidhartshausen\, Thüringen\, 36452\, DEU
CATEGORIES:"Kirmes,Wartburgkreis,Werra-Main-Franken
GEO:50.678956;10.1257148
END:VEVENT
BEGIN:VEVENT
DTSTART;VALUE=DATE:20260918
DTEND;VALUE=DATE:20260922
DTSTAMP:20260422T032040
CREATED:20260131T140910Z
LAST-MODIFIED:20260411T180034Z
UID:10002512-1789689600-1790035199@fraenkische-kirchweih.de
SUMMARY:Weiherer Kerwa
DESCRIPTION:
URL:https://fraenkische-kirchweih.de/kalendereintrag/weiherer-kerwa-5/
LOCATION:Weiherer Burschen e.V.\, Weiher\, Bayern\, 91080\, DEU
CATEGORIES:"Kerwa,Erlangen-Höchstadt,Mittelfranken
GEO:49.5942487;11.0982224
END:VEVENT
BEGIN:VEVENT
DTSTART;VALUE=DATE:20260918
DTEND;VALUE=DATE:20260922
DTSTAMP:20260422T032040
CREATED:20260131T140924Z
LAST-MODIFIED:20260411T180035Z
UID:10002514-1789689600-1790035199@fraenkische-kirchweih.de
SUMMARY:Deutenbacher Kärwa
DESCRIPTION:
URL:https://fraenkische-kirchweih.de/kalendereintrag/deutenbacher-kaerwa-5/
LOCATION:Deutenbacher Kärwaboum und -madli\, Deutenbach\, Bayern\, 90547\, DEU
CATEGORIES:"Kärwa,Fürth,Mittelfranken
GEO:49.3989019;10.9811563
END:VEVENT
BEGIN:VEVENT
DTSTART;VALUE=DATE:20260918
DTEND;VALUE=DATE:20260922
DTSTAMP:20260422T032040
CREATED:20260131T141227Z
LAST-MODIFIED:20260411T180048Z
UID:10002560-1789689600-1790035199@fraenkische-kirchweih.de
SUMMARY:Stodlkirwa Krottensee
DESCRIPTION:
URL:https://fraenkische-kirchweih.de/kalendereintrag/stodlkirwa-krottensee-5/
LOCATION:Ortsvereine Krottensee\, Krottensee\, Bayern\, 91284\, DEU
CATEGORIES:"Kirwa,Mittelfranken,Nürnberger Land
GEO:49.6294987;11.5736389
END:VEVENT
BEGIN:VEVENT
DTSTART;VALUE=DATE:20260918
DTEND;VALUE=DATE:20260922
DTSTAMP:20260422T032040
CREATED:20260131T141345Z
LAST-MODIFIED:20260411T180048Z
UID:10002581-1789689600-1790035199@fraenkische-kirchweih.de
SUMMARY:Kirchweih Schwimbach
DESCRIPTION:
URL:https://fraenkische-kirchweih.de/kalendereintrag/kirchweih-schwimbach-3/
LOCATION:Schwimberer Kerwamoidler und Kerwaboum\, Schwimbach\, Bayern\, 91177\, DEU
CATEGORIES:"Kerwa,Mittelfranken,Roth
GEO:49.1112574;11.2462284
END:VEVENT
BEGIN:VEVENT
DTSTART;VALUE=DATE:20260918
DTEND;VALUE=DATE:20260922
DTSTAMP:20260422T032040
CREATED:20260131T145101Z
LAST-MODIFIED:20260131T145101Z
UID:10002764-1789689600-1790035199@fraenkische-kirchweih.de
SUMMARY:Haager Kerwa
DESCRIPTION:
URL:https://fraenkische-kirchweih.de/kalendereintrag/haager-kerwa-5/
LOCATION:Burschen- und Mädchenverein Haag\, Haag\, Bayern\, 95473\, DEU
CATEGORIES:"Kerwa,Bayreuth,Oberfranken
GEO:49.8698074;11.5612299
END:VEVENT
BEGIN:VEVENT
DTSTART;VALUE=DATE:20260918
DTEND;VALUE=DATE:20260922
DTSTAMP:20260422T032040
CREATED:20260131T145114Z
LAST-MODIFIED:20260131T145114Z
UID:10002765-1789689600-1790035199@fraenkische-kirchweih.de
SUMMARY:Trachtenkirchweih Kehlbach
DESCRIPTION:
URL:https://fraenkische-kirchweih.de/kalendereintrag/trachtenkirchweih-kehlbach-5/
LOCATION:Zechgemeinschaft Kehlbach\, Kehlbach\, Bayern\, 96361\, DEU
CATEGORIES:"Kirchweih,Kronach,Oberfranken
GEO:50.4457946;11.3159683
END:VEVENT
BEGIN:VEVENT
DTSTART;VALUE=DATE:20260918
DTEND;VALUE=DATE:20260922
DTSTAMP:20260422T032040
CREATED:20260131T151415Z
LAST-MODIFIED:20260131T151415Z
UID:10002832-1789689600-1790035199@fraenkische-kirchweih.de
SUMMARY:Kirwa Trautmannshofen
DESCRIPTION:
URL:https://fraenkische-kirchweih.de/kalendereintrag/kirwa-trautmannshofen-5/
LOCATION:Kirwa Trautmannshofen\, Trautmannshofen\, Bayern\, 92283\, DEU
CATEGORIES:"Kirwa,Neumarkt in der Oberpfalz,Oberpfalz
GEO:49.3446228;11.564792
END:VEVENT
BEGIN:VEVENT
DTSTART;VALUE=DATE:20260918
DTEND;VALUE=DATE:20260922
DTSTAMP:20260422T032040
CREATED:20260131T153820Z
LAST-MODIFIED:20260131T153820Z
UID:10002913-1789689600-1790035199@fraenkische-kirchweih.de
SUMMARY:Kirmes Hinternah
DESCRIPTION:
URL:https://fraenkische-kirchweih.de/kalendereintrag/kirmes-hinternah-5/
LOCATION:Kirmesverein Hinternah e.V.\, Hinternah\, Thüringen\, 98553\, DEU
CATEGORIES:"Kirmes,Hildburghausen,Werra-Main-Franken
GEO:50.5176715;10.7951227
END:VEVENT
BEGIN:VEVENT
DTSTART;VALUE=DATE:20260918
DTEND;VALUE=DATE:20260922
DTSTAMP:20260422T032040
CREATED:20260131T154323Z
LAST-MODIFIED:20260131T154323Z
UID:10002989-1789689600-1790035199@fraenkische-kirchweih.de
SUMMARY:Unterweider Kirmes
DESCRIPTION:
URL:https://fraenkische-kirchweih.de/kalendereintrag/unterweider-kirmes-5/
LOCATION:Kirmesgesellschaft Unterweid\, Unterweid\, Thüringen\, 98634\, DEU
CATEGORIES:"Kirmes,Schmalkalden-Meiningen,Werra-Main-Franken
GEO:50.6099833;10.0606164
END:VEVENT
BEGIN:VEVENT
DTSTART;VALUE=DATE:20260918
DTEND;VALUE=DATE:20260922
DTSTAMP:20260422T032040
CREATED:20260131T154815Z
LAST-MODIFIED:20260131T154815Z
UID:10003034-1789689600-1790035199@fraenkische-kirchweih.de
SUMMARY:Neuficher Bergkerwa
DESCRIPTION:
URL:https://fraenkische-kirchweih.de/kalendereintrag/neuficher-bergkerwa-5/
LOCATION:Ortsvereine Neufang\, Neufang\, Thüringen\, 96515\, DEU
CATEGORIES:"Kerwa,Sonneberg,Werra-Main-Franken
GEO:50.3724179;11.1868889
END:VEVENT
BEGIN:VEVENT
DTSTART;VALUE=DATE:20260918
DTEND;VALUE=DATE:20260922
DTSTAMP:20260422T032040
CREATED:20260304T172910Z
LAST-MODIFIED:20260411T180049Z
UID:10003126-1789689600-1790035199@fraenkische-kirchweih.de
SUMMARY:Kärwa Kraftshof
DESCRIPTION:
URL:https://fraenkische-kirchweih.de/kalendereintrag/kaerwa-kraftshof/
LOCATION:Kraftshofer Bund e.V.\, Kraftshof\, Bayern\, 90427\, DEU
CATEGORIES:"Kärwa,Mittelfranken,Nürnberg
GEO:49.5082512;11.0479698
END:VEVENT
BEGIN:VEVENT
DTSTART;VALUE=DATE:20260918
DTEND;VALUE=DATE:20260922
DTSTAMP:20260422T032040
CREATED:20260409T160749Z
LAST-MODIFIED:20260411T180049Z
UID:10003195-1789689600-1790035199@fraenkische-kirchweih.de
SUMMARY:Kerwa Verein Renner
DESCRIPTION:
URL:https://fraenkische-kirchweih.de/kalendereintrag/kerwa-verein-renner/
LOCATION:Verein Renner Möhrendorf\, Möhrendorf\, Bayern\, 91096\, DEU
CATEGORIES:"Kerwa,Erlangen-Höchstadt,Mittelfranken
GEO:49.6396455;11.0036623
END:VEVENT
BEGIN:VEVENT
DTSTART;VALUE=DATE:20260918
DTEND;VALUE=DATE:20260922
DTSTAMP:20260422T032040
CREATED:20260411T180105Z
LAST-MODIFIED:20260411T180105Z
UID:10003250-1789689600-1790035199@fraenkische-kirchweih.de
SUMMARY:Kerwa Unternesselbach
DESCRIPTION:
URL:https://fraenkische-kirchweih.de/kalendereintrag/kerwa-unternesselbach/
LOCATION:Ortsvereine Unternesselbach\, Unternesselbach\, Bayern\, 91413\, DEU
CATEGORIES:"Kerwa,Mittelfranken,Neustadt an der Aisch-Bad Windsheim
GEO:49.581188;10.5118052
END:VEVENT
BEGIN:VEVENT
DTSTART;VALUE=DATE:20260918
DTEND;VALUE=DATE:20260923
DTSTAMP:20260422T032040
CREATED:20260411T180104Z
LAST-MODIFIED:20260411T180104Z
UID:10003249-1789689600-1790121599@fraenkische-kirchweih.de
SUMMARY:Bernermer Kerwa
DESCRIPTION:
URL:https://fraenkische-kirchweih.de/kalendereintrag/bernermer-kerwa/
LOCATION:Kerwaburschen und -madli Burgbernheim\, Burgbernheim\, Bayern\, 91593\, DEU
CATEGORIES:"Kerwa,Mittelfranken,Neustadt an der Aisch-Bad Windsheim
GEO:49.451389;10.324047
END:VEVENT
BEGIN:VEVENT
DTSTART;VALUE=DATE:20260919
DTEND;VALUE=DATE:20260921
DTSTAMP:20260422T032040
CREATED:20260131T145059Z
LAST-MODIFIED:20260131T145059Z
UID:10002762-1789776000-1789948799@fraenkische-kirchweih.de
SUMMARY:Ampferbacher Kerwa
DESCRIPTION:
URL:https://fraenkische-kirchweih.de/kalendereintrag/ampferbacher-kerwa-5/
LOCATION:Kerwasburschen und -Madla Ampferbach\, Ampferbach\, Bayern\, 96138\, DEU
CATEGORIES:"Kerwa,Bamberg,Oberfranken
GEO:49.8451058;10.7291312
END:VEVENT
BEGIN:VEVENT
DTSTART;VALUE=DATE:20260920
DTEND;VALUE=DATE:20260921
DTSTAMP:20260422T032040
CREATED:20260131T140924Z
LAST-MODIFIED:20260409T151926Z
UID:10002515-1789862400-1789948799@fraenkische-kirchweih.de
SUMMARY:Kerwa Unterrimbach
DESCRIPTION:
URL:https://fraenkische-kirchweih.de/kalendereintrag/kerwa-unterrimbach-5/
LOCATION:Ortsvereine Unterrimbach\, Unterrimbach\, Bayern\, 96152\, DEU
CATEGORIES:"Kerwa,Mittelfranken,Neustadt an der Aisch-Bad Windsheim
GEO:49.7308557;10.563583
END:VEVENT
BEGIN:VEVENT
DTSTART;VALUE=DATE:20260923
DTEND;VALUE=DATE:20260929
DTSTAMP:20260422T032040
CREATED:20260131T141714Z
LAST-MODIFIED:20260411T180106Z
UID:10002632-1790121600-1790639999@fraenkische-kirchweih.de
SUMMARY:Brieschder Kerwa
DESCRIPTION:
URL:https://fraenkische-kirchweih.de/kalendereintrag/brieschder-kerwa/
LOCATION:Heimatverein Brunst e.V.\, Brunst\, Bayern\, 91578\, DEU
CATEGORIES:"Kerwa,Ansbach,Mittelfranken
GEO:49.2696648;10.3400821
END:VEVENT
END:VCALENDAR