BEGIN:VCALENDAR
VERSION:2.0
PRODID:-//Fränkische Kirchweih - ECPv6.15.17.1//NONSGML v1.0//EN
CALSCALE:GREGORIAN
METHOD:PUBLISH
X-ORIGINAL-URL:https://fraenkische-kirchweih.de
X-WR-CALDESC:Veranstaltungen für Fränkische Kirchweih
REFRESH-INTERVAL;VALUE=DURATION:PT1H
X-Robots-Tag:noindex
X-PUBLISHED-TTL:PT1H
BEGIN:VTIMEZONE
TZID:Europe/Berlin
BEGIN:DAYLIGHT
TZOFFSETFROM:+0100
TZOFFSETTO:+0200
TZNAME:CEST
DTSTART:20250330T010000
END:DAYLIGHT
BEGIN:STANDARD
TZOFFSETFROM:+0200
TZOFFSETTO:+0100
TZNAME:CET
DTSTART:20251026T010000
END:STANDARD
BEGIN:DAYLIGHT
TZOFFSETFROM:+0100
TZOFFSETTO:+0200
TZNAME:CEST
DTSTART:20260329T010000
END:DAYLIGHT
BEGIN:STANDARD
TZOFFSETFROM:+0200
TZOFFSETTO:+0100
TZNAME:CET
DTSTART:20261025T010000
END:STANDARD
BEGIN:DAYLIGHT
TZOFFSETFROM:+0100
TZOFFSETTO:+0200
TZNAME:CEST
DTSTART:20270328T010000
END:DAYLIGHT
BEGIN:STANDARD
TZOFFSETFROM:+0200
TZOFFSETTO:+0100
TZNAME:CET
DTSTART:20271031T010000
END:STANDARD
END:VTIMEZONE
BEGIN:VEVENT
DTSTART;VALUE=DATE:20260724
DTEND;VALUE=DATE:20260728
DTSTAMP:20260422T020346
CREATED:20260131T141241Z
LAST-MODIFIED:20260411T175301Z
UID:10002568-1784851200-1785196799@fraenkische-kirchweih.de
SUMMARY:Kirwa Siegersdorf
DESCRIPTION:
URL:https://fraenkische-kirchweih.de/kalendereintrag/kirwa-siegersdorf-5/
LOCATION:Ortsvereine Siegersdorf\, Siegersdorf\, Bayern\, 91220\, DEU
CATEGORIES:"Kirwa,Mittelfranken,Nürnberger Land
GEO:49.5531601;11.3758127
END:VEVENT
BEGIN:VEVENT
DTSTART;VALUE=DATE:20260724
DTEND;VALUE=DATE:20260728
DTSTAMP:20260422T020346
CREATED:20260131T141401Z
LAST-MODIFIED:20260411T175302Z
UID:10002599-1784851200-1785196799@fraenkische-kirchweih.de
SUMMARY:Muhrer St. Johannis Kerwa
DESCRIPTION:
URL:https://fraenkische-kirchweih.de/kalendereintrag/muhrer-st-johannis-kerwa/
LOCATION:Ortsvereine Muhr\, Muhr am See\, Bayern\, 91735\, DEU
CATEGORIES:"Kerwa,Mittelfranken,Weißenburg-Gunzenhausen
GEO:49.1554104;10.7112472
END:VEVENT
BEGIN:VEVENT
DTSTART;VALUE=DATE:20260724
DTEND;VALUE=DATE:20260728
DTSTAMP:20260422T020346
CREATED:20260131T141549Z
LAST-MODIFIED:20260411T175303Z
UID:10002618-1784851200-1785196799@fraenkische-kirchweih.de
SUMMARY:Kärwa Dietenhofen
DESCRIPTION:
URL:https://fraenkische-kirchweih.de/kalendereintrag/kaerwa-dietenhofen/
LOCATION:Ortsburschen Dietenhofen\, Dietenhofen\, Bayern\, 90599\, DEU
CATEGORIES:"Kärwa,Ansbach,Mittelfranken
GEO:49.4117172;10.6825213
END:VEVENT
BEGIN:VEVENT
DTSTART;VALUE=DATE:20260724
DTEND;VALUE=DATE:20260728
DTSTAMP:20260422T020346
CREATED:20260131T141739Z
LAST-MODIFIED:20260411T175303Z
UID:10002643-1784851200-1785196799@fraenkische-kirchweih.de
SUMMARY:Kerwa Mitteldachstetten
DESCRIPTION:
URL:https://fraenkische-kirchweih.de/kalendereintrag/kerwa-mitteldachstetten/
LOCATION:Kerwaverein Mitteldachstetten\, Mitteldachstetten\, Bayern\, 91617\, DEU
CATEGORIES:"Kerwa,Ansbach,Mittelfranken
GEO:49.4026017;10.4646072
END:VEVENT
BEGIN:VEVENT
DTSTART;VALUE=DATE:20260724
DTEND;VALUE=DATE:20260728
DTSTAMP:20260422T020346
CREATED:20260131T141940Z
LAST-MODIFIED:20260411T175316Z
UID:10002649-1784851200-1785196799@fraenkische-kirchweih.de
SUMMARY:Kirchweih Weihenzell
DESCRIPTION:
URL:https://fraenkische-kirchweih.de/kalendereintrag/kirchweih-weihenzell/
LOCATION:Landjugend Weihenzell\, Weihenzell\, Bayern\, 91629\, DEU
CATEGORIES:"Kerwa,Ansbach,Mittelfranken
GEO:49.3555791;10.6281722
END:VEVENT
BEGIN:VEVENT
DTSTART;VALUE=DATE:20260724
DTEND;VALUE=DATE:20260728
DTSTAMP:20260422T020346
CREATED:20260131T142342Z
LAST-MODIFIED:20260411T175317Z
UID:10002669-1784851200-1785196799@fraenkische-kirchweih.de
SUMMARY:Kirchweih Büchenbach
DESCRIPTION:
URL:https://fraenkische-kirchweih.de/kalendereintrag/kirchweih-buechenbach/
LOCATION:Büchenbacher Kärwaboum und Madli\, Büchenbach\, Bayern\, 91186\, DEU
CATEGORIES:"Kärwa,Mittelfranken,Roth
GEO:49.2644268;11.0533138
END:VEVENT
BEGIN:VEVENT
DTSTART;VALUE=DATE:20260724
DTEND;VALUE=DATE:20260728
DTSTAMP:20260422T020346
CREATED:20260131T142408Z
LAST-MODIFIED:20260411T175318Z
UID:10002684-1784851200-1785196799@fraenkische-kirchweih.de
SUMMARY:Leuzdorfer Kärwa
DESCRIPTION:
URL:https://fraenkische-kirchweih.de/kalendereintrag/leuzdorfer-kaerwa/
LOCATION:Leuzdorfer Kärwaboumundmadli\, Leuzdorf\, Bayern\, 91189\, DEU
CATEGORIES:"Kärwa,Mittelfranken,Roth
GEO:49.3417025;10.9245623
END:VEVENT
BEGIN:VEVENT
DTSTART;VALUE=DATE:20260724
DTEND;VALUE=DATE:20260728
DTSTAMP:20260422T020346
CREATED:20260131T144752Z
LAST-MODIFIED:20260131T144752Z
UID:10002725-1784851200-1785196799@fraenkische-kirchweih.de
SUMMARY:Königsfelder Kirchweih
DESCRIPTION:
URL:https://fraenkische-kirchweih.de/kalendereintrag/koenigsfelder-kirchweih-5/
LOCATION:Ortsvereine Kirchfeld\, Königsfeld\, Bayern\, 96167\, DEU
CATEGORIES:"Kirchweih,Bamberg,Oberfranken
GEO:49.9443284;11.1633444
END:VEVENT
BEGIN:VEVENT
DTSTART;VALUE=DATE:20260724
DTEND;VALUE=DATE:20260728
DTSTAMP:20260422T020346
CREATED:20260131T144755Z
LAST-MODIFIED:20260131T144755Z
UID:10002728-1784851200-1785196799@fraenkische-kirchweih.de
SUMMARY:Winnämer Kerwa
DESCRIPTION:
URL:https://fraenkische-kirchweih.de/kalendereintrag/winnaemer-kerwa-5/
LOCATION:Kirchweihburschen und -madli Burgwindheim e.V.\, Burgwindheim\, Bayern\, 96154\, DEU
CATEGORIES:"Kerwa,Bamberg,Oberfranken
GEO:49.8273436;10.5981386
END:VEVENT
BEGIN:VEVENT
DTSTART;VALUE=DATE:20260724
DTEND;VALUE=DATE:20260728
DTSTAMP:20260422T020346
CREATED:20260131T144756Z
LAST-MODIFIED:20260131T144756Z
UID:10002729-1784851200-1785196799@fraenkische-kirchweih.de
SUMMARY:Steppacher Kärwa
DESCRIPTION:
URL:https://fraenkische-kirchweih.de/kalendereintrag/steppacher-kaerwa-5/
LOCATION:Steppacher Kärwasburschen e.V.\, Steppach\, Bayern\, 96178\, DEU
CATEGORIES:"Kärwa,Bamberg,Oberfranken
GEO:49.7725774;10.8060073
END:VEVENT
BEGIN:VEVENT
DTSTART;VALUE=DATE:20260724
DTEND;VALUE=DATE:20260728
DTSTAMP:20260422T020346
CREATED:20260131T151425Z
LAST-MODIFIED:20260131T151425Z
UID:10002837-1784851200-1785196799@fraenkische-kirchweih.de
SUMMARY:Kirwa Köstlbach
DESCRIPTION:
URL:https://fraenkische-kirchweih.de/kalendereintrag/kirwa-koestlbach-5/
LOCATION:Burschenverein Köstlbach-Heng e.V.\, Köstlbach-Heng\, Bayern\, 92353\, DEU
CATEGORIES:"Kirwa,Neumarkt in der Oberpfalz,Oberpfalz
GEO:49.2879012;11.3649708
END:VEVENT
BEGIN:VEVENT
DTSTART;VALUE=DATE:20260724
DTEND;VALUE=DATE:20260728
DTSTAMP:20260422T020346
CREATED:20260131T151738Z
LAST-MODIFIED:20260131T151738Z
UID:10002859-1784851200-1785196799@fraenkische-kirchweih.de
SUMMARY:Kirwa Lauterhofen
DESCRIPTION:
URL:https://fraenkische-kirchweih.de/kalendereintrag/kirwa-lauterhofen-5/
LOCATION:Kirwagemeinschaft Lauterhofen\, Lauterhofen\, Bayern\, 92283\, DEU
CATEGORIES:"Kirwa,Neumarkt in der Oberpfalz,Oberpfalz
GEO:49.3689215;11.605853
END:VEVENT
BEGIN:VEVENT
DTSTART;VALUE=DATE:20260724
DTEND;VALUE=DATE:20260728
DTSTAMP:20260422T020346
CREATED:20260304T172904Z
LAST-MODIFIED:20260411T175318Z
UID:10003117-1784851200-1785196799@fraenkische-kirchweih.de
SUMMARY:Artelshiefer Kirwa
DESCRIPTION:
URL:https://fraenkische-kirchweih.de/kalendereintrag/artelshiefer-kirwa/
LOCATION:Kirwa Artelshofen\, Artelshofen\, Bayern\, 91247\, DEU
CATEGORIES:"Kirwa,Mittelfranken,Nürnberger Land
GEO:49.5735421;11.4946629
END:VEVENT
BEGIN:VEVENT
DTSTART;VALUE=DATE:20260724
DTEND;VALUE=DATE:20260730
DTSTAMP:20260422T020346
CREATED:20260131T140652Z
LAST-MODIFIED:20260411T175247Z
UID:10002462-1784851200-1785369599@fraenkische-kirchweih.de
SUMMARY:Brunner Kirchweih
DESCRIPTION:
URL:https://fraenkische-kirchweih.de/kalendereintrag/brunner-kirchweih-5/
LOCATION:Bürgerverein Nürnberg-Brunn e.V.\, Brunn\, Bayern\, 90475\, DEU
CATEGORIES:"Kirwa,Mittelfranken,Nürnberg
GEO:49.43574;11.25143
END:VEVENT
BEGIN:VEVENT
DTSTART;VALUE=DATE:20260724
DTEND;VALUE=DATE:20260803
DTSTAMP:20260422T020346
CREATED:20260131T140635Z
LAST-MODIFIED:20260411T175233Z
UID:10002457-1784851200-1785715199@fraenkische-kirchweih.de
SUMMARY:Ziegelsteiner Kirchweih
DESCRIPTION:
URL:https://fraenkische-kirchweih.de/kalendereintrag/ziegelsteiner-kirchweih-5/
LOCATION:Ziegelsteiner Brauchtumsverein (ZBV) e.V.\, Ziegelstein\, Bayern\, 90411\, DEU
CATEGORIES:"Kirchweih,Mittelfranken,Nürnberg
GEO:49.4864086;11.11406
END:VEVENT
BEGIN:VEVENT
DTSTART;VALUE=DATE:20260725
DTEND;VALUE=DATE:20260727
DTSTAMP:20260422T020346
CREATED:20260411T175332Z
LAST-MODIFIED:20260411T175332Z
UID:10003224-1784937600-1785110399@fraenkische-kirchweih.de
SUMMARY:Altmannshäuser Kirchweih
DESCRIPTION:
URL:https://fraenkische-kirchweih.de/kalendereintrag/altmannshaeuser-kirchweih/
LOCATION:Dorfjugend Altmannshausen\, Altmannshausen\, Bayern\, 91477\, DEU
CATEGORIES:"Kerwa,Mittelfranken,Neustadt an der Aisch-Bad Windsheim
GEO:49.6641879;10.4018385
END:VEVENT
BEGIN:VEVENT
DTSTART;VALUE=DATE:20260725
DTEND;VALUE=DATE:20260728
DTSTAMP:20260422T020346
CREATED:20260131T144754Z
LAST-MODIFIED:20260131T144754Z
UID:10002726-1784937600-1785196799@fraenkische-kirchweih.de
SUMMARY:Spieser Kirwa
DESCRIPTION:
URL:https://fraenkische-kirchweih.de/kalendereintrag/spieser-kirwa-5/
LOCATION:Spieser Kirwaboum und -madla e.V.\, Spies\, Bayern\, 91282\, DEU
CATEGORIES:"Kirwa,Bayreuth,Oberfranken
GEO:49.6368058;11.4009526
END:VEVENT
BEGIN:VEVENT
DTSTART;VALUE=DATE:20260725
DTEND;VALUE=DATE:20260728
DTSTAMP:20260422T020346
CREATED:20260131T144754Z
LAST-MODIFIED:20260131T144754Z
UID:10002727-1784937600-1785196799@fraenkische-kirchweih.de
SUMMARY:Bronner Kirwa
DESCRIPTION:
URL:https://fraenkische-kirchweih.de/kalendereintrag/bronner-kirwa-5/
LOCATION:Dorfjugend Bronn e. V.\, Bronn\, Bayern\, 91257\, DEU
CATEGORIES:"Kirwa,Bayreuth,Oberfranken
GEO:49.7274713;11.4639035
END:VEVENT
BEGIN:VEVENT
DTSTART;VALUE=DATE:20260725
DTEND;VALUE=DATE:20260728
DTSTAMP:20260422T020346
CREATED:20260131T151357Z
LAST-MODIFIED:20260131T151357Z
UID:10002817-1784937600-1785196799@fraenkische-kirchweih.de
SUMMARY:Kirwa Niederärndt
DESCRIPTION:
URL:https://fraenkische-kirchweih.de/kalendereintrag/kirwa-niederaerndt-5/
LOCATION:Ortsvereine Niederärndt\, Niederärndt\, Bayern\, 92265\, DEU
CATEGORIES:"Kirwa,Amberg-Sulzbach,Oberpfalz
GEO:49.588531;11.6908331
END:VEVENT
BEGIN:VEVENT
DTSTART;VALUE=DATE:20260725
DTEND;VALUE=DATE:20260728
DTSTAMP:20260422T020346
CREATED:20260131T151401Z
LAST-MODIFIED:20260131T151401Z
UID:10002823-1784937600-1785196799@fraenkische-kirchweih.de
SUMMARY:Sorghofer Kirwa
DESCRIPTION:
URL:https://fraenkische-kirchweih.de/kalendereintrag/sorghofer-kirwa-5/
LOCATION:Kirwagemeinschaft Sorghof e.V.\, Sorghof\, Bayern\, 92249\, DEU
CATEGORIES:"Kirwa,Amberg-Sulzbach,Oberpfalz
GEO:49.6258984;11.7768371
END:VEVENT
BEGIN:VEVENT
DTSTART;VALUE=DATE:20260725
DTEND;VALUE=DATE:20260728
DTSTAMP:20260422T020346
CREATED:20260131T151411Z
LAST-MODIFIED:20260131T151411Z
UID:10002828-1784937600-1785196799@fraenkische-kirchweih.de
SUMMARY:Kirwa Sindlbach
DESCRIPTION:
URL:https://fraenkische-kirchweih.de/kalendereintrag/kirwa-sindlbach-5/
LOCATION:Sidlbecker Burschen e. V.\, Sindlbach\, Bayern\, 92348\, DEU
CATEGORIES:"Kirwa,Neumarkt in der Oberpfalz,Oberpfalz
GEO:49.3643046;11.4586648
END:VEVENT
BEGIN:VEVENT
DTSTART;VALUE=DATE:20260725
DTEND;VALUE=DATE:20260728
DTSTAMP:20260422T020346
CREATED:20260131T151743Z
LAST-MODIFIED:20260131T151743Z
UID:10002864-1784937600-1785196799@fraenkische-kirchweih.de
SUMMARY:Jakobi-Kirchweih Oberbuchfeld
DESCRIPTION:
URL:https://fraenkische-kirchweih.de/kalendereintrag/jakobi-kirchweih-oberbuchfeld-5/
LOCATION:Ortsvereine Oberbuchfeld\, Oberbuchfeld\, Bayern\, 92364\, DEU
CATEGORIES:"Kirwa,Neumarkt in der Oberpfalz,Oberpfalz
GEO:49.2512129;11.5580856
END:VEVENT
BEGIN:VEVENT
DTSTART;VALUE=DATE:20260730
DTEND;VALUE=DATE:20260803
DTSTAMP:20260422T020346
CREATED:20260131T140701Z
LAST-MODIFIED:20260411T175333Z
UID:10002468-1785369600-1785715199@fraenkische-kirchweih.de
SUMMARY:Kärwa in Limbach
DESCRIPTION:
URL:https://fraenkische-kirchweih.de/kalendereintrag/kaerwa-in-limbach-5/
LOCATION:Kirchweihbuben Limbach\, Limbach\, Bayern\, 91126\, DEU
CATEGORIES:"Kärwa,Mittelfranken,Schwabach
GEO:49.3373826;11.0465189
END:VEVENT
BEGIN:VEVENT
DTSTART;VALUE=DATE:20260730
DTEND;VALUE=DATE:20260803
DTSTAMP:20260422T020346
CREATED:20260131T144811Z
LAST-MODIFIED:20260131T144811Z
UID:10002732-1785369600-1785715199@fraenkische-kirchweih.de
SUMMARY:Burschenkera Dormitz
DESCRIPTION:
URL:https://fraenkische-kirchweih.de/kalendereintrag/burschenkera-dormitz-5/
LOCATION:Burschen Dormitz\, Dormitz\, Bayern\, 91077\, DEU
CATEGORIES:"Kerwa,Forchheim,Oberfranken
GEO:49.5968703;11.1185255
END:VEVENT
BEGIN:VEVENT
DTSTART;VALUE=DATE:20260730
DTEND;VALUE=DATE:20260803
DTSTAMP:20260422T020346
CREATED:20260131T153813Z
LAST-MODIFIED:20260131T153813Z
UID:10002905-1785369600-1785715199@fraenkische-kirchweih.de
SUMMARY:Kirmes Zeilfeld
DESCRIPTION:
URL:https://fraenkische-kirchweih.de/kalendereintrag/kirmes-zeilfeld-5/
LOCATION:Heimatförderverein Zeilfeld e.V.\, Zeilfeld\, Thüringen\, 98630\, DEU
CATEGORIES:"Kirmes,Hildburghausen,Werra-Main-Franken
GEO:50.4145706;10.6311935
END:VEVENT
BEGIN:VEVENT
DTSTART;VALUE=DATE:20260730
DTEND;VALUE=DATE:20260803
DTSTAMP:20260422T020346
CREATED:20260131T154641Z
LAST-MODIFIED:20260131T154641Z
UID:10003000-1785369600-1785715199@fraenkische-kirchweih.de
SUMMARY:Heubischer Kirmes
DESCRIPTION:
URL:https://fraenkische-kirchweih.de/kalendereintrag/heubischer-kirmes-5/
LOCATION:Ortsvereine Heubisch\, Heubisch\, Thüringen\, 96524\, DEU
CATEGORIES:"Kirmes,Sonneberg,Werra-Main-Franken
GEO:50.3091207;11.1527276
END:VEVENT
BEGIN:VEVENT
DTSTART;VALUE=DATE:20260730
DTEND;VALUE=DATE:20260803
DTSTAMP:20260422T020346
CREATED:20260131T160047Z
LAST-MODIFIED:20260131T160047Z
UID:10003093-1785369600-1785715199@fraenkische-kirchweih.de
SUMMARY:Zeltkirmes in Wiesenthal
DESCRIPTION:
URL:https://fraenkische-kirchweih.de/kalendereintrag/zeltkirmes-in-wiesenthal-5/
LOCATION:Kirmesverein Wiesenthal e.V.\, Wiesenthal\, Thüringen\, 36466\, DEU
CATEGORIES:"Kirmes,Wartburgkreis,Werra-Main-Franken
GEO:50.7144684;10.1190749
END:VEVENT
BEGIN:VEVENT
DTSTART;VALUE=DATE:20260730
DTEND;VALUE=DATE:20260804
DTSTAMP:20260422T020347
CREATED:20260131T154641Z
LAST-MODIFIED:20260131T154641Z
UID:10003001-1785369600-1785801599@fraenkische-kirchweih.de
SUMMARY:Jedschuffer Kerwa
DESCRIPTION:
URL:https://fraenkische-kirchweih.de/kalendereintrag/jedschuffer-kerwa-5/
LOCATION:Ortsvereine Jagdshof und Mönchsberg\, Jagdshof\, Thüringen\, 96515\, DEU
CATEGORIES:"Kerwa,Sonneberg,Werra-Main-Franken
GEO:50.3707581;11.2408332
END:VEVENT
BEGIN:VEVENT
DTSTART;VALUE=DATE:20260730
DTEND;VALUE=DATE:20260804
DTSTAMP:20260422T020347
CREATED:20260131T154645Z
LAST-MODIFIED:20260131T154645Z
UID:10003005-1785369600-1785801599@fraenkische-kirchweih.de
SUMMARY:Kerwa Neuenbau
DESCRIPTION:
URL:https://fraenkische-kirchweih.de/kalendereintrag/kerwa-neuenbau-5/
LOCATION:Ortsvereine Neuenbau\, Neuenbau\, Thüringen\, 96515\, DEU
CATEGORIES:"Kerwa,Sonneberg,Werra-Main-Franken
GEO:50.4355196;11.2388173
END:VEVENT
BEGIN:VEVENT
DTSTART;VALUE=DATE:20260730
DTEND;VALUE=DATE:20260804
DTSTAMP:20260422T020347
CREATED:20260222T162211Z
LAST-MODIFIED:20260411T175333Z
UID:10003109-1785369600-1785801599@fraenkische-kirchweih.de
SUMMARY:Bullacher Kirwa
DESCRIPTION:
URL:https://fraenkische-kirchweih.de/kalendereintrag/bullacher-kirwa/
LOCATION:Kirwaboum Bullach e.V.\, Bullach\, Bayern\, 91207\, DEU
CATEGORIES:"Kirwa,Mittelfranken,Nürnberger Land
GEO:49.5694342;11.2567699
END:VEVENT
END:VCALENDAR