BEGIN:VCALENDAR
VERSION:2.0
PRODID:-//Fränkische Kirchweih - ECPv6.15.17.1//NONSGML v1.0//EN
CALSCALE:GREGORIAN
METHOD:PUBLISH
X-ORIGINAL-URL:https://fraenkische-kirchweih.de
X-WR-CALDESC:Veranstaltungen für Fränkische Kirchweih
REFRESH-INTERVAL;VALUE=DURATION:PT1H
X-Robots-Tag:noindex
X-PUBLISHED-TTL:PT1H
BEGIN:VTIMEZONE
TZID:Europe/Berlin
BEGIN:DAYLIGHT
TZOFFSETFROM:+0100
TZOFFSETTO:+0200
TZNAME:CEST
DTSTART:20250330T010000
END:DAYLIGHT
BEGIN:STANDARD
TZOFFSETFROM:+0200
TZOFFSETTO:+0100
TZNAME:CET
DTSTART:20251026T010000
END:STANDARD
BEGIN:DAYLIGHT
TZOFFSETFROM:+0100
TZOFFSETTO:+0200
TZNAME:CEST
DTSTART:20260329T010000
END:DAYLIGHT
BEGIN:STANDARD
TZOFFSETFROM:+0200
TZOFFSETTO:+0100
TZNAME:CET
DTSTART:20261025T010000
END:STANDARD
BEGIN:DAYLIGHT
TZOFFSETFROM:+0100
TZOFFSETTO:+0200
TZNAME:CEST
DTSTART:20270328T010000
END:DAYLIGHT
BEGIN:STANDARD
TZOFFSETFROM:+0200
TZOFFSETTO:+0100
TZNAME:CET
DTSTART:20271031T010000
END:STANDARD
END:VTIMEZONE
BEGIN:VEVENT
DTSTART;VALUE=DATE:20260703
DTEND;VALUE=DATE:20260706
DTSTAMP:20260421T230711
CREATED:20260131T140417Z
LAST-MODIFIED:20260411T174913Z
UID:10002437-1783036800-1783295999@fraenkische-kirchweih.de
SUMMARY:Kirwa Kirchensittenbach
DESCRIPTION:
URL:https://fraenkische-kirchweih.de/kalendereintrag/kirwa-kirchensittenbach-4/
LOCATION:Ortsvereine Kirchensittenbach\, Kirchensittenbach\, Bayern\, 91241\, DEU
CATEGORIES:"Kirwa,Mittelfranken,Nürnberger Land
GEO:49.5559912;11.4219088
END:VEVENT
BEGIN:VEVENT
DTSTART;VALUE=DATE:20260703
DTEND;VALUE=DATE:20260706
DTSTAMP:20260421T230711
CREATED:20260131T154640Z
LAST-MODIFIED:20260131T154640Z
UID:10002999-1783036800-1783295999@fraenkische-kirchweih.de
SUMMARY:Kirchweih Heinersdorf
DESCRIPTION:
URL:https://fraenkische-kirchweih.de/kalendereintrag/kirchweih-heinersdorf-5/
LOCATION:Ortsvereine Heinersdorf\, Heinersdorf\, Thüringen\, 96515\, DEU
CATEGORIES:"Kichweih,Sonneberg,Werra-Main-Franken
GEO:50.3597877;11.2761711
END:VEVENT
BEGIN:VEVENT
DTSTART;VALUE=DATE:20260703
DTEND;VALUE=DATE:20260706
DTSTAMP:20260421T230711
CREATED:20260131T154715Z
LAST-MODIFIED:20260131T154715Z
UID:10003014-1783036800-1783295999@fraenkische-kirchweih.de
SUMMARY:Kerwa Rückerswind
DESCRIPTION:
URL:https://fraenkische-kirchweih.de/kalendereintrag/kerwa-rueckerswind-5/
LOCATION:Ortsvereine Rückerswind\, Rückerswind\, Thüringen\, 96528\, DEU
CATEGORIES:"Kerwa,Sonneberg,Werra-Main-Franken
GEO:50.3535839;11.057247
END:VEVENT
BEGIN:VEVENT
DTSTART;VALUE=DATE:20260703
DTEND;VALUE=DATE:20260707
DTSTAMP:20260421T230711
CREATED:20260131T140325Z
LAST-MODIFIED:20260411T174859Z
UID:10002432-1783036800-1783382399@fraenkische-kirchweih.de
SUMMARY:Obermichelbacher Kärwa
DESCRIPTION:
URL:https://fraenkische-kirchweih.de/kalendereintrag/obermichelbacher-kaerwa-5/
LOCATION:Kärwaburschen und Madli Obermichelbach e.V.\, Obermichelbach\, Bayern\, 90587\, DEU
CATEGORIES:"Kärwa,Fürth,Mittelfranken
GEO:49.511351;10.8893324
END:VEVENT
BEGIN:VEVENT
DTSTART;VALUE=DATE:20260703
DTEND;VALUE=DATE:20260707
DTSTAMP:20260421T230711
CREATED:20260131T140416Z
LAST-MODIFIED:20260411T174912Z
UID:10002435-1783036800-1783382399@fraenkische-kirchweih.de
SUMMARY:Kleinreuther Kärwa
DESCRIPTION:
URL:https://fraenkische-kirchweih.de/kalendereintrag/kleinreuther-kaerwa-5/
LOCATION:Kärwaboum Kleinreuth\, Kleinreuth hinter der Veste\, Bayern\, 90425\, DEU
CATEGORIES:"Kärwa,Mittelfranken,Nürnberg
GEO:49.4767006;11.0735121
END:VEVENT
BEGIN:VEVENT
DTSTART;VALUE=DATE:20260703
DTEND;VALUE=DATE:20260707
DTSTAMP:20260421T230711
CREATED:20260131T140418Z
LAST-MODIFIED:20260411T174914Z
UID:10002439-1783036800-1783382399@fraenkische-kirchweih.de
SUMMARY:Kärwa Schwarzenbruck
DESCRIPTION:
URL:https://fraenkische-kirchweih.de/kalendereintrag/kaerwa-schwarzenbruck-5/
LOCATION:Kärwaverein Schwarzenbruck e.V.\, Schwarzenbruck\, Bayern\, 90592\, DEU
CATEGORIES:"Kärwa,Mittelfranken,Nürnberger Land
GEO:49.3400523;11.2694136
END:VEVENT
BEGIN:VEVENT
DTSTART;VALUE=DATE:20260703
DTEND;VALUE=DATE:20260707
DTSTAMP:20260421T230711
CREATED:20260131T140419Z
LAST-MODIFIED:20260411T174917Z
UID:10002440-1783036800-1783382399@fraenkische-kirchweih.de
SUMMARY:Dietersdorfer Kärwa
DESCRIPTION:
URL:https://fraenkische-kirchweih.de/kalendereintrag/dietersdorfer-kaerwa-5/
LOCATION:Kärwa Dietersdorf\, Dietersdorf\, Bayern\, 91126\, DEU
CATEGORIES:"Kärwa,Mittelfranken,Schwabach
GEO:49.3680387;11.0000316
END:VEVENT
BEGIN:VEVENT
DTSTART;VALUE=DATE:20260703
DTEND;VALUE=DATE:20260707
DTSTAMP:20260421T230711
CREATED:20260131T141119Z
LAST-MODIFIED:20260411T174917Z
UID:10002551-1783036800-1783382399@fraenkische-kirchweih.de
SUMMARY:Ellenbacher Kirwa
DESCRIPTION:
URL:https://fraenkische-kirchweih.de/kalendereintrag/ellenbacher-kirwa-5/
LOCATION:Ortsvereine Ellenbach\, Ellenbach\, Bayern\, 91217\, DEU
CATEGORIES:"Kirwa,Mittelfranken,Nürnberger Land
GEO:49.4897387;11.4431018
END:VEVENT
BEGIN:VEVENT
DTSTART;VALUE=DATE:20260703
DTEND;VALUE=DATE:20260707
DTSTAMP:20260421T230711
CREATED:20260131T141135Z
LAST-MODIFIED:20260411T174918Z
UID:10002557-1783036800-1783382399@fraenkische-kirchweih.de
SUMMARY:Houerstieder Kirwa 2019
DESCRIPTION:
URL:https://fraenkische-kirchweih.de/kalendereintrag/houerstieder-kirwa-2019-5/
LOCATION:Ortsvereine Hohenstadt\, Hohenstadt\, Bayern\, 91224\, DEU
CATEGORIES:"Kirwa,Mittelfranken,Nürnberger Land
GEO:49.5111819;11.4831299
END:VEVENT
BEGIN:VEVENT
DTSTART;VALUE=DATE:20260703
DTEND;VALUE=DATE:20260707
DTSTAMP:20260421T230711
CREATED:20260131T141349Z
LAST-MODIFIED:20260411T174919Z
UID:10002586-1783036800-1783382399@fraenkische-kirchweih.de
SUMMARY:Gersdorfer Kirwa
DESCRIPTION:
URL:https://fraenkische-kirchweih.de/kalendereintrag/gersdorfer-kirwa-2/
LOCATION:Kirwaboum Gersdorf\, Gersdorf\, Bayern\, 91227\, DEU
CATEGORIES:"Kirwa,Mittelfranken,Nürnberger Land
GEO:49.4563874;11.3479639
END:VEVENT
BEGIN:VEVENT
DTSTART;VALUE=DATE:20260703
DTEND;VALUE=DATE:20260707
DTSTAMP:20260421T230712
CREATED:20260131T141354Z
LAST-MODIFIED:20260411T174920Z
UID:10002591-1783036800-1783382399@fraenkische-kirchweih.de
SUMMARY:Kirchweih Bubenheim
DESCRIPTION:
URL:https://fraenkische-kirchweih.de/kalendereintrag/kirchweih-bubenheim/
LOCATION:Ortsvereine Bubenheim\, Bubenheim\, Bayern\, 91757\, DEU
CATEGORIES:"Kirchweih,Mittelfranken,Weißenburg-Gunzenhausen
GEO:48.9896792;10.8922484
END:VEVENT
BEGIN:VEVENT
DTSTART;VALUE=DATE:20260703
DTEND;VALUE=DATE:20260707
DTSTAMP:20260421T230712
CREATED:20260131T141357Z
LAST-MODIFIED:20260411T174929Z
UID:10002594-1783036800-1783382399@fraenkische-kirchweih.de
SUMMARY:Kirchweih Stirn
DESCRIPTION:
URL:https://fraenkische-kirchweih.de/kalendereintrag/kirchweih-stirn/
LOCATION:Ortsvereine Stirn\, Stirn\, Bayern\, 91785\, DEU
CATEGORIES:"Kirchweih,Mittelfranken,Weißenburg-Gunzenhausen
GEO:49.1434249;10.9777739
END:VEVENT
BEGIN:VEVENT
DTSTART;VALUE=DATE:20260703
DTEND;VALUE=DATE:20260707
DTSTAMP:20260421T230712
CREATED:20260131T142335Z
LAST-MODIFIED:20260411T174930Z
UID:10002660-1783036800-1783382399@fraenkische-kirchweih.de
SUMMARY:Kärwa Kammerstein
DESCRIPTION:
URL:https://fraenkische-kirchweih.de/kalendereintrag/kaerwa-kammerstein/
LOCATION:Kärwaboum und Madli Kammerstein\, Kammerstein\, Bayern\, 91126\, DEU
CATEGORIES:"Kärwa,Mittelfranken,Roth
GEO:49.2925671;10.9712182
END:VEVENT
BEGIN:VEVENT
DTSTART;VALUE=DATE:20260703
DTEND;VALUE=DATE:20260707
DTSTAMP:20260421T230712
CREATED:20260131T142416Z
LAST-MODIFIED:20260411T174931Z
UID:10002690-1783036800-1783382399@fraenkische-kirchweih.de
SUMMARY:Kerwa Landersdorf
DESCRIPTION:
URL:https://fraenkische-kirchweih.de/kalendereintrag/kerwa-landersdorf/
LOCATION:Landjugend Landersdorf\, Landersdorf\, Bayern\, 91177\, DEU
CATEGORIES:"Kerwa,Mittelfranken,Roth
GEO:49.0652159;11.2462502
END:VEVENT
BEGIN:VEVENT
DTSTART;VALUE=DATE:20260703
DTEND;VALUE=DATE:20260707
DTSTAMP:20260421T230712
CREATED:20260131T144604Z
LAST-MODIFIED:20260131T144604Z
UID:10002714-1783036800-1783382399@fraenkische-kirchweih.de
SUMMARY:Kerwa Kunreuth
DESCRIPTION:
URL:https://fraenkische-kirchweih.de/kalendereintrag/kerwa-kunreuth-5/
LOCATION:Ortsvereine Kunreuth\, Kunreuth\, Bayern\, 91358\, DEU
CATEGORIES:"Kerwa,Forchheim,Oberfranken
GEO:49.6823566;11.1443515
END:VEVENT
BEGIN:VEVENT
DTSTART;VALUE=DATE:20260703
DTEND;VALUE=DATE:20260707
DTSTAMP:20260421T230712
CREATED:20260131T144618Z
LAST-MODIFIED:20260131T144618Z
UID:10002716-1783036800-1783382399@fraenkische-kirchweih.de
SUMMARY:Pödeldorfer Kerwa
DESCRIPTION:
URL:https://fraenkische-kirchweih.de/kalendereintrag/poedeldorfer-kerwa-5/
LOCATION:Jugendblasorchester Pödeldorf e.V.\, Pödeldorf\, Bayern\, 96123\, DEU
CATEGORIES:"Kerwa,Bamberg,Oberfranken
GEO:49.9097726;10.9904637
END:VEVENT
BEGIN:VEVENT
DTSTART;VALUE=DATE:20260703
DTEND;VALUE=DATE:20260707
DTSTAMP:20260421T230712
CREATED:20260131T144619Z
LAST-MODIFIED:20260131T144619Z
UID:10002718-1783036800-1783382399@fraenkische-kirchweih.de
SUMMARY:Strullendorfer Kichweih
DESCRIPTION:
URL:https://fraenkische-kirchweih.de/kalendereintrag/strullendorfer-kichweih-5/
LOCATION:1. DC Paradiesvögel Strullendorf\, Strullendorf\, Bayern\, 96129\, DEU
CATEGORIES:"Kirchweih,Bamberg,Oberfranken
GEO:49.8603174;11.0129948
END:VEVENT
BEGIN:VEVENT
DTSTART;VALUE=DATE:20260703
DTEND;VALUE=DATE:20260707
DTSTAMP:20260421T230712
CREATED:20260131T144620Z
LAST-MODIFIED:20260131T144620Z
UID:10002719-1783036800-1783382399@fraenkische-kirchweih.de
SUMMARY:Kerwa Weißenohe
DESCRIPTION:
URL:https://fraenkische-kirchweih.de/kalendereintrag/kerwa-weissenohe-5/
LOCATION:Kerwaboum Weißenohe\, Weißenohe\, Bayern\, 91367\, DEU
CATEGORIES:"Kerwa,Forchheim,Oberfranken
GEO:49.6256573;11.2721921
END:VEVENT
BEGIN:VEVENT
DTSTART;VALUE=DATE:20260703
DTEND;VALUE=DATE:20260707
DTSTAMP:20260421T230712
CREATED:20260131T151444Z
LAST-MODIFIED:20260131T151444Z
UID:10002846-1783036800-1783382399@fraenkische-kirchweih.de
SUMMARY:Kirwa Haunritz
DESCRIPTION:
URL:https://fraenkische-kirchweih.de/kalendereintrag/kirwa-haunritz-5/
LOCATION:Ortsvereine Haunritz\, Haunritz\, Bayern\, 91249\, DEU
CATEGORIES:"Kirwa,Amberg-Sulzbach,Oberpfalz
GEO:49.4888027;11.5805157
END:VEVENT
BEGIN:VEVENT
DTSTART;VALUE=DATE:20260703
DTEND;VALUE=DATE:20260707
DTSTAMP:20260421T230712
CREATED:20260304T172910Z
LAST-MODIFIED:20260411T174932Z
UID:10003125-1783036800-1783382399@fraenkische-kirchweih.de
SUMMARY:Kleinreuther Kärwa bei Schweinau
DESCRIPTION:
URL:https://fraenkische-kirchweih.de/kalendereintrag/kleinreuther-kaerwa-bei-schweinau/
LOCATION:Kleinreuther Kärwaboum und -Madla\, Kleinreuth bei Schweinau\, Bayern\, 90431\, DEU
CATEGORIES:"Kärwa,Mittelfranken,Nürnberg
GEO:49.4767006;11.0735121
END:VEVENT
BEGIN:VEVENT
DTSTART;VALUE=DATE:20260703
DTEND;VALUE=DATE:20260707
DTSTAMP:20260421T230712
CREATED:20260304T172913Z
LAST-MODIFIED:20260411T174933Z
UID:10003130-1783036800-1783382399@fraenkische-kirchweih.de
SUMMARY:Wetzendorfer Kärwa
DESCRIPTION:
URL:https://fraenkische-kirchweih.de/kalendereintrag/wetzendorfer-kaerwa/
LOCATION:Bürgerverein Sankt Johannis – Schniegling – Wetzendorf e.V.\, Wetzendorf\, Bayern\, 90425\, DEU
CATEGORIES:"Kärwa,Mittelfranken,Nürnberg
GEO:49.4759663;11.0623632
END:VEVENT
BEGIN:VEVENT
DTSTART;VALUE=DATE:20260703
DTEND;VALUE=DATE:20260707
DTSTAMP:20260421T230712
CREATED:20260320T230636Z
LAST-MODIFIED:20260411T174946Z
UID:10003134-1783036800-1783382399@fraenkische-kirchweih.de
SUMMARY:Kärwa Ammerndorf
DESCRIPTION:
URL:https://fraenkische-kirchweih.de/kalendereintrag/kaerwa-ammerndorf/
LOCATION:TSV Ammerndorf\, Ammerndorf\, Bayern\, 90614\, DEU
CATEGORIES:"Kärwa,Fürth,Mittelfranken
GEO:49.4210933;10.8529109
END:VEVENT
BEGIN:VEVENT
DTSTART;VALUE=DATE:20260703
DTEND;VALUE=DATE:20260708
DTSTAMP:20260421T230712
CREATED:20260131T140417Z
LAST-MODIFIED:20260411T174912Z
UID:10002436-1783036800-1783468799@fraenkische-kirchweih.de
SUMMARY:Kornburger Kärwa
DESCRIPTION:
URL:https://fraenkische-kirchweih.de/kalendereintrag/kornburger-kaerwa-5/
LOCATION:Kornburger Kärwaboum und -madla\, Kornburg\, Bayern\, 90455\, DEU
CATEGORIES:"Kärwa,Mittelfranken,Nürnberg
GEO:49.3552331;11.1009393
END:VEVENT
BEGIN:VEVENT
DTSTART;VALUE=DATE:20260703
DTEND;VALUE=DATE:20260708
DTSTAMP:20260421T230712
CREATED:20260131T140418Z
LAST-MODIFIED:20260411T174913Z
UID:10002438-1783036800-1783468799@fraenkische-kirchweih.de
SUMMARY:Kundigundenfest Lauf an der Pegnitz
DESCRIPTION:
URL:https://fraenkische-kirchweih.de/kalendereintrag/kundigundenfest-lauf-an-der-pegnitz-5/
LOCATION:Ortsvereine Lauf an der Pegnitz\, Lauf an der Pegnitz\, Bayern\, 91207\, DEU
CATEGORIES:"Kirchweih,Mittelfranken,Nürnberger Land
GEO:49.5110483;11.2780245
END:VEVENT
BEGIN:VEVENT
DTSTART;VALUE=DATE:20260703
DTEND;VALUE=DATE:20260710
DTSTAMP:20260421T230712
CREATED:20260409T160150Z
LAST-MODIFIED:20260411T174947Z
UID:10003181-1783036800-1783641599@fraenkische-kirchweih.de
SUMMARY:Sommerkirchweih Herzogenaurach
DESCRIPTION:
URL:https://fraenkische-kirchweih.de/kalendereintrag/sommerkirchweih-herzogenaurach/
LOCATION:Kerwasburschen Herzogenaurach\, Herzogenaurach\, Bayern\, 91074\, DEU
CATEGORIES:"Kerwa,Erlangen-Höchstadt,Mittelfranken
GEO:49.5782416;10.8819032
END:VEVENT
BEGIN:VEVENT
DTSTART;VALUE=DATE:20260704
DTEND;VALUE=DATE:20260707
DTSTAMP:20260421T230712
CREATED:20260131T151417Z
LAST-MODIFIED:20260131T151417Z
UID:10002834-1783123200-1783382399@fraenkische-kirchweih.de
SUMMARY:Kirwa Pilsach
DESCRIPTION:
URL:https://fraenkische-kirchweih.de/kalendereintrag/kirwa-pilsach-5/
LOCATION:Ortsvereine Pilsach\, Pilsach\, Bayern\, 92367\, DEU
CATEGORIES:"Kirwa,Neumarkt in der Oberpfalz,Oberpfalz
GEO:49.3281395;11.5434782
END:VEVENT
BEGIN:VEVENT
DTSTART;VALUE=DATE:20260704
DTEND;VALUE=DATE:20260707
DTSTAMP:20260421T230712
CREATED:20260131T151429Z
LAST-MODIFIED:20260131T151429Z
UID:10002841-1783123200-1783382399@fraenkische-kirchweih.de
SUMMARY:Kirwa Berngau
DESCRIPTION:
URL:https://fraenkische-kirchweih.de/kalendereintrag/kirwa-berngau-5/
LOCATION:Kirwaverein Berngau e.V.\, Berngau\, Bayern\, 92361\, DEU
CATEGORIES:"Kirwa,Neumarkt in der Oberpfalz,Oberpfalz
GEO:49.2519696;11.3963587
END:VEVENT
BEGIN:VEVENT
DTSTART;VALUE=DATE:20260704
DTEND;VALUE=DATE:20260707
DTSTAMP:20260421T230712
CREATED:20260131T151814Z
LAST-MODIFIED:20260131T151814Z
UID:10002881-1783123200-1783382399@fraenkische-kirchweih.de
SUMMARY:Kirwa Wiesenacker
DESCRIPTION:
URL:https://fraenkische-kirchweih.de/kalendereintrag/kirwa-wiesenacker-4/
LOCATION:Ortsvereine Oberwiesenacker\, Oberwiesenacker\, Bayern\, 92355\, DEU
CATEGORIES:"Kirwa,Neumarkt in der Oberpfalz,Oberpfalz
GEO:49.2841339;11.6164417
END:VEVENT
BEGIN:VEVENT
DTSTART;VALUE=DATE:20260704
DTEND;VALUE=DATE:20260708
DTSTAMP:20260421T230712
CREATED:20260131T151331Z
LAST-MODIFIED:20260131T151331Z
UID:10002802-1783123200-1783468799@fraenkische-kirchweih.de
SUMMARY:Kiliani-Kirchweih Obertheres
DESCRIPTION:
URL:https://fraenkische-kirchweih.de/kalendereintrag/kiliani-kirchweih-obertheres-5/
LOCATION:Freiwillige Feuerwehr Obertheres\, Obertheres\, Bayern\, 97531\, DEU
CATEGORIES:"Kirchweih,Haßberge,Kirm,Unterfranken
GEO:50.0232513;10.4478964
END:VEVENT
BEGIN:VEVENT
DTSTART;VALUE=DATE:20260705
DTEND;VALUE=DATE:20260706
DTSTAMP:20260421T230712
CREATED:20260131T140416Z
LAST-MODIFIED:20260409T151544Z
UID:10002434-1783209600-1783295999@fraenkische-kirchweih.de
SUMMARY:Kerwa Niederndorf
DESCRIPTION:
URL:https://fraenkische-kirchweih.de/kalendereintrag/kerwa-niederndorf-5/
LOCATION:Ortsvereine Niederndorf\, Niederndorf\, Bayern\, 96152\, DEU
CATEGORIES:"Kerwa,Mittelfranken,Neustadt an der Aisch-Bad Windsheim
GEO:49.7322594;10.6183752
END:VEVENT
END:VCALENDAR