BEGIN:VCALENDAR
VERSION:2.0
PRODID:-//Fränkische Kirchweih - ECPv6.15.17.1//NONSGML v1.0//EN
CALSCALE:GREGORIAN
METHOD:PUBLISH
X-ORIGINAL-URL:https://fraenkische-kirchweih.de
X-WR-CALDESC:Veranstaltungen für Fränkische Kirchweih
REFRESH-INTERVAL;VALUE=DURATION:PT1H
X-Robots-Tag:noindex
X-PUBLISHED-TTL:PT1H
BEGIN:VTIMEZONE
TZID:Europe/Berlin
BEGIN:DAYLIGHT
TZOFFSETFROM:+0100
TZOFFSETTO:+0200
TZNAME:CEST
DTSTART:20250330T010000
END:DAYLIGHT
BEGIN:STANDARD
TZOFFSETFROM:+0200
TZOFFSETTO:+0100
TZNAME:CET
DTSTART:20251026T010000
END:STANDARD
BEGIN:DAYLIGHT
TZOFFSETFROM:+0100
TZOFFSETTO:+0200
TZNAME:CEST
DTSTART:20260329T010000
END:DAYLIGHT
BEGIN:STANDARD
TZOFFSETFROM:+0200
TZOFFSETTO:+0100
TZNAME:CET
DTSTART:20261025T010000
END:STANDARD
BEGIN:DAYLIGHT
TZOFFSETFROM:+0100
TZOFFSETTO:+0200
TZNAME:CEST
DTSTART:20270328T010000
END:DAYLIGHT
BEGIN:STANDARD
TZOFFSETFROM:+0200
TZOFFSETTO:+0100
TZNAME:CET
DTSTART:20271031T010000
END:STANDARD
END:VTIMEZONE
BEGIN:VEVENT
DTSTART;VALUE=DATE:20261101
DTEND;VALUE=DATE:20261102
DTSTAMP:20260421T172559
CREATED:20260131T135452Z
LAST-MODIFIED:20260131T135452Z
UID:10002409-1793491200-1793577599@fraenkische-kirchweih.de
SUMMARY:Kirmes Neuhof
DESCRIPTION:
URL:https://fraenkische-kirchweih.de/kalendereintrag/kirmes-neuhof-5/
LOCATION:Kirmesgesellschaft Neuhof\, Neuhof\, Hessen\, 36119\, DEU
CATEGORIES:"Kirmes,Fulda,Osthessen
GEO:50.4551262;9.6141854
END:VEVENT
BEGIN:VEVENT
DTSTART;VALUE=DATE:20261104
DTEND;VALUE=DATE:20261110
DTSTAMP:20260421T172559
CREATED:20260411T180403Z
LAST-MODIFIED:20260411T180403Z
UID:10003296-1793750400-1794268799@fraenkische-kirchweih.de
SUMMARY:Kerwa Marktbergel
DESCRIPTION:
URL:https://fraenkische-kirchweih.de/kalendereintrag/kerwa-marktbergel/
LOCATION:Kerwabuum Marktbergel e.V.\, Marktbergel\, Bayern\, 91613\, DEU
CATEGORIES:"Kerwa,Mittelfranken,Neustadt an der Aisch-Bad Windsheim
GEO:49.4405874;10.3626762
END:VEVENT
BEGIN:VEVENT
DTSTART;VALUE=DATE:20261104
DTEND;VALUE=DATE:20261110
DTSTAMP:20260421T172559
CREATED:20260411T180403Z
LAST-MODIFIED:20260411T180403Z
UID:10003297-1793750400-1794268799@fraenkische-kirchweih.de
SUMMARY:Kerwa Weigenheim
DESCRIPTION:
URL:https://fraenkische-kirchweih.de/kalendereintrag/kerwa-weigenheim/
LOCATION:BJB Weigenheim\, Weigenheim\, Bayern\, 97215\, DEU
CATEGORIES:"Kerwa,Mittelfranken,Neustadt an der Aisch-Bad Windsheim
GEO:49.5759659;10.2640087
END:VEVENT
BEGIN:VEVENT
DTSTART;VALUE=DATE:20261105
DTEND;VALUE=DATE:20261109
DTSTAMP:20260421T172559
CREATED:20260131T153806Z
LAST-MODIFIED:20260131T153806Z
UID:10002898-1793836800-1794182399@fraenkische-kirchweih.de
SUMMARY:Kirmes Gleichamberg
DESCRIPTION:
URL:https://fraenkische-kirchweih.de/kalendereintrag/kirmes-gleichamberg-5/
LOCATION:Kirmesgesellschaft Gleichamberg\, Gleichamberg\, Thüringen\, 98630\, DEU
CATEGORIES:"Kirmes,Hildburghausen,Werra-Main-Franken
GEO:50.3706572;10.6012434
END:VEVENT
BEGIN:VEVENT
DTSTART;VALUE=DATE:20261105
DTEND;VALUE=DATE:20261110
DTSTAMP:20260421T172559
CREATED:20260131T145429Z
LAST-MODIFIED:20260131T145429Z
UID:10002778-1793836800-1794268799@fraenkische-kirchweih.de
SUMMARY:Schlüsselfelder Martini-Kerwa
DESCRIPTION:
URL:https://fraenkische-kirchweih.de/kalendereintrag/schluesselfelder-martini-kerwa-5/
LOCATION:Kerwasburschen & Madli Schlüsselfeld\, Schlüsselfeld\, Bayern\, 96132\, DEU
CATEGORIES:"Kerwa,Bamberg,Oberfranken
GEO:49.7671541;10.6286769
END:VEVENT
BEGIN:VEVENT
DTSTART;VALUE=DATE:20261105
DTEND;VALUE=DATE:20261110
DTSTAMP:20260421T172559
CREATED:20260131T145430Z
LAST-MODIFIED:20260131T145430Z
UID:10002779-1793836800-1794268799@fraenkische-kirchweih.de
SUMMARY:Schnolwara Kerwa
DESCRIPTION:
URL:https://fraenkische-kirchweih.de/kalendereintrag/schnolwara-kerwa-5/
LOCATION:Schnabelwaider Kerwa\, Schnabelwaid\, Bayern\, 91289\, DEU
CATEGORIES:"Kerwa,Bayreuth,Oberfranken
GEO:49.8123071;11.5831629
END:VEVENT
BEGIN:VEVENT
DTSTART;VALUE=DATE:20261105
DTEND;VALUE=DATE:20261110
DTSTAMP:20260421T172559
CREATED:20260131T153800Z
LAST-MODIFIED:20260131T153800Z
UID:10002893-1793836800-1794268799@fraenkische-kirchweih.de
SUMMARY:Kirmes Oberstadt
DESCRIPTION:
URL:https://fraenkische-kirchweih.de/kalendereintrag/kirmes-oberstadt-5/
LOCATION:Kirmesverein Oberstadt e.V.\, Oberstadt\, Thüringen\, 98530\, DEU
CATEGORIES:"Kirmes,Hildburghausen,Werra-Main-Franken
GEO:50.5549733;10.5963933
END:VEVENT
BEGIN:VEVENT
DTSTART;VALUE=DATE:20261105
DTEND;VALUE=DATE:20261110
DTSTAMP:20260421T172559
CREATED:20260411T180407Z
LAST-MODIFIED:20260411T180407Z
UID:10003298-1793836800-1794268799@fraenkische-kirchweih.de
SUMMARY:Kerwa Simmershofen
DESCRIPTION:
URL:https://fraenkische-kirchweih.de/kalendereintrag/kerwa-simmershofen/
LOCATION:ELJ Simmershofen\, Simmershofen\, Bayern\, 97215\, DEU
CATEGORIES:"Kerwa,Mittelfranken,Neustadt an der Aisch-Bad Windsheim
GEO:49.5324044;10.1253266
END:VEVENT
BEGIN:VEVENT
DTSTART;VALUE=DATE:20261106
DTEND;VALUE=DATE:20261109
DTSTAMP:20260421T172559
CREATED:20260131T151429Z
LAST-MODIFIED:20260131T151429Z
UID:10002840-1793923200-1794182399@fraenkische-kirchweih.de
SUMMARY:Kirwa Neustadt am Kulm
DESCRIPTION:
URL:https://fraenkische-kirchweih.de/kalendereintrag/kirwa-neustadt-am-kulm-5/
LOCATION:Kirwa Neustadt am Kulm\, Neustadt am Kulm\, Bayern\, 95514\, DEU
CATEGORIES:"Kirwa,Neustadt an der Waldnaab,Oberpfalz
GEO:49.8268876;11.838575
END:VEVENT
BEGIN:VEVENT
DTSTART;VALUE=DATE:20261106
DTEND;VALUE=DATE:20261110
DTSTAMP:20260421T172559
CREATED:20260411T180408Z
LAST-MODIFIED:20260411T180408Z
UID:10003299-1793923200-1794268799@fraenkische-kirchweih.de
SUMMARY:Zeltkerwa Ingolstadt
DESCRIPTION:
URL:https://fraenkische-kirchweih.de/kalendereintrag/zeltkerwa-ingolstadt/
LOCATION:Feuerwehrverein Ingolstadt\, Ingolstadt\, Bayern\, 91484\, DEU
CATEGORIES:"Kerwa,Mittelfranken,Neustadt an der Aisch-Bad Windsheim
GEO:49.6038768;10.3792304
END:VEVENT
BEGIN:VEVENT
DTSTART;VALUE=DATE:20261107
DTEND;VALUE=DATE:20261109
DTSTAMP:20260421T172559
CREATED:20260131T135454Z
LAST-MODIFIED:20260131T135454Z
UID:10002410-1794009600-1794182399@fraenkische-kirchweih.de
SUMMARY:Gerschfäller Rhönkirmes
DESCRIPTION:
URL:https://fraenkische-kirchweih.de/kalendereintrag/gerschfaeller-rhoenkirmes-5/
LOCATION:Ortsvereine Gersfeld\, Gersfeld\, Hessen\, 36129\, DEU
CATEGORIES:"Kirmes,Fulda,Osthessen
GEO:50.4494857;9.919816
END:VEVENT
BEGIN:VEVENT
DTSTART;VALUE=DATE:20261108
DTEND;VALUE=DATE:20261111
DTSTAMP:20260421T172559
CREATED:20260411T180409Z
LAST-MODIFIED:20260411T180409Z
UID:10003300-1794096000-1794355199@fraenkische-kirchweih.de
SUMMARY:Kerwa Bullenheim
DESCRIPTION:
URL:https://fraenkische-kirchweih.de/kalendereintrag/kerwa-bullenheim/
LOCATION:Ortsvereine Bullenheim\, Bullenheim\, Bayern\, 97258\, DEU
CATEGORIES:"Kerwa,Mittelfranken,Neustadt an der Aisch-Bad Windsheim
GEO:49.6248057;10.228513
END:VEVENT
BEGIN:VEVENT
DTSTART;VALUE=DATE:20261112
DTEND;VALUE=DATE:20261116
DTSTAMP:20260421T172559
CREATED:20260131T154308Z
LAST-MODIFIED:20260131T154308Z
UID:10002986-1794441600-1794787199@fraenkische-kirchweih.de
SUMMARY:14-15 Kermes Stepfershausen
DESCRIPTION:
URL:https://fraenkische-kirchweih.de/kalendereintrag/14-15-kermes-stepfershausen-5/
LOCATION:Bayern
CATEGORIES:"Kermes,Schmalkalden-Meiningen,Werra-Main-Franken
END:VEVENT
BEGIN:VEVENT
DTSTART;VALUE=DATE:20261112
DTEND;VALUE=DATE:20261117
DTSTAMP:20260421T172559
CREATED:20260411T180410Z
LAST-MODIFIED:20260411T180410Z
UID:10003301-1794441600-1794873599@fraenkische-kirchweih.de
SUMMARY:Kerwa Hemmersheim
DESCRIPTION:
URL:https://fraenkische-kirchweih.de/kalendereintrag/kerwa-hemmersheim/
LOCATION:Jugendgruppe Hemmersheim\, Hemmersheim\, Bayern\, 97258\, DEU
CATEGORIES:"Kerwa,Mittelfranken,Neustadt an der Aisch-Bad Windsheim
GEO:49.562488;10.0964288
END:VEVENT
BEGIN:VEVENT
DTSTART;VALUE=DATE:20261113
DTEND;VALUE=DATE:20261116
DTSTAMP:20260421T172559
CREATED:20260411T180414Z
LAST-MODIFIED:20260411T180414Z
UID:10003302-1794528000-1794787199@fraenkische-kirchweih.de
SUMMARY:Kerwa Berchti
DESCRIPTION:
URL:https://fraenkische-kirchweih.de/kalendereintrag/kerwa-berchti/
LOCATION:Landjugend Herrnberchtheim\, Herrnberchtheim\, Bayern\, 97258\, DEU
CATEGORIES:"Kerwa,Mittelfranken,Neustadt an der Aisch-Bad Windsheim
GEO:49.5918349;10.200033
END:VEVENT
BEGIN:VEVENT
DTSTART;VALUE=DATE:20261113
DTEND;VALUE=DATE:20261117
DTSTAMP:20260421T172559
CREATED:20260131T140952Z
LAST-MODIFIED:20260411T180411Z
UID:10002532-1794528000-1794873599@fraenkische-kirchweih.de
SUMMARY:Frimmersdorfer Kerwa
DESCRIPTION:
URL:https://fraenkische-kirchweih.de/kalendereintrag/frimmersdorfer-kerwa-5/
LOCATION:Frimmersdorfer Kerwaburschen und -madle\, Frimmersdorf\, Bayern\, 91487\, DEU
CATEGORIES:"Kerwa,Erlangen-Höchstadt,Mittelfranken
GEO:49.7016421;10.7012992
END:VEVENT
BEGIN:VEVENT
DTSTART;VALUE=DATE:20261113
DTEND;VALUE=DATE:20261117
DTSTAMP:20260421T172559
CREATED:20260131T140952Z
LAST-MODIFIED:20260409T152157Z
UID:10002533-1794528000-1794873599@fraenkische-kirchweih.de
SUMMARY:Kerwa Burghöchstadt
DESCRIPTION:
URL:https://fraenkische-kirchweih.de/kalendereintrag/kerwa-burghoechstadt-5/
LOCATION:Ortsvereine Burghöchstadt\, Burghöchstadt\, Bayern\, 96152\, DEU
CATEGORIES:"Kerwa,Mittelfranken,Neustadt an der Aisch-Bad Windsheim
GEO:49.7461234;10.5168164
END:VEVENT
BEGIN:VEVENT
DTSTART;VALUE=DATE:20261119
DTEND;VALUE=DATE:20261124
DTSTAMP:20260421T172559
CREATED:20260411T180415Z
LAST-MODIFIED:20260411T180415Z
UID:10003303-1795046400-1795478399@fraenkische-kirchweih.de
SUMMARY:Kerwa Rodheim
DESCRIPTION:
URL:https://fraenkische-kirchweih.de/kalendereintrag/kerwa-rodheim/
LOCATION:Jugend Rodheim\, Rodheim\, Bayern\, 97258\, DEU
CATEGORIES:"Kerwa,Mittelfranken,Neustadt an der Aisch-Bad Windsheim
GEO:49.5862429;10.1406958
END:VEVENT
BEGIN:VEVENT
DTSTART;VALUE=DATE:20261120
DTEND;VALUE=DATE:20261124
DTSTAMP:20260421T172559
CREATED:20260131T145443Z
LAST-MODIFIED:20260131T145443Z
UID:10002781-1795132800-1795478399@fraenkische-kirchweih.de
SUMMARY:Heuchelheimer Kerwa
DESCRIPTION:
URL:https://fraenkische-kirchweih.de/kalendereintrag/heuchelheimer-kerwa-5/
LOCATION:Ortsvereine Heuchelheim\, Heuchelheim\, Bayern\, 96132\, DEU
CATEGORIES:"Kerwa,Bamberg,Oberfranken
GEO:49.7613386;10.5691787
END:VEVENT
BEGIN:VEVENT
DTSTART;VALUE=DATE:20261121
DTEND;VALUE=DATE:20261123
DTSTAMP:20260421T172559
CREATED:20260131T145442Z
LAST-MODIFIED:20260131T145442Z
UID:10002780-1795219200-1795391999@fraenkische-kirchweih.de
SUMMARY:Eckersbacher Kerwa
DESCRIPTION:
URL:https://fraenkische-kirchweih.de/kalendereintrag/eckersbacher-kerwa-5/
LOCATION:Ortsvereine Eckersbach\, Eckersbach\, Bayern\, 96132\, DEU
CATEGORIES:"Kerwa,Bamberg,Oberfranken
GEO:49.7665174;10.6564676
END:VEVENT
END:VCALENDAR