BEGIN:VCALENDAR
VERSION:2.0
PRODID:-//Fränkische Kirchweih - ECPv6.15.17.1//NONSGML v1.0//EN
CALSCALE:GREGORIAN
METHOD:PUBLISH
X-ORIGINAL-URL:https://fraenkische-kirchweih.de
X-WR-CALDESC:Veranstaltungen für Fränkische Kirchweih
REFRESH-INTERVAL;VALUE=DURATION:PT1H
X-Robots-Tag:noindex
X-PUBLISHED-TTL:PT1H
BEGIN:VTIMEZONE
TZID:Europe/Berlin
BEGIN:DAYLIGHT
TZOFFSETFROM:+0100
TZOFFSETTO:+0200
TZNAME:CEST
DTSTART:20250330T010000
END:DAYLIGHT
BEGIN:STANDARD
TZOFFSETFROM:+0200
TZOFFSETTO:+0100
TZNAME:CET
DTSTART:20251026T010000
END:STANDARD
BEGIN:DAYLIGHT
TZOFFSETFROM:+0100
TZOFFSETTO:+0200
TZNAME:CEST
DTSTART:20260329T010000
END:DAYLIGHT
BEGIN:STANDARD
TZOFFSETFROM:+0200
TZOFFSETTO:+0100
TZNAME:CET
DTSTART:20261025T010000
END:STANDARD
BEGIN:DAYLIGHT
TZOFFSETFROM:+0100
TZOFFSETTO:+0200
TZNAME:CEST
DTSTART:20270328T010000
END:DAYLIGHT
BEGIN:STANDARD
TZOFFSETFROM:+0200
TZOFFSETTO:+0100
TZNAME:CET
DTSTART:20271031T010000
END:STANDARD
END:VTIMEZONE
BEGIN:VEVENT
DTSTART;VALUE=DATE:20261022
DTEND;VALUE=DATE:20261026
DTSTAMP:20260422T002902
CREATED:20260131T154902Z
LAST-MODIFIED:20260131T154902Z
UID:10003052-1792627200-1792972799@fraenkische-kirchweih.de
SUMMARY:Trachtenkrimes in Langenfeld
DESCRIPTION:
URL:https://fraenkische-kirchweih.de/kalendereintrag/trachtenkrimes-in-langenfeld-5/
LOCATION:Kirmesgesellschaft Langenfeld\, Langenfeld\, Thüringen\, 36433\, DEU
CATEGORIES:"Kirmes,Wartburgkreis,Werra-Main-Franken
GEO:50.7904286;10.2099602
END:VEVENT
BEGIN:VEVENT
DTSTART;VALUE=DATE:20261022
DTEND;VALUE=DATE:20261026
DTSTAMP:20260422T002902
CREATED:20260411T180335Z
LAST-MODIFIED:20260411T180335Z
UID:10003281-1792627200-1792972799@fraenkische-kirchweih.de
SUMMARY:Illesmer Kerwa
DESCRIPTION:
URL:https://fraenkische-kirchweih.de/kalendereintrag/illesmer-kerwa/
LOCATION:BJB Illesheim\, Illesheim\, Bayern\, 91471\, DEU
CATEGORIES:"Kerwa,Mittelfranken,Neustadt an der Aisch-Bad Windsheim
GEO:49.4753565;10.3848789
END:VEVENT
BEGIN:VEVENT
DTSTART;VALUE=DATE:20261022
DTEND;VALUE=DATE:20261027
DTSTAMP:20260422T002902
CREATED:20260131T154323Z
LAST-MODIFIED:20260131T154323Z
UID:10002990-1792627200-1793059199@fraenkische-kirchweih.de
SUMMARY:Vachdorfer Bötzekirmes
DESCRIPTION:
URL:https://fraenkische-kirchweih.de/kalendereintrag/vachdorfer-boetzekirmes-5/
LOCATION:Kirmesgesellschaft Vachdorf\, Vachdorf\, Thüringen\, 98617\, DEU
CATEGORIES:"Kirmes,Schmalkalden-Meiningen,Werra-Main-Franken
GEO:50.525595;10.5360883
END:VEVENT
BEGIN:VEVENT
DTSTART;VALUE=DATE:20261022
DTEND;VALUE=DATE:20261027
DTSTAMP:20260422T002902
CREATED:20260131T154745Z
LAST-MODIFIED:20260131T154745Z
UID:10003025-1792627200-1793059199@fraenkische-kirchweih.de
SUMMARY:Kirmes Roth
DESCRIPTION:
URL:https://fraenkische-kirchweih.de/kalendereintrag/kirmes-roth-5/
LOCATION:Bürgerverein Roth e.V.\, Roth\, Thüringen\, 96528\, DEU
CATEGORIES:"Kirmes,Sonneberg,Werra-Main-Franken
GEO:50.3696818;11.0272814
END:VEVENT
BEGIN:VEVENT
DTSTART;VALUE=DATE:20261022
DTEND;VALUE=DATE:20261027
DTSTAMP:20260422T002902
CREATED:20260131T155245Z
LAST-MODIFIED:20260131T155245Z
UID:10003072-1792627200-1793059199@fraenkische-kirchweih.de
SUMMARY:Kirmes in Dorndorf
DESCRIPTION:
URL:https://fraenkische-kirchweih.de/kalendereintrag/kirmes-in-dorndorf-5/
LOCATION:Kirmesgesellschaft Dorndorf\, Dorndorf\, Thüringen\, 36460\, DEU
CATEGORIES:"Kirmes,Wartburgkreis,Werra-Main-Franken
GEO:50.8349319;10.0899022
END:VEVENT
BEGIN:VEVENT
DTSTART;VALUE=DATE:20261022
DTEND;VALUE=DATE:20261027
DTSTAMP:20260422T002902
CREATED:20260411T180327Z
LAST-MODIFIED:20260411T180327Z
UID:10003278-1792627200-1793059199@fraenkische-kirchweih.de
SUMMARY:Kerwa Bibart
DESCRIPTION:
URL:https://fraenkische-kirchweih.de/kalendereintrag/kerwa-bibart/
LOCATION:Ortsvereine Bibart\, Bibart\, Bayern\, 91477\, DEU
CATEGORIES:"Kerwa,Mittelfranken,Neustadt an der Aisch-Bad Windsheim
GEO:49.6585622;10.4050276
END:VEVENT
BEGIN:VEVENT
DTSTART;VALUE=DATE:20261022
DTEND;VALUE=DATE:20261027
DTSTAMP:20260422T002902
CREATED:20260411T180329Z
LAST-MODIFIED:20260411T180329Z
UID:10003279-1792627200-1793059199@fraenkische-kirchweih.de
SUMMARY:Dieterschmer Kerwa
DESCRIPTION:
URL:https://fraenkische-kirchweih.de/kalendereintrag/dieterschmer-kerwa/
LOCATION:Ortsburschen und – madli Dieterscha\, Dietersheim\, Bayern\, 91463\, DEU
CATEGORIES:"Kerwa,Mittelfranken,Neustadt an der Aisch-Bad Windsheim
GEO:49.5580272;10.5401798
END:VEVENT
BEGIN:VEVENT
DTSTART;VALUE=DATE:20261022
DTEND;VALUE=DATE:20261027
DTSTAMP:20260422T002902
CREATED:20260411T180333Z
LAST-MODIFIED:20260411T180333Z
UID:10003280-1792627200-1793059199@fraenkische-kirchweih.de
SUMMARY:Oldemer Kerwa
DESCRIPTION:
URL:https://fraenkische-kirchweih.de/kalendereintrag/oldemer-kerwa/
LOCATION:Altheimer Ortsburschen und -madli\, Altheim\, Bayern\, 91463\, DEU
CATEGORIES:"Kerwa,Mittelfranken,Neustadt an der Aisch-Bad Windsheim
GEO:49.5543041;10.5101258
END:VEVENT
BEGIN:VEVENT
DTSTART;VALUE=DATE:20261022
DTEND;VALUE=DATE:20261027
DTSTAMP:20260422T002902
CREATED:20260411T180337Z
LAST-MODIFIED:20260411T180337Z
UID:10003282-1792627200-1793059199@fraenkische-kirchweih.de
SUMMARY:Kerwa Westheim-Sontheim
DESCRIPTION:
URL:https://fraenkische-kirchweih.de/kalendereintrag/kerwa-westheim-sontheim/
LOCATION:Westemer Ortsburschen\, Westheim\, Bayern\, 91471\, DEU
CATEGORIES:"Kerwa,Mittelfranken,Neustadt an der Aisch-Bad Windsheim
GEO:49.459199;10.4107168
END:VEVENT
BEGIN:VEVENT
DTSTART;VALUE=DATE:20261022
DTEND;VALUE=DATE:20261027
DTSTAMP:20260422T002902
CREATED:20260411T180338Z
LAST-MODIFIED:20260411T180338Z
UID:10003283-1792627200-1793059199@fraenkische-kirchweih.de
SUMMARY:Kerwa Ottenhofen
DESCRIPTION:
URL:https://fraenkische-kirchweih.de/kalendereintrag/kerwa-ottenhofen/
LOCATION:BJB Ottenhofen\, Ottenhofen\, Bayern\, 91613\, DEU
CATEGORIES:"Kerwa,Mittelfranken,Neustadt an der Aisch-Bad Windsheim
GEO:49.4521217;10.3611767
END:VEVENT
BEGIN:VEVENT
DTSTART;VALUE=DATE:20261022
DTEND;VALUE=DATE:20261027
DTSTAMP:20260422T002902
CREATED:20260411T180343Z
LAST-MODIFIED:20260411T180343Z
UID:10003285-1792627200-1793059199@fraenkische-kirchweih.de
SUMMARY:Krautostheimer Kerwa
DESCRIPTION:
URL:https://fraenkische-kirchweih.de/kalendereintrag/krautostheimer-kerwa/
LOCATION:BJB Krautostheim\, Krautostheim\, Bayern\, 91484\, DEU
CATEGORIES:"Kerwa,Mittelfranken,Neustadt an der Aisch-Bad Windsheim
GEO:49.5772133;10.385734
END:VEVENT
BEGIN:VEVENT
DTSTART;VALUE=DATE:20261022
DTEND;VALUE=DATE:20261027
DTSTAMP:20260422T002902
CREATED:20260411T180344Z
LAST-MODIFIED:20260411T180344Z
UID:10003286-1792627200-1793059199@fraenkische-kirchweih.de
SUMMARY:Kerwa Schornweisach
DESCRIPTION:
URL:https://fraenkische-kirchweih.de/kalendereintrag/kerwa-schornweisach/
LOCATION:Ortsburschen Schornweisach\, Schornweisach\, Bayern\, 91486\, DEU
CATEGORIES:"Kerwa,Mittelfranken,Neustadt an der Aisch-Bad Windsheim
GEO:49.6660105;10.6507988
END:VEVENT
BEGIN:VEVENT
DTSTART;VALUE=DATE:20261022
DTEND;VALUE=DATE:20261027
DTSTAMP:20260422T002902
CREATED:20260411T180346Z
LAST-MODIFIED:20260411T180346Z
UID:10003287-1792627200-1793059199@fraenkische-kirchweih.de
SUMMARY:Kerwa Reusch
DESCRIPTION:
URL:https://fraenkische-kirchweih.de/kalendereintrag/kerwa-reusch/
LOCATION:Kerwaburschen und Kerwamädels Reusch\, Reusch\, Bayern\, 97215\, DEU
CATEGORIES:"Kerwa,Mittelfranken,Neustadt an der Aisch-Bad Windsheim
GEO:49.5879495;10.2519512
END:VEVENT
BEGIN:VEVENT
DTSTART;VALUE=DATE:20261022
DTEND;VALUE=DATE:20261027
DTSTAMP:20260422T002902
CREATED:20260411T180348Z
LAST-MODIFIED:20260411T180348Z
UID:10003288-1792627200-1793059199@fraenkische-kirchweih.de
SUMMARY:Harbe Kerwe
DESCRIPTION:
URL:https://fraenkische-kirchweih.de/kalendereintrag/harbe-kerwe/
LOCATION:Landjugend Grossharbach\, Großharbach\, Bayern\, 91587\, DEU
CATEGORIES:"Kerwe,Ansbach,Mittelfranken
GEO:49.470644;10.1539643
END:VEVENT
BEGIN:VEVENT
DTSTART;VALUE=DATE:20261022
DTEND;VALUE=DATE:20270101
DTSTAMP:20260422T002902
CREATED:20260411T180339Z
LAST-MODIFIED:20260411T180339Z
UID:10003284-1792627200-1798761599@fraenkische-kirchweih.de
SUMMARY:Ezelmer Kerwa
DESCRIPTION:
URL:https://fraenkische-kirchweih.de/kalendereintrag/ezelmer-kerwa/
LOCATION:Landjugend Ezelheim\, Ezelheim\, Bayern\, 91484\, DEU
CATEGORIES:"Kerwa,Mittelfranken,Neustadt an der Aisch-Bad Windsheim
GEO:49.5988997;10.4022046
END:VEVENT
BEGIN:VEVENT
DTSTART;VALUE=DATE:20261023
DTEND;VALUE=DATE:20261025
DTSTAMP:20260422T002902
CREATED:20260131T154140Z
LAST-MODIFIED:20260131T154140Z
UID:10002942-1792713600-1792886399@fraenkische-kirchweih.de
SUMMARY:Kirmes Reichenhausen
DESCRIPTION:
URL:https://fraenkische-kirchweih.de/kalendereintrag/kirmes-reichenhausen-5/
LOCATION:Kirmesgesellschaft Reichenhausen\, Reichenhausen\, Thüringen\, 98634\, DEU
CATEGORIES:"Kirmes,Schmalkalden-Meiningen,Werra-Main-Franken
GEO:50.5819072;10.1332045
END:VEVENT
BEGIN:VEVENT
DTSTART;VALUE=DATE:20261023
DTEND;VALUE=DATE:20261026
DTSTAMP:20260422T002902
CREATED:20260131T153759Z
LAST-MODIFIED:20260131T153759Z
UID:10002892-1792713600-1792972799@fraenkische-kirchweih.de
SUMMARY:Kirmes in Marisfeld
DESCRIPTION:
URL:https://fraenkische-kirchweih.de/kalendereintrag/kirmes-in-marisfeld-5/
LOCATION:Kirmesgesellschaft Marisfeld\, Marisfeld\, Thüringen\, 98530\, DEU
CATEGORIES:"Kirmes,Hildburghausen,Werra-Main-Franken
GEO:50.5560568;10.5713979
END:VEVENT
BEGIN:VEVENT
DTSTART;VALUE=DATE:20261023
DTEND;VALUE=DATE:20261026
DTSTAMP:20260422T002902
CREATED:20260131T154159Z
LAST-MODIFIED:20260131T154159Z
UID:10002951-1792713600-1792972799@fraenkische-kirchweih.de
SUMMARY:Kirmes Berkach
DESCRIPTION:
URL:https://fraenkische-kirchweih.de/kalendereintrag/kirmes-berkach-5/
LOCATION:Kirmesgesellschaft Berkach\, Berkach\, Thüringen\, 98631\, DEU
CATEGORIES:"Kirmes,Schmalkalden-Meiningen,Werra-Main-Franken
GEO:50.4371574;10.3977007
END:VEVENT
BEGIN:VEVENT
DTSTART;VALUE=DATE:20261023
DTEND;VALUE=DATE:20261026
DTSTAMP:20260422T002902
CREATED:20260131T155226Z
LAST-MODIFIED:20260131T155226Z
UID:10003063-1792713600-1792972799@fraenkische-kirchweih.de
SUMMARY:Kirmes in Unteralba
DESCRIPTION:
URL:https://fraenkische-kirchweih.de/kalendereintrag/kirmes-in-unteralba-5/
LOCATION:Heimat- und Kulturverein Unteralba/Rhön e.V.\, Unteralba\, Thüringen\, 36466\, DEU
CATEGORIES:"Kirmes,Wartburgkreis,Werra-Main-Franken
GEO:50.723939;10.1103491
END:VEVENT
BEGIN:VEVENT
DTSTART;VALUE=DATE:20261023
DTEND;VALUE=DATE:20261027
DTSTAMP:20260422T002902
CREATED:20260131T135455Z
LAST-MODIFIED:20260131T135455Z
UID:10002412-1792713600-1793059199@fraenkische-kirchweih.de
SUMMARY:Kirmes Elm
DESCRIPTION:
URL:https://fraenkische-kirchweih.de/kalendereintrag/kirmes-elm/
LOCATION:Elmer Bloo\, Elm\, Hessen\, 36381\, DEU
CATEGORIES:"Kirmes,Main-Kinzig-Kreis,Osthessen
GEO:50.3603612;9.5584193
END:VEVENT
BEGIN:VEVENT
DTSTART;VALUE=DATE:20261023
DTEND;VALUE=DATE:20261027
DTSTAMP:20260422T002902
CREATED:20260131T140951Z
LAST-MODIFIED:20260409T152156Z
UID:10002531-1792713600-1793059199@fraenkische-kirchweih.de
SUMMARY:Kerwa Münchhof
DESCRIPTION:
URL:https://fraenkische-kirchweih.de/kalendereintrag/kerwa-muenchhof-5/
LOCATION:Ortsvereine Münchhof\, Münchhof\, Bayern\, 96152\, DEU
CATEGORIES:"Kerwa,Mittelfranken,Neustadt an der Aisch-Bad Windsheim
GEO:49.7432475;10.5411482
END:VEVENT
BEGIN:VEVENT
DTSTART;VALUE=DATE:20261023
DTEND;VALUE=DATE:20261027
DTSTAMP:20260422T002902
CREATED:20260131T145428Z
LAST-MODIFIED:20260131T145428Z
UID:10002776-1792713600-1793059199@fraenkische-kirchweih.de
SUMMARY:Eggolsheimer Zeltkerwa
DESCRIPTION:
URL:https://fraenkische-kirchweih.de/kalendereintrag/eggolsheimer-zeltkerwa-5/
LOCATION:Faulenzer Eggolsheim e.V.\, Eggolsheim\, Bayern\, 91330\, DEU
CATEGORIES:"Kerwa,Forchheim,Oberfranken
GEO:49.7846573;11.099593
END:VEVENT
BEGIN:VEVENT
DTSTART;VALUE=DATE:20261023
DTEND;VALUE=DATE:20261027
DTSTAMP:20260422T002902
CREATED:20260131T145428Z
LAST-MODIFIED:20260131T145428Z
UID:10002777-1792713600-1793059199@fraenkische-kirchweih.de
SUMMARY:Trachtenkirchweih Buchbach
DESCRIPTION:
URL:https://fraenkische-kirchweih.de/kalendereintrag/trachtenkirchweih-buchbach-5/
LOCATION:Kirchweihgesellschaft Buchbach\, Buchbach\, Bayern\, 96361\, DEU
CATEGORIES:"Kirchweih,Kronach,Oberfranken
GEO:50.4223931;11.2910974
END:VEVENT
BEGIN:VEVENT
DTSTART;VALUE=DATE:20261023
DTEND;VALUE=DATE:20261027
DTSTAMP:20260422T002902
CREATED:20260131T151303Z
LAST-MODIFIED:20260131T153745Z
UID:10002785-1792713600-1793059199@fraenkische-kirchweih.de
SUMMARY:Kirmes Brattendorf
DESCRIPTION:
URL:https://fraenkische-kirchweih.de/kalendereintrag/kirmes-brattendorf-5/
LOCATION:Kirmesgesellschaft und Heimatverein Brattendorf e.V.\, Brattendorf\, Thüringen\, 98673\, DEU
CATEGORIES:"Kirmes,Hildburghausen,Werra-Main-Franken
GEO:50.4715249;10.8476972
END:VEVENT
BEGIN:VEVENT
DTSTART;VALUE=DATE:20261023
DTEND;VALUE=DATE:20261027
DTSTAMP:20260422T002902
CREATED:20260131T151303Z
LAST-MODIFIED:20260131T153745Z
UID:10002786-1792713600-1793059199@fraenkische-kirchweih.de
SUMMARY:Kirmes Crock
DESCRIPTION:
URL:https://fraenkische-kirchweih.de/kalendereintrag/kirmes-crock-5/
LOCATION:Kirmesgesellschaft Crock\, Crock\, Thüringen\, 98673\, DEU
CATEGORIES:"Kirmes,Hildburghausen,Werra-Main-Franken
GEO:50.4514048;10.8877225
END:VEVENT
BEGIN:VEVENT
DTSTART;VALUE=DATE:20261023
DTEND;VALUE=DATE:20261027
DTSTAMP:20260422T002902
CREATED:20260131T151426Z
LAST-MODIFIED:20260131T151426Z
UID:10002839-1792713600-1793059199@fraenkische-kirchweih.de
SUMMARY:Kirwa Filchendorf
DESCRIPTION:
URL:https://fraenkische-kirchweih.de/kalendereintrag/kirwa-filchendorf-5/
LOCATION:Kirwa Filchendorf\, Filchendorf\, Bayern\, 95514\, DEU
CATEGORIES:"Kirwa,Neustadt an der Waldnaab,Oberpfalz
GEO:49.8170033;11.8600782
END:VEVENT
BEGIN:VEVENT
DTSTART;VALUE=DATE:20261023
DTEND;VALUE=DATE:20261027
DTSTAMP:20260422T002902
CREATED:20260131T154116Z
LAST-MODIFIED:20260131T154116Z
UID:10002927-1792713600-1793059199@fraenkische-kirchweih.de
SUMMARY:Kirmes Veilsdorf
DESCRIPTION:
URL:https://fraenkische-kirchweih.de/kalendereintrag/kirmes-veilsdorf-5/
LOCATION:Kirmesgesellschaft Veilsdorf\, Veilsdorf\, Thüringen\, 98669\, DEU
CATEGORIES:"Kirmes,Hildburghausen,Werra-Main-Franken
GEO:50.4099672;10.814145
END:VEVENT
BEGIN:VEVENT
DTSTART;VALUE=DATE:20261023
DTEND;VALUE=DATE:20261027
DTSTAMP:20260422T002902
CREATED:20260131T154642Z
LAST-MODIFIED:20260131T154642Z
UID:10003002-1792713600-1793059199@fraenkische-kirchweih.de
SUMMARY:Judenbacher Kirmes
DESCRIPTION:
URL:https://fraenkische-kirchweih.de/kalendereintrag/judenbacher-kirmes-5/
LOCATION:Kirmesgesellschaft Judenbach\, Judenbach\, Thüringen\, 96515\, DEU
CATEGORIES:"Kirmes,Sonneberg,Werra-Main-Franken
GEO:50.369682;11.1814209
END:VEVENT
BEGIN:VEVENT
DTSTART;VALUE=DATE:20261023
DTEND;VALUE=DATE:20261027
DTSTAMP:20260422T002902
CREATED:20260131T154731Z
LAST-MODIFIED:20260131T154731Z
UID:10003023-1792713600-1793059199@fraenkische-kirchweih.de
SUMMARY:Ähnese Kerwa
DESCRIPTION:
URL:https://fraenkische-kirchweih.de/kalendereintrag/aehnese-kerwa-5/
LOCATION:Kultur- und Heimatverein Ehnes e.V.\, Ehnes\, Thüringen\, 96528\, DEU
CATEGORIES:"Kerwa,Sonneberg,Werra-Main-Franken
GEO:50.3845967;10.9959617
END:VEVENT
BEGIN:VEVENT
DTSTART;VALUE=DATE:20261023
DTEND;VALUE=DATE:20261027
DTSTAMP:20260422T002902
CREATED:20260411T180350Z
LAST-MODIFIED:20260411T180350Z
UID:10003289-1792713600-1793059199@fraenkische-kirchweih.de
SUMMARY:Kerwa Lenkerscha
DESCRIPTION:
URL:https://fraenkische-kirchweih.de/kalendereintrag/kerwa-lenkerscha/
LOCATION:Ortsburschen und Madli Lenkersheim\, Lenkersheim\, Bayern\, 91438\, DEU
CATEGORIES:"Kerwa,Mittelfranken,Neustadt an der Aisch-Bad Windsheim
GEO:49.5039329;10.4559248
END:VEVENT
END:VCALENDAR