BEGIN:VCALENDAR
VERSION:2.0
PRODID:-//Fränkische Kirchweih - ECPv6.15.17.1//NONSGML v1.0//EN
CALSCALE:GREGORIAN
METHOD:PUBLISH
X-ORIGINAL-URL:https://fraenkische-kirchweih.de
X-WR-CALDESC:Veranstaltungen für Fränkische Kirchweih
REFRESH-INTERVAL;VALUE=DURATION:PT1H
X-Robots-Tag:noindex
X-PUBLISHED-TTL:PT1H
BEGIN:VTIMEZONE
TZID:Europe/Berlin
BEGIN:DAYLIGHT
TZOFFSETFROM:+0100
TZOFFSETTO:+0200
TZNAME:CEST
DTSTART:20250330T010000
END:DAYLIGHT
BEGIN:STANDARD
TZOFFSETFROM:+0200
TZOFFSETTO:+0100
TZNAME:CET
DTSTART:20251026T010000
END:STANDARD
BEGIN:DAYLIGHT
TZOFFSETFROM:+0100
TZOFFSETTO:+0200
TZNAME:CEST
DTSTART:20260329T010000
END:DAYLIGHT
BEGIN:STANDARD
TZOFFSETFROM:+0200
TZOFFSETTO:+0100
TZNAME:CET
DTSTART:20261025T010000
END:STANDARD
BEGIN:DAYLIGHT
TZOFFSETFROM:+0100
TZOFFSETTO:+0200
TZNAME:CEST
DTSTART:20270328T010000
END:DAYLIGHT
BEGIN:STANDARD
TZOFFSETFROM:+0200
TZOFFSETTO:+0100
TZNAME:CET
DTSTART:20271031T010000
END:STANDARD
END:VTIMEZONE
BEGIN:VEVENT
DTSTART;VALUE=DATE:20260924
DTEND;VALUE=DATE:20260929
DTSTAMP:20260422T003007
CREATED:20260131T141712Z
LAST-MODIFIED:20260411T180114Z
UID:10002629-1790208000-1790639999@fraenkische-kirchweih.de
SUMMARY:Weiterndorfer Kerwa
DESCRIPTION:
URL:https://fraenkische-kirchweih.de/kalendereintrag/weiterndorfer-kerwa/
LOCATION:Kerwabuum und -Madli Weiterndorf\, Weiterndorf\, Bayern\, 91560\, DEU
CATEGORIES:"Kerwa,Ansbach,Mittelfranken
GEO:49.3393056;10.8111887
END:VEVENT
BEGIN:VEVENT
DTSTART;VALUE=DATE:20260924
DTEND;VALUE=DATE:20260929
DTSTAMP:20260422T003007
CREATED:20260131T141941Z
LAST-MODIFIED:20260411T180114Z
UID:10002651-1790208000-1790639999@fraenkische-kirchweih.de
SUMMARY:Kerwa Sauernheim
DESCRIPTION:
URL:https://fraenkische-kirchweih.de/kalendereintrag/kerwa-sauernheim/
LOCATION:Kerwabuam Sauernheim\, Sauernheim\, Bayern\, 91575\, DEU
CATEGORIES:"Kerwa,Ansbach,Mittelfranken
GEO:49.2481547;10.7613669
END:VEVENT
BEGIN:VEVENT
DTSTART;VALUE=DATE:20260924
DTEND;VALUE=DATE:20260929
DTSTAMP:20260422T003007
CREATED:20260131T145115Z
LAST-MODIFIED:20260131T145115Z
UID:10002767-1790208000-1790639999@fraenkische-kirchweih.de
SUMMARY:Kerwa Obernsees
DESCRIPTION:
URL:https://fraenkische-kirchweih.de/kalendereintrag/kerwa-obernsees-5/
LOCATION:Burschenverein Obernsees\, Obernsees\, Bayern\, 95490\, DEU
CATEGORIES:"Kerwa,Bayreuth,Oberfranken
GEO:49.9194357;11.3838062
END:VEVENT
BEGIN:VEVENT
DTSTART;VALUE=DATE:20260924
DTEND;VALUE=DATE:20260929
DTSTAMP:20260422T003007
CREATED:20260131T151357Z
LAST-MODIFIED:20260131T151357Z
UID:10002818-1790208000-1790639999@fraenkische-kirchweih.de
SUMMARY:Eschafelna Kirwa
DESCRIPTION:
URL:https://fraenkische-kirchweih.de/kalendereintrag/eschafelna-kirwa-5/
LOCATION:Kirwagemeinschaft Eschenfelden e.V.\, Eschenfelden\, Bayern\, 92272\, DEU
CATEGORIES:"Kirwa,Amberg-Sulzbach,Oberpfalz
GEO:49.5804599;11.6147504
END:VEVENT
BEGIN:VEVENT
DTSTART;VALUE=DATE:20260924
DTEND;VALUE=DATE:20260929
DTSTAMP:20260422T003007
CREATED:20260131T154209Z
LAST-MODIFIED:20260131T154209Z
UID:10002956-1790208000-1790639999@fraenkische-kirchweih.de
SUMMARY:Kirmes in Wolfmannshausen
DESCRIPTION:
URL:https://fraenkische-kirchweih.de/kalendereintrag/kirmes-in-wolfmannshausen-5/
LOCATION:Kirmesgesellschaft Wolfmannshausen\, Wolfmannshausen\, Thüringen\, 98631\, DEU
CATEGORIES:"Kirmes,Schmalkalden-Meiningen,Werra-Main-Franken
GEO:50.4290472;10.4585411
END:VEVENT
BEGIN:VEVENT
DTSTART;VALUE=DATE:20260924
DTEND;VALUE=DATE:20260929
DTSTAMP:20260422T003007
CREATED:20260222T162209Z
LAST-MODIFIED:20260411T180115Z
UID:10003106-1790208000-1790639999@fraenkische-kirchweih.de
SUMMARY:Kirwa Kainsbach
DESCRIPTION:
URL:https://fraenkische-kirchweih.de/kalendereintrag/kirwa-kainsbach/
LOCATION:Käischbächer Kirwaleit\, Kainsbach\, Bayern\, 91230\, DEU
CATEGORIES:"Kirwa,Mittelfranken,Nürnberger Land
GEO:49.4700992;11.481631
END:VEVENT
BEGIN:VEVENT
DTSTART;VALUE=DATE:20260924
DTEND;VALUE=DATE:20260929
DTSTAMP:20260422T003007
CREATED:20260321T234747Z
LAST-MODIFIED:20260411T180115Z
UID:10003159-1790208000-1790639999@fraenkische-kirchweih.de
SUMMARY:Kärwa im Frauenaurach
DESCRIPTION:
URL:https://fraenkische-kirchweih.de/kalendereintrag/kaerwa-im-frauenaurach/
LOCATION:Kärwasburschen Frauenaurach\, Frauenaurach\, Bayern\, 91056\, DEU
CATEGORIES:"Kärwa,Erlangen,Mittelfranken
GEO:49.5693589;10.9616258
END:VEVENT
BEGIN:VEVENT
DTSTART;VALUE=DATE:20260924
DTEND;VALUE=DATE:20260929
DTSTAMP:20260422T003007
CREATED:20260411T180116Z
LAST-MODIFIED:20260411T180116Z
UID:10003251-1790208000-1790639999@fraenkische-kirchweih.de
SUMMARY:Dottenheimer Kerwa
DESCRIPTION:
URL:https://fraenkische-kirchweih.de/kalendereintrag/dottenheimer-kerwa/
LOCATION:Ortsburschen Dottenheim\, Dottenheim\, Bayern\, 91463\, DEU
CATEGORIES:"Kerwa,Mittelfranken,Neustadt an der Aisch-Bad Windsheim
GEO:49.5487303;10.5147675
END:VEVENT
BEGIN:VEVENT
DTSTART;VALUE=DATE:20260924
DTEND;VALUE=DATE:20260929
DTSTAMP:20260422T003007
CREATED:20260411T180123Z
LAST-MODIFIED:20260411T180123Z
UID:10003252-1790208000-1790639999@fraenkische-kirchweih.de
SUMMARY:Kerwa Obernesselbach
DESCRIPTION:
URL:https://fraenkische-kirchweih.de/kalendereintrag/kerwa-obernesselbach/
LOCATION:Ortburschen und Ortsmadle Obernesselbach\, Obernesselbach\, Bayern\, 91413\, DEU
CATEGORIES:"Kerwa,Mittelfranken,Neustadt an der Aisch-Bad Windsheim
GEO:49.5812077;10.4869552
END:VEVENT
BEGIN:VEVENT
DTSTART;VALUE=DATE:20260925
DTEND;VALUE=DATE:20260927
DTSTAMP:20260422T003007
CREATED:20260131T153803Z
LAST-MODIFIED:20260131T153803Z
UID:10002895-1790294400-1790467199@fraenkische-kirchweih.de
SUMMARY:Kirmes Siegritz
DESCRIPTION:
URL:https://fraenkische-kirchweih.de/kalendereintrag/kirmes-siegritz-5/
LOCATION:Kirmesgesellschaft Siegritz\, Siegritz\, Thüringen\, 98646\, DEU
CATEGORIES:"Kirmes,Hildburghausen,Werra-Main-Franken
GEO:50.4683478;10.6608832
END:VEVENT
BEGIN:VEVENT
DTSTART;VALUE=DATE:20260925
DTEND;VALUE=DATE:20260927
DTSTAMP:20260422T003007
CREATED:20260409T160549Z
LAST-MODIFIED:20260411T180149Z
UID:10003190-1790294400-1790467199@fraenkische-kirchweih.de
SUMMARY:Sterpersdorfer Kerwa
DESCRIPTION:
URL:https://fraenkische-kirchweih.de/kalendereintrag/sterpersdorfer-kerwa/
LOCATION:Sterpersdorfer Kerwasburschen\, Sterpersdorf\, Bayern\, 91315\, DEU
CATEGORIES:"Kerwa,Erlangen-Höchstadt,Mittelfranken
GEO:49.6861735;10.7700736
END:VEVENT
BEGIN:VEVENT
DTSTART;VALUE=DATE:20260925
DTEND;VALUE=DATE:20260928
DTSTAMP:20260422T003007
CREATED:20260131T140928Z
LAST-MODIFIED:20260411T180132Z
UID:10002519-1790294400-1790553599@fraenkische-kirchweih.de
SUMMARY:Altershäuser Kerwa
DESCRIPTION:
URL:https://fraenkische-kirchweih.de/kalendereintrag/altershaeuser-kerwa-5/
LOCATION:Ortsburschen und Madle Altershausen\, Altershausen\, Bayern\, 91481\, DEU
CATEGORIES:"Kerwa,Mittelfranken,Neustadt an der Aisch-Bad Windsheim
GEO:49.6777391;10.5972511
END:VEVENT
BEGIN:VEVENT
DTSTART;VALUE=DATE:20260925
DTEND;VALUE=DATE:20260928
DTSTAMP:20260422T003007
CREATED:20260131T142346Z
LAST-MODIFIED:20260411T180142Z
UID:10002676-1790294400-1790553599@fraenkische-kirchweih.de
SUMMARY:Michelskerwa Liebenstadt
DESCRIPTION:
URL:https://fraenkische-kirchweih.de/kalendereintrag/michelskerwa-liebenstadt/
LOCATION:Landjugend Liebenstadt\, Liebenstadt\, Bayern\, 91180\, DEU
CATEGORIES:"Kerwa,Mittelfranken,Roth
GEO:49.1323061;11.0897025
END:VEVENT
BEGIN:VEVENT
DTSTART;VALUE=DATE:20260925
DTEND;VALUE=DATE:20260928
DTSTAMP:20260422T003007
CREATED:20260131T145114Z
LAST-MODIFIED:20260131T145114Z
UID:10002766-1790294400-1790553599@fraenkische-kirchweih.de
SUMMARY:Kerwa Kirchahorn
DESCRIPTION:
URL:https://fraenkische-kirchweih.de/kalendereintrag/kerwa-kirchahorn-5/
LOCATION:Ortsvereine Kirchahorn\, Kirchahorn\, Bayern\, 95491\, DEU
CATEGORIES:"Kerwa,Bayreuth,Oberfranken
GEO:49.8348409;11.4032045
END:VEVENT
BEGIN:VEVENT
DTSTART;VALUE=DATE:20260925
DTEND;VALUE=DATE:20260928
DTSTAMP:20260422T003007
CREATED:20260131T153818Z
LAST-MODIFIED:20260131T153818Z
UID:10002910-1790294400-1790553599@fraenkische-kirchweih.de
SUMMARY:Steinbacher Trachtenkirmes
DESCRIPTION:
URL:https://fraenkische-kirchweih.de/kalendereintrag/steinbacher-trachtenkirmes-5/
LOCATION:Kirmesgesellschaft Steinbach\, Steinbach\, Thüringen\, 98667\, DEU
CATEGORIES:"Kirmes,Hildburghausen,Werra-Main-Franken
GEO:50.5236331;10.8466903
END:VEVENT
BEGIN:VEVENT
DTSTART;VALUE=DATE:20260925
DTEND;VALUE=DATE:20260928
DTSTAMP:20260422T003007
CREATED:20260131T153834Z
LAST-MODIFIED:20260131T153834Z
UID:10002914-1790294400-1790553599@fraenkische-kirchweih.de
SUMMARY:Kermes Rappelsdorf
DESCRIPTION:
URL:https://fraenkische-kirchweih.de/kalendereintrag/kermes-rappelsdorf-5/
LOCATION:Kermesgesellschaft Rappelsdorf\, Rappelsdorf\, Thüringen\, 98553\, DEU
CATEGORIES:"Kermes,Hildburghausen,Werra-Main-Franken
GEO:50.4966711;10.7221559
END:VEVENT
BEGIN:VEVENT
DTSTART;VALUE=DATE:20260925
DTEND;VALUE=DATE:20260928
DTSTAMP:20260422T003007
CREATED:20260131T154119Z
LAST-MODIFIED:20260131T154119Z
UID:10002931-1790294400-1790553599@fraenkische-kirchweih.de
SUMMARY:Kirmes Belrieth
DESCRIPTION:
URL:https://fraenkische-kirchweih.de/kalendereintrag/kirmes-belrieth-5/
LOCATION:Kirmesgesellschaft Belrieth\, Belrieth\, Thüringen\, 98617\, DEU
CATEGORIES:"Kirmes,Schmalkalden-Meiningen,Werra-Main-Franken
GEO:50.5296953;10.4953418
END:VEVENT
BEGIN:VEVENT
DTSTART;VALUE=DATE:20260925
DTEND;VALUE=DATE:20260928
DTSTAMP:20260422T003007
CREATED:20260131T154120Z
LAST-MODIFIED:20260131T154120Z
UID:10002933-1790294400-1790553599@fraenkische-kirchweih.de
SUMMARY:Birxer Kirmes
DESCRIPTION:
URL:https://fraenkische-kirchweih.de/kalendereintrag/birxer-kirmes-5/
LOCATION:Kirmesgesellschaft Birx\, Birx\, Thüringen\, 98634\, DEU
CATEGORIES:"Kirmes,Schmalkalden-Meiningen,Werra-Main-Franken
GEO:50.5298287;10.0476396
END:VEVENT
BEGIN:VEVENT
DTSTART;VALUE=DATE:20260925
DTEND;VALUE=DATE:20260928
DTSTAMP:20260422T003007
CREATED:20260131T154158Z
LAST-MODIFIED:20260131T154158Z
UID:10002950-1790294400-1790553599@fraenkische-kirchweih.de
SUMMARY:Kirmes in Behrungen
DESCRIPTION:
URL:https://fraenkische-kirchweih.de/kalendereintrag/kirmes-in-behrungen-5/
LOCATION:Kirmesgesellschaft Behrungen\, Behrungen\, Thüringen\, 98631\, DEU
CATEGORIES:"Kirmes,Schmalkalden-Meiningen,Werra-Main-Franken
GEO:50.4107494;10.41543
END:VEVENT
BEGIN:VEVENT
DTSTART;VALUE=DATE:20260925
DTEND;VALUE=DATE:20260928
DTSTAMP:20260422T003007
CREATED:20260131T154244Z
LAST-MODIFIED:20260131T154244Z
UID:10002971-1790294400-1790553599@fraenkische-kirchweih.de
SUMMARY:Zeltkirmes Wohlmuthausen
DESCRIPTION:
URL:https://fraenkische-kirchweih.de/kalendereintrag/zeltkirmes-wohlmuthausen-5/
LOCATION:Wohlmuthäuser Kirmesgesellschaft\, Wohlmuthausen\, Thüringen\, 98617\, DEU
CATEGORIES:"Kirmes,Schmalkalden-Meiningen,Werra-Main-Franken
GEO:50.5741492;10.2101994
END:VEVENT
BEGIN:VEVENT
DTSTART;VALUE=DATE:20260925
DTEND;VALUE=DATE:20260928
DTSTAMP:20260422T003007
CREATED:20260131T154304Z
LAST-MODIFIED:20260131T154304Z
UID:10002981-1790294400-1790553599@fraenkische-kirchweih.de
SUMMARY:Kirmes Wernshausen
DESCRIPTION:
URL:https://fraenkische-kirchweih.de/kalendereintrag/kirmes-wernshausen-5/
LOCATION:Kirmesverein Wernshausen e.V.\, Wernshausen\, Thüringen\, 98574\, DEU
CATEGORIES:"Kirmes,Schmalkalden-Meiningen,Werra-Main-Franken
GEO:50.7233941;10.3518629
END:VEVENT
BEGIN:VEVENT
DTSTART;VALUE=DATE:20260925
DTEND;VALUE=DATE:20260928
DTSTAMP:20260422T003007
CREATED:20260131T154308Z
LAST-MODIFIED:20260131T154308Z
UID:10002987-1790294400-1790553599@fraenkische-kirchweih.de
SUMMARY:Kermes in Sülzfeld
DESCRIPTION:
URL:https://fraenkische-kirchweih.de/kalendereintrag/kermes-in-suelzfeld-5/
LOCATION:Kermesgesellschaft Sülzfeld\, Sülzfeld\, Thüringen\, 98617\, DEU
CATEGORIES:"Kermes,Schmalkalden-Meiningen,Werra-Main-Franken
GEO:50.523506;10.3600951
END:VEVENT
BEGIN:VEVENT
DTSTART;VALUE=DATE:20260925
DTEND;VALUE=DATE:20260928
DTSTAMP:20260422T003007
CREATED:20260131T154324Z
LAST-MODIFIED:20260131T154324Z
UID:10002991-1790294400-1790553599@fraenkische-kirchweih.de
SUMMARY:Kirmes Viernau
DESCRIPTION:
URL:https://fraenkische-kirchweih.de/kalendereintrag/kirmes-viernau-5/
LOCATION:Jugendclub Viernau e.V.\, Viernau\, Thüringen\, 98547\, DEU
CATEGORIES:"Kirmes,Schmalkalden-Meiningen,Werra-Main-Franken
GEO:50.6664149;10.5548854
END:VEVENT
BEGIN:VEVENT
DTSTART;VALUE=DATE:20260925
DTEND;VALUE=DATE:20260928
DTSTAMP:20260422T003007
CREATED:20260131T154746Z
LAST-MODIFIED:20260131T154746Z
UID:10003027-1790294400-1790553599@fraenkische-kirchweih.de
SUMMARY:Plankirmes Truckendorf
DESCRIPTION:
URL:https://fraenkische-kirchweih.de/kalendereintrag/plankirmes-truckendorf-5/
LOCATION:Ortsvereine Truckendorf Emstadt und Görsdorf\, Truckendorf\, Thüringen\, 96528\, DEU
CATEGORIES:"Kirmes,Sonneberg,Werra-Main-Franken
GEO:50.3679595;10.973503
END:VEVENT
BEGIN:VEVENT
DTSTART;VALUE=DATE:20260925
DTEND;VALUE=DATE:20260928
DTSTAMP:20260422T003007
CREATED:20260131T154816Z
LAST-MODIFIED:20260131T154816Z
UID:10003037-1790294400-1790553599@fraenkische-kirchweih.de
SUMMARY:Spechtsbrunner Kirmes
DESCRIPTION:
URL:https://fraenkische-kirchweih.de/kalendereintrag/spechtsbrunner-kirmes-5/
LOCATION:Feuerwehrverein Spechtsbrunn e.V.\, Spechtsbrunn\, Thüringen\, 96515\, DEU
CATEGORIES:"Kirmes,Sonneberg,Werra-Main-Franken
GEO:50.4931426;11.2536082
END:VEVENT
BEGIN:VEVENT
DTSTART;VALUE=DATE:20260925
DTEND;VALUE=DATE:20260928
DTSTAMP:20260422T003007
CREATED:20260131T155102Z
LAST-MODIFIED:20260131T155102Z
UID:10003057-1790294400-1790553599@fraenkische-kirchweih.de
SUMMARY:Brunnhartshäuser Saalkirmes
DESCRIPTION:
URL:https://fraenkische-kirchweih.de/kalendereintrag/brunnhartshaeuser-saalkirmes-5/
LOCATION:Kirmesgesellschaft Brunnhartshausen\, Brunnhartshausen\, Thüringen\, 36452\, DEU
CATEGORIES:"Kirmes,Wartburgkreis,Werra-Main-Franken
GEO:50.6747854;10.098522
END:VEVENT
BEGIN:VEVENT
DTSTART;VALUE=DATE:20260925
DTEND;VALUE=DATE:20260928
DTSTAMP:20260422T003007
CREATED:20260320T233953Z
LAST-MODIFIED:20260411T180144Z
UID:10003152-1790294400-1790553599@fraenkische-kirchweih.de
SUMMARY:Kärwa in Schwaighausen
DESCRIPTION:
URL:https://fraenkische-kirchweih.de/kalendereintrag/kaerwa-in-schwaighausen/
LOCATION:Ortsvereine Schwaighausen\, Schwaighausen\, Bayern\, 90613\, DEU
CATEGORIES:"Kärwa,Fürth,Mittelfranken
GEO:49.3935686;10.7837236
END:VEVENT
BEGIN:VEVENT
DTSTART;VALUE=DATE:20260925
DTEND;VALUE=DATE:20260929
DTSTAMP:20260422T003007
CREATED:20260131T140309Z
LAST-MODIFIED:20260411T180124Z
UID:10002427-1790294400-1790639999@fraenkische-kirchweih.de
SUMMARY:Kirchweih Seukendorf
DESCRIPTION:
URL:https://fraenkische-kirchweih.de/kalendereintrag/kirchweih-seukendorf-5/
LOCATION:Kärwa- und Kulturverein Seukendorf e.V.\, Seukendorf\, Bayern\, 90556\, DEU
CATEGORIES:"Kirchweih,Fürth,Mittelfranken
GEO:49.4871889;10.8768455
END:VEVENT
BEGIN:VEVENT
DTSTART;VALUE=DATE:20260925
DTEND;VALUE=DATE:20260929
DTSTAMP:20260422T003007
CREATED:20260131T140925Z
LAST-MODIFIED:20260411T180125Z
UID:10002516-1790294400-1790639999@fraenkische-kirchweih.de
SUMMARY:Weppersdorfer Kerwa
DESCRIPTION:
URL:https://fraenkische-kirchweih.de/kalendereintrag/weppersdorfer-kerwa-5/
LOCATION:Weppersdorfer Kerwasmadli und -burschen\, Weppersdorf\, Bayern\, 91325\, DEU
CATEGORIES:"Kerwa,Erlangen-Höchstadt,Mittelfranken
GEO:49.722303;10.9241076
END:VEVENT
BEGIN:VEVENT
DTSTART;VALUE=DATE:20260925
DTEND;VALUE=DATE:20260929
DTSTAMP:20260422T003007
CREATED:20260131T140925Z
LAST-MODIFIED:20260411T180125Z
UID:10002517-1790294400-1790639999@fraenkische-kirchweih.de
SUMMARY:Heroldsberger Kärwa
DESCRIPTION:
URL:https://fraenkische-kirchweih.de/kalendereintrag/heroldsberger-kaerwa-5/
LOCATION:Kräwaboum Heroldsberg\, Heroldsberg\, Bayern\, 90562\, DEU
CATEGORIES:"Kärwa,Erlangen-Höchstadt,Mittelfranken
GEO:49.5323509;11.1540547
END:VEVENT
END:VCALENDAR