BEGIN:VCALENDAR
VERSION:2.0
PRODID:-//Fränkische Kirchweih - ECPv6.15.17.1//NONSGML v1.0//EN
CALSCALE:GREGORIAN
METHOD:PUBLISH
X-WR-CALNAME:Fränkische Kirchweih
X-ORIGINAL-URL:https://fraenkische-kirchweih.de
X-WR-CALDESC:Veranstaltungen für Fränkische Kirchweih
REFRESH-INTERVAL;VALUE=DURATION:PT1H
X-Robots-Tag:noindex
X-PUBLISHED-TTL:PT1H
BEGIN:VTIMEZONE
TZID:Europe/Berlin
BEGIN:DAYLIGHT
TZOFFSETFROM:+0100
TZOFFSETTO:+0200
TZNAME:CEST
DTSTART:20250330T010000
END:DAYLIGHT
BEGIN:STANDARD
TZOFFSETFROM:+0200
TZOFFSETTO:+0100
TZNAME:CET
DTSTART:20251026T010000
END:STANDARD
BEGIN:DAYLIGHT
TZOFFSETFROM:+0100
TZOFFSETTO:+0200
TZNAME:CEST
DTSTART:20260329T010000
END:DAYLIGHT
BEGIN:STANDARD
TZOFFSETFROM:+0200
TZOFFSETTO:+0100
TZNAME:CET
DTSTART:20261025T010000
END:STANDARD
BEGIN:DAYLIGHT
TZOFFSETFROM:+0100
TZOFFSETTO:+0200
TZNAME:CEST
DTSTART:20270328T010000
END:DAYLIGHT
BEGIN:STANDARD
TZOFFSETFROM:+0200
TZOFFSETTO:+0100
TZNAME:CET
DTSTART:20271031T010000
END:STANDARD
END:VTIMEZONE
BEGIN:VEVENT
DTSTART;VALUE=DATE:20260911
DTEND;VALUE=DATE:20260914
DTSTAMP:20260421T172108
CREATED:20260131T154135Z
LAST-MODIFIED:20260131T154135Z
UID:10002937-1789084800-1789343999@fraenkische-kirchweih.de
SUMMARY:Kirmes in Christes
DESCRIPTION:
URL:https://fraenkische-kirchweih.de/kalendereintrag/kirmes-in-christes-5/
LOCATION:Kirmesgesellschaft Christes\, Christes\, Thüringen\, 98547\, DEU
CATEGORIES:"Kirmes,Schmalkalden-Meiningen,Werra-Main-Franken
GEO:50.6608895;10.477723
END:VEVENT
BEGIN:VEVENT
DTSTART;VALUE=DATE:20260911
DTEND;VALUE=DATE:20260914
DTSTAMP:20260421T172108
CREATED:20260131T154241Z
LAST-MODIFIED:20260131T154241Z
UID:10002969-1789084800-1789343999@fraenkische-kirchweih.de
SUMMARY:14-15 Krimes in Gerthausen
DESCRIPTION:
URL:https://fraenkische-kirchweih.de/kalendereintrag/14-15-krimes-in-gerthausen-5/
LOCATION:Heimatverein Gerthausen\, Gerthausen\, Thüringen\, 98617\, DEU
CATEGORIES:"Kirmes,Schmalkalden-Meiningen,Werra-Main-Franken
GEO:50.5701291;10.1927526
END:VEVENT
BEGIN:VEVENT
DTSTART;VALUE=DATE:20260911
DTEND;VALUE=DATE:20260914
DTSTAMP:20260421T172108
CREATED:20260131T154730Z
LAST-MODIFIED:20260131T154730Z
UID:10003020-1789084800-1789343999@fraenkische-kirchweih.de
SUMMARY:Kermes Scheibe-Alsbach
DESCRIPTION:
URL:https://fraenkische-kirchweih.de/kalendereintrag/kermes-scheibe-alsbach-5/
LOCATION:Kirmes- und Heimatverein Scheibe-Alsbach e.V.\, Scheibe-Alsbach\, Thüringen\, 98724\, DEU
CATEGORIES:"Kermes,Sonneberg,Werra-Main-Franken
GEO:50.4939927;11.1404127
END:VEVENT
BEGIN:VEVENT
DTSTART;VALUE=DATE:20260911
DTEND;VALUE=DATE:20260914
DTSTAMP:20260421T172108
CREATED:20260131T155245Z
LAST-MODIFIED:20260131T155245Z
UID:10003071-1789084800-1789343999@fraenkische-kirchweih.de
SUMMARY:Zeltkirmes Kaltennordheim
DESCRIPTION:
URL:https://fraenkische-kirchweih.de/kalendereintrag/zeltkirmes-kaltennordheim-5/
LOCATION:Kirmes Nurde\, Kaltennordheim\, Thüringen\, 36452\, DEU
CATEGORIES:"Kirmes,Wartburgkreis,Werra-Main-Franken
GEO:50.628049;10.1587077
END:VEVENT
BEGIN:VEVENT
DTSTART;VALUE=DATE:20260911
DTEND;VALUE=DATE:20260914
DTSTAMP:20260421T172108
CREATED:20260131T155446Z
LAST-MODIFIED:20260131T155446Z
UID:10003078-1789084800-1789343999@fraenkische-kirchweih.de
SUMMARY:Trachtenkirmes in Möhra
DESCRIPTION:
URL:https://fraenkische-kirchweih.de/kalendereintrag/trachtenkirmes-in-moehra-5/
LOCATION:Trachtenkirmesverein Möhra\, Möhra\, Thüringen\, 36433\, DEU
CATEGORIES:"Kirmes,Wartburgkreis,Werra-Main-Franken
GEO:50.8603908;10.2544641
END:VEVENT
BEGIN:VEVENT
DTSTART;VALUE=DATE:20260911
DTEND;VALUE=DATE:20260914
DTSTAMP:20260421T172108
CREATED:20260409T155834Z
LAST-MODIFIED:20260411T180014Z
UID:10003167-1789084800-1789343999@fraenkische-kirchweih.de
SUMMARY:Kerwa Neuhaus
DESCRIPTION:
URL:https://fraenkische-kirchweih.de/kalendereintrag/kerwa-neuhaus/
LOCATION:Ortsverein Neuhaus e.V.\, Neuhaus\, Bayern\, 91325\, DEU
CATEGORIES:"Kerwa,Erlangen-Höchstadt,Mittelfranken
GEO:49.6851438;10.8768034
END:VEVENT
BEGIN:VEVENT
DTSTART;VALUE=DATE:20260911
DTEND;VALUE=DATE:20260914
DTSTAMP:20260421T172108
CREATED:20260409T160348Z
LAST-MODIFIED:20260411T180016Z
UID:10003184-1789084800-1789343999@fraenkische-kirchweih.de
SUMMARY:Kerwa Hannberg
DESCRIPTION:
URL:https://fraenkische-kirchweih.de/kalendereintrag/kerwa-hannberg/
LOCATION:Hannberger Ortsburschen und Madla\, Hannberg\, Bayern\, 91093\, DEU
CATEGORIES:"Kerwa,Erlangen-Höchstadt,Mittelfranken
GEO:49.6375361;10.9024735
END:VEVENT
BEGIN:VEVENT
DTSTART;VALUE=DATE:20260911
DTEND;VALUE=DATE:20260915
DTSTAMP:20260421T172108
CREATED:20260131T140906Z
LAST-MODIFIED:20260411T180000Z
UID:10002507-1789084800-1789430399@fraenkische-kirchweih.de
SUMMARY:Kärwa Atzenhof
DESCRIPTION:
URL:https://fraenkische-kirchweih.de/kalendereintrag/kaerwa-atzenhof-5/
LOCATION:Kärwaburschen Atzenhof e.V.\, Atzenhof\, Bayern\, 90768\, DEU
CATEGORIES:"Kärwa,Fürth,Mittelfranken
GEO:49.5016101;10.9494888
END:VEVENT
BEGIN:VEVENT
DTSTART;VALUE=DATE:20260911
DTEND;VALUE=DATE:20260915
DTSTAMP:20260421T172108
CREATED:20260131T140907Z
LAST-MODIFIED:20260411T180001Z
UID:10002508-1789084800-1789430399@fraenkische-kirchweih.de
SUMMARY:Puschendorfer Kärwa
DESCRIPTION:
URL:https://fraenkische-kirchweih.de/kalendereintrag/puschendorfer-kaerwa-5/
LOCATION:Ortsburschen u. Madli Puschendorf\, Puschendorf\, Bayern\, 90617\, DEU
CATEGORIES:"Kärwa,Fürth,Mittelfranken
GEO:49.5257746;10.8307871
END:VEVENT
BEGIN:VEVENT
DTSTART;VALUE=DATE:20260911
DTEND;VALUE=DATE:20260915
DTSTAMP:20260421T172108
CREATED:20260131T141344Z
LAST-MODIFIED:20260411T180003Z
UID:10002579-1789084800-1789430399@fraenkische-kirchweih.de
SUMMARY:Kirchweih Alfershausen
DESCRIPTION:
URL:https://fraenkische-kirchweih.de/kalendereintrag/kirchweih-alfershausen-3/
LOCATION:Kerwaboum und -moidla Alfershausen\, Alfershausen\, Bayern\, 91177\, DEU
CATEGORIES:"Kerwa,Mittelfranken,Roth
GEO:49.107779;11.1871648
END:VEVENT
BEGIN:VEVENT
DTSTART;VALUE=DATE:20260911
DTEND;VALUE=DATE:20260915
DTSTAMP:20260421T172108
CREATED:20260131T145059Z
LAST-MODIFIED:20260131T145059Z
UID:10002761-1789084800-1789430399@fraenkische-kirchweih.de
SUMMARY:Kerwa Oberehrenbach
DESCRIPTION:
URL:https://fraenkische-kirchweih.de/kalendereintrag/kerwa-oberehrenbach-5/
LOCATION:Fränkische Geselligkeit Club 72 e.V.\, Oberehrenbach\, Bayern\, 91359\, DEU
CATEGORIES:"Kerwa,Forchheim,Oberfranken
GEO:49.6792512;11.1897956
END:VEVENT
BEGIN:VEVENT
DTSTART;VALUE=DATE:20260911
DTEND;VALUE=DATE:20260915
DTSTAMP:20260421T172108
CREATED:20260131T151308Z
LAST-MODIFIED:20260131T153748Z
UID:10002792-1789084800-1789430399@fraenkische-kirchweih.de
SUMMARY:Kirmes in Brünn
DESCRIPTION:
URL:https://fraenkische-kirchweih.de/kalendereintrag/kirmes-in-bruenn-5/
LOCATION:Kirmesgesellschaft Brünn\, Brünn\, Thüringen\, 98673\, DEU
CATEGORIES:"Kirmes,Hildburghausen,Werra-Main-Franken
GEO:50.4493545;10.8567486
END:VEVENT
BEGIN:VEVENT
DTSTART;VALUE=DATE:20260911
DTEND;VALUE=DATE:20260915
DTSTAMP:20260421T172108
CREATED:20260131T154115Z
LAST-MODIFIED:20260131T154115Z
UID:10002925-1789084800-1789430399@fraenkische-kirchweih.de
SUMMARY:Zeltkirmes in Heßberg
DESCRIPTION:
URL:https://fraenkische-kirchweih.de/kalendereintrag/zeltkirmes-in-hessberg-5/
LOCATION:Kirmesgesellschaft Heßberg\, Heßberg\, Thüringen\, 98669\, DEU
CATEGORIES:"Kirmes,Hildburghausen,Werra-Main-Franken
GEO:50.4186942;10.769771
END:VEVENT
BEGIN:VEVENT
DTSTART;VALUE=DATE:20260911
DTEND;VALUE=DATE:20260915
DTSTAMP:20260421T172108
CREATED:20260131T154254Z
LAST-MODIFIED:20260131T154254Z
UID:10002975-1789084800-1789430399@fraenkische-kirchweih.de
SUMMARY:Zeltkirmes in Roßdorf
DESCRIPTION:
URL:https://fraenkische-kirchweih.de/kalendereintrag/zeltkirmes-in-rossdorf-5/
LOCATION:Kirmesgesellschaft Roßdorf\, Roßdorf\, Thüringen\, 98590\, DEU
CATEGORIES:"Kirmes,Schmalkalden-Meiningen,Werra-Main-Franken
GEO:50.7037321;10.2159899
END:VEVENT
BEGIN:VEVENT
DTSTART;VALUE=DATE:20260911
DTEND;VALUE=DATE:20260915
DTSTAMP:20260421T172108
CREATED:20260131T154308Z
LAST-MODIFIED:20260131T154308Z
UID:10002985-1789084800-1789430399@fraenkische-kirchweih.de
SUMMARY:Kirmes in Steinbach-Hallenberg
DESCRIPTION:
URL:https://fraenkische-kirchweih.de/kalendereintrag/kirmes-in-steinbach-hallenberg-5/
LOCATION:Verein Heimatliches Brauchtum im Haselgrund e.V.\, Steinbach-Hallenberg\, Thüringen\, 98587\, DEU
CATEGORIES:"Kirmes,Schmalkalden-Meiningen,Werra-Main-Franken
GEO:50.6953187;10.5655163
END:VEVENT
BEGIN:VEVENT
DTSTART;VALUE=DATE:20260911
DTEND;VALUE=DATE:20260915
DTSTAMP:20260421T172108
CREATED:20260304T172913Z
LAST-MODIFIED:20260411T180013Z
UID:10003129-1789084800-1789430399@fraenkische-kirchweih.de
SUMMARY:Schnepfenreuther Dorfkärwa
DESCRIPTION:
URL:https://fraenkische-kirchweih.de/kalendereintrag/schnepfenreuther-dorfkaerwa/
LOCATION:Schnepfenreuther Kärwaboum\, Schnepfenreuth\, Bayern\, 90425\, DEU
CATEGORIES:"Kärwa,Mittelfranken,Nürnberg
GEO:49.485706;11.053029
END:VEVENT
BEGIN:VEVENT
DTSTART;VALUE=DATE:20260911
DTEND;VALUE=DATE:20260915
DTSTAMP:20260421T172108
CREATED:20260320T232852Z
LAST-MODIFIED:20260411T180013Z
UID:10003150-1789084800-1789430399@fraenkische-kirchweih.de
SUMMARY:Kirchweih Großhabersdorf
DESCRIPTION:
URL:https://fraenkische-kirchweih.de/kalendereintrag/kirchweih-grosshabersdorf/
LOCATION:Kärwaburschen und-madli Großhabersdorf e.V.\, Großhabersdorf\, Bayern\, 90613\, DEU
CATEGORIES:"Kärwa,Fürth,Mittelfranken
GEO:49.4040529;10.7882216
END:VEVENT
BEGIN:VEVENT
DTSTART;VALUE=DATE:20260911
DTEND;VALUE=DATE:20260916
DTSTAMP:20260421T172108
CREATED:20260131T140909Z
LAST-MODIFIED:20260411T180002Z
UID:10002509-1789084800-1789516799@fraenkische-kirchweih.de
SUMMARY:Kärwa Neunhof Oberndorf
DESCRIPTION:
URL:https://fraenkische-kirchweih.de/kalendereintrag/kaerwa-neunhof-oberndorf-5/
LOCATION:Oberndörfer Kärwaburschen\, Neunhof\, Bayern\, 90427\, DEU
CATEGORIES:"Kärwa,Mittelfranken,Nürnberg
GEO:49.5237689;11.04731
END:VEVENT
BEGIN:VEVENT
DTSTART;VALUE=DATE:20260912
DTEND;VALUE=DATE:20260914
DTSTAMP:20260421T172108
CREATED:20260131T141724Z
LAST-MODIFIED:20260411T180030Z
UID:10002640-1789171200-1789343999@fraenkische-kirchweih.de
SUMMARY:Kinderkärwa Wollersdorf
DESCRIPTION:
URL:https://fraenkische-kirchweih.de/kalendereintrag/kinderkaerwa-wollersdorf/
LOCATION:Dorfgemeinschaft Wollersdorf\, Wollersdorf\, Bayern\, 91564\, DEU
CATEGORIES:"Kärwa,Ansbach,Mittelfranken
GEO:49.2948373;10.8574811
END:VEVENT
BEGIN:VEVENT
DTSTART;VALUE=DATE:20260912
DTEND;VALUE=DATE:20260915
DTSTAMP:20260421T172108
CREATED:20260131T141241Z
LAST-MODIFIED:20260411T180029Z
UID:10002569-1789171200-1789430399@fraenkische-kirchweih.de
SUMMARY:Hüttendorfer Kerwa
DESCRIPTION:
URL:https://fraenkische-kirchweih.de/kalendereintrag/huettendorfer-kerwa-5/
LOCATION:Ortsvereine Hüttendorf\, Hüttendorf\, Bayern\, 91056\, DEU
CATEGORIES:"Kerwa,Erlangen,Mittelfranken
GEO:49.5403995;10.9613024
END:VEVENT
BEGIN:VEVENT
DTSTART;VALUE=DATE:20260912
DTEND;VALUE=DATE:20260915
DTSTAMP:20260421T172108
CREATED:20260131T151743Z
LAST-MODIFIED:20260131T151743Z
UID:10002863-1789171200-1789430399@fraenkische-kirchweih.de
SUMMARY:Gmoi Kirwa
DESCRIPTION:
URL:https://fraenkische-kirchweih.de/kalendereintrag/gmoi-kirwa-5/
LOCATION:Katholische Landjugend Welluck-Nitzlbuch\, Welluck und Nitzlbuch\, Bayern\, 91275\, DEU
CATEGORIES:"Kirwa,Amberg-Sulzbach,Oberpfalz
GEO:49.681304;11.6395738
END:VEVENT
BEGIN:VEVENT
DTSTART;VALUE=DATE:20260912
DTEND;VALUE=DATE:20260915
DTSTAMP:20260421T172108
CREATED:20260131T151753Z
LAST-MODIFIED:20260131T151753Z
UID:10002865-1789171200-1789430399@fraenkische-kirchweih.de
SUMMARY:Kirwa Oberleinsiedl
DESCRIPTION:
URL:https://fraenkische-kirchweih.de/kalendereintrag/kirwa-oberleinsiedl-5/
LOCATION:Ortsvereine Oberleinsiedl\, Oberleinsiedl\, Bayern\, 92289\, DEU
CATEGORIES:"Kirwa,Amberg-Sulzbach,Oberpfalz
GEO:49.404021;11.794238
END:VEVENT
BEGIN:VEVENT
DTSTART;VALUE=DATE:20260912
DTEND;VALUE=DATE:20260915
DTSTAMP:20260421T172108
CREATED:20260411T180030Z
LAST-MODIFIED:20260411T180030Z
UID:10003247-1789171200-1789430399@fraenkische-kirchweih.de
SUMMARY:Kärwa Göddeldorf
DESCRIPTION:
URL:https://fraenkische-kirchweih.de/kalendereintrag/kaerwa-goeddeldorf/
LOCATION:Kärwamadli & Kärwaboum Göddeldorf\, Göddeldorf\, Bayern\, 91560\, DEU
CATEGORIES:"Kärwa,Ansbach,Mittelfranken
GEO:49.3373633;10.8554668
END:VEVENT
BEGIN:VEVENT
DTSTART;VALUE=DATE:20260912
DTEND;VALUE=DATE:20260921
DTSTAMP:20260421T172108
CREATED:20260131T141344Z
LAST-MODIFIED:20260411T180029Z
UID:10002580-1789171200-1789948799@fraenkische-kirchweih.de
SUMMARY:Gunzenhäuser Kerwa
DESCRIPTION:
URL:https://fraenkische-kirchweih.de/kalendereintrag/gunzenhaeuser-kerwa-3/
LOCATION:Gunzenhäuser Kerwabuam und Kerwamadli\, Gunzenhausen\, Bayern\, 91710\, DEU
CATEGORIES:"Kerwa,Mittelfranken,Weißenburg-Gunzenhausen
GEO:49.1200802;10.7318864
END:VEVENT
BEGIN:VEVENT
DTSTART;VALUE=DATE:20260917
DTEND;VALUE=DATE:20260921
DTSTAMP:20260421T172108
CREATED:20260131T145100Z
LAST-MODIFIED:20260131T145100Z
UID:10002763-1789603200-1789948799@fraenkische-kirchweih.de
SUMMARY:Kerwa Eckersdorf
DESCRIPTION:
URL:https://fraenkische-kirchweih.de/kalendereintrag/kerwa-eckersdorf-5/
LOCATION:Landjugend Eckersdorf\, Eckersdorf\, Bayern\, 95488\, DEU
CATEGORIES:"Kerwa,Bayreuth,Oberfranken
GEO:49.9407757;11.4107101
END:VEVENT
BEGIN:VEVENT
DTSTART;VALUE=DATE:20260917
DTEND;VALUE=DATE:20260921
DTSTAMP:20260421T172108
CREATED:20260131T154120Z
LAST-MODIFIED:20260131T154120Z
UID:10002932-1789603200-1789948799@fraenkische-kirchweih.de
SUMMARY:Kirmes in Benshausen
DESCRIPTION:
URL:https://fraenkische-kirchweih.de/kalendereintrag/kirmes-in-benshausen-5/
LOCATION:Kirmesgesellschaft Benshausen\, Benshausen\, Thüringen\, 98554\, DEU
CATEGORIES:"Kirmes,Schmalkalden-Meiningen,Werra-Main-Franken
GEO:50.6440078;10.6050499
END:VEVENT
BEGIN:VEVENT
DTSTART;VALUE=DATE:20260917
DTEND;VALUE=DATE:20260921
DTSTAMP:20260421T172108
CREATED:20260131T154135Z
LAST-MODIFIED:20260131T154135Z
UID:10002936-1789603200-1789948799@fraenkische-kirchweih.de
SUMMARY:Trusetaler 3-6-9 Dö Kirmes
DESCRIPTION:
URL:https://fraenkische-kirchweih.de/kalendereintrag/trusetaler-3-6-9-doe-kirmes-5/
LOCATION:SV Trusetal 05\, Trusetal\, Thüringen\, 98596\, DEU
CATEGORIES:"Kirmes,Schmalkalden-Meiningen,Werra-Main-Franken
GEO:50.78785;10.4083935
END:VEVENT
BEGIN:VEVENT
DTSTART;VALUE=DATE:20260917
DTEND;VALUE=DATE:20260921
DTSTAMP:20260421T172108
CREATED:20260131T154141Z
LAST-MODIFIED:20260131T154141Z
UID:10002943-1789603200-1789948799@fraenkische-kirchweih.de
SUMMARY:Fambacher Zeltkirmes
DESCRIPTION:
URL:https://fraenkische-kirchweih.de/kalendereintrag/fambacher-zeltkirmes-5/
LOCATION:Kirmesverein Fambach e.V.\, Fambach\, Thüringen\, 98597\, DEU
CATEGORIES:"Kirmes,Schmalkalden-Meiningen,Werra-Main-Franken
GEO:50.7375547;10.3688249
END:VEVENT
BEGIN:VEVENT
DTSTART;VALUE=DATE:20260917
DTEND;VALUE=DATE:20260921
DTSTAMP:20260421T172108
CREATED:20260131T154150Z
LAST-MODIFIED:20260131T154150Z
UID:10002948-1789603200-1789948799@fraenkische-kirchweih.de
SUMMARY:Kirmes in Struth-Helmersdorf
DESCRIPTION:
URL:https://fraenkische-kirchweih.de/kalendereintrag/kirmes-in-struth-helmersdorf-5/
LOCATION:Kirmesverein Struth-Helmershof e.V.\, Struth-Helmershof\, Thüringen\, 98593\, DEU
CATEGORIES:"Kirmes,Schmalkalden-Meiningen,Werra-Main-Franken
GEO:50.7458802;10.5094858
END:VEVENT
BEGIN:VEVENT
DTSTART;VALUE=DATE:20260917
DTEND;VALUE=DATE:20260921
DTSTAMP:20260421T172108
CREATED:20260131T154222Z
LAST-MODIFIED:20260131T154222Z
UID:10002962-1789603200-1789948799@fraenkische-kirchweih.de
SUMMARY:Kühndorfer Kirmes
DESCRIPTION:
URL:https://fraenkische-kirchweih.de/kalendereintrag/kuehndorfer-kirmes-5/
LOCATION:SV Dolmar Kühndorf\, Kühndorf\, Thüringen\, 98547\, DEU
CATEGORIES:"Kirmes,Schmalkalden-Meiningen,Werra-Main-Franken
GEO:50.6663859;10.5549366
END:VEVENT
END:VCALENDAR