BEGIN:VCALENDAR
VERSION:2.0
PRODID:-//Fränkische Kirchweih - ECPv6.15.17.1//NONSGML v1.0//EN
CALSCALE:GREGORIAN
METHOD:PUBLISH
X-ORIGINAL-URL:https://fraenkische-kirchweih.de
X-WR-CALDESC:Veranstaltungen für Fränkische Kirchweih
REFRESH-INTERVAL;VALUE=DURATION:PT1H
X-Robots-Tag:noindex
X-PUBLISHED-TTL:PT1H
BEGIN:VTIMEZONE
TZID:Europe/Berlin
BEGIN:DAYLIGHT
TZOFFSETFROM:+0100
TZOFFSETTO:+0200
TZNAME:CEST
DTSTART:20250330T010000
END:DAYLIGHT
BEGIN:STANDARD
TZOFFSETFROM:+0200
TZOFFSETTO:+0100
TZNAME:CET
DTSTART:20251026T010000
END:STANDARD
BEGIN:DAYLIGHT
TZOFFSETFROM:+0100
TZOFFSETTO:+0200
TZNAME:CEST
DTSTART:20260329T010000
END:DAYLIGHT
BEGIN:STANDARD
TZOFFSETFROM:+0200
TZOFFSETTO:+0100
TZNAME:CET
DTSTART:20261025T010000
END:STANDARD
BEGIN:DAYLIGHT
TZOFFSETFROM:+0100
TZOFFSETTO:+0200
TZNAME:CEST
DTSTART:20270328T010000
END:DAYLIGHT
BEGIN:STANDARD
TZOFFSETFROM:+0200
TZOFFSETTO:+0100
TZNAME:CET
DTSTART:20271031T010000
END:STANDARD
END:VTIMEZONE
BEGIN:VEVENT
DTSTART;VALUE=DATE:20260904
DTEND;VALUE=DATE:20260908
DTSTAMP:20260422T032059
CREATED:20260131T151349Z
LAST-MODIFIED:20260131T151349Z
UID:10002810-1788480000-1788825599@fraenkische-kirchweih.de
SUMMARY:Fränkische Kirchweih in Unterpreppach
DESCRIPTION:
URL:https://fraenkische-kirchweih.de/kalendereintrag/fraenkische-kirchweih-in-unterpreppach-5/
LOCATION:Ortsvereine Unterpreppach\, Unterpreppach\, Bayern\, 96106\, DEU
CATEGORIES:"Kirchweih,Haßberge,Unterfranken
GEO:50.0979058;10.758027
END:VEVENT
BEGIN:VEVENT
DTSTART;VALUE=DATE:20260904
DTEND;VALUE=DATE:20260908
DTSTAMP:20260422T032059
CREATED:20260131T151350Z
LAST-MODIFIED:20260131T151350Z
UID:10002812-1788480000-1788825599@fraenkische-kirchweih.de
SUMMARY:Merzbacher Kerwa
DESCRIPTION:
URL:https://fraenkische-kirchweih.de/kalendereintrag/merzbacher-kerwa-5/
LOCATION:Ortsvereine Untermerzbach\, Untermerzbach\, Bayern\, 96190\, DEU
CATEGORIES:"Kerwa,Haßberge,Unterfranken
GEO:50.1271225;10.855732
END:VEVENT
BEGIN:VEVENT
DTSTART;VALUE=DATE:20260904
DTEND;VALUE=DATE:20260908
DTSTAMP:20260422T032059
CREATED:20260131T151356Z
LAST-MODIFIED:20260131T151356Z
UID:10002816-1788480000-1788825599@fraenkische-kirchweih.de
SUMMARY:Schwender Kirwa
DESCRIPTION:
URL:https://fraenkische-kirchweih.de/kalendereintrag/schwender-kirwa-5/
LOCATION:Kirwagemeinschaft Schwend e.V.\, Schwend\, Bayern\, 92262\, DEU
CATEGORIES:"Kirwa,Amberg-Sulzbach,Oberpfalz
GEO:49.4136757;11.641766
END:VEVENT
BEGIN:VEVENT
DTSTART;VALUE=DATE:20260904
DTEND;VALUE=DATE:20260908
DTSTAMP:20260422T032059
CREATED:20260131T154800Z
LAST-MODIFIED:20260131T154800Z
UID:10003029-1788480000-1788825599@fraenkische-kirchweih.de
SUMMARY:Bettelhecker Kerwa
DESCRIPTION:
URL:https://fraenkische-kirchweih.de/kalendereintrag/bettelhecker-kerwa-5/
LOCATION:Kirmesgesellschaft Bettelhecken\, Bettelhecken\, Thüringen\, 96515\, DEU
CATEGORIES:"Kerwa,Sonneberg,Werra-Main-Franken
GEO:50.3644706;11.1547653
END:VEVENT
BEGIN:VEVENT
DTSTART;VALUE=DATE:20260904
DTEND;VALUE=DATE:20260908
DTSTAMP:20260422T032059
CREATED:20260320T232813Z
LAST-MODIFIED:20260411T175902Z
UID:10003149-1788480000-1788825599@fraenkische-kirchweih.de
SUMMARY:Keidenzeller Kärwa
DESCRIPTION:
URL:https://fraenkische-kirchweih.de/kalendereintrag/keidenzeller-kaerwa/
LOCATION:Landjugend Keidenzell\, Keidenzell\, Bayern\, 90579\, DEU
CATEGORIES:"Kärwa,Fürth,Mittelfranken
GEO:49.4677492;10.7773223
END:VEVENT
BEGIN:VEVENT
DTSTART;VALUE=DATE:20260904
DTEND;VALUE=DATE:20260908
DTSTAMP:20260422T032059
CREATED:20260321T234741Z
LAST-MODIFIED:20260411T175904Z
UID:10003157-1788480000-1788825599@fraenkische-kirchweih.de
SUMMARY:Dechsendorfer Kerwa
DESCRIPTION:
URL:https://fraenkische-kirchweih.de/kalendereintrag/dechsendorfer-kerwa/
LOCATION:Kerwasburschen Dechsendorf\, Dechsendorf\, Bayern\, 91056\, DEU
CATEGORIES:"Kerwa,Erlangen,Mittelfranken
GEO:49.6309138;10.9381534
END:VEVENT
BEGIN:VEVENT
DTSTART;VALUE=DATE:20260904
DTEND;VALUE=DATE:20260908
DTSTAMP:20260422T032059
CREATED:20260409T155952Z
LAST-MODIFIED:20260411T175911Z
UID:10003176-1788480000-1788825599@fraenkische-kirchweih.de
SUMMARY:Gremsdorfer Zeltkerwa
DESCRIPTION:
URL:https://fraenkische-kirchweih.de/kalendereintrag/gremsdorfer-zeltkerwa/
LOCATION:Kulturverein Gremsdorf\, Gremsdorf\, Bayern\, 91350\, DEU
CATEGORIES:"Kerwa,Erlangen-Höchstadt,Mittelfranken
GEO:49.6959492;10.8335714
END:VEVENT
BEGIN:VEVENT
DTSTART;VALUE=DATE:20260904
DTEND;VALUE=DATE:20260908
DTSTAMP:20260422T032100
CREATED:20260411T175915Z
LAST-MODIFIED:20260411T175915Z
UID:10003238-1788480000-1788825599@fraenkische-kirchweih.de
SUMMARY:Zeltkerwa Langenfeld
DESCRIPTION:
URL:https://fraenkische-kirchweih.de/kalendereintrag/zeltkerwa-langenfeld/
LOCATION:Ortsburschen und Madle Langenfeld\, Langenfeld\, Bayern\, 91474\, DEU
CATEGORIES:"Kerwa,Mittelfranken,Neustadt an der Aisch-Bad Windsheim
GEO:49.6101767;10.5117416
END:VEVENT
BEGIN:VEVENT
DTSTART;VALUE=DATE:20260904
DTEND;VALUE=DATE:20260908
DTSTAMP:20260422T032100
CREATED:20260411T175916Z
LAST-MODIFIED:20260411T175916Z
UID:10003239-1788480000-1788825599@fraenkische-kirchweih.de
SUMMARY:Birkenfelder Kerwa
DESCRIPTION:
URL:https://fraenkische-kirchweih.de/kalendereintrag/birkenfelder-kerwa/
LOCATION:Ortsburschen und Madle Birkenfeld\, Birkenfeld\, Bayern\, 91413\, DEU
CATEGORIES:"Kerwa,Mittelfranken,Neustadt an der Aisch-Bad Windsheim
GEO:49.5729605;10.5698328
END:VEVENT
BEGIN:VEVENT
DTSTART;VALUE=DATE:20260904
DTEND;VALUE=DATE:20260908
DTSTAMP:20260422T032100
CREATED:20260411T175917Z
LAST-MODIFIED:20260411T175917Z
UID:10003240-1788480000-1788825599@fraenkische-kirchweih.de
SUMMARY:Kerwa Herrnneuses
DESCRIPTION:
URL:https://fraenkische-kirchweih.de/kalendereintrag/kerwa-herrnneuses/
LOCATION:SSV Herrnneuses\, Herrnneuses\, Bayern\, 91413\, DEU
CATEGORIES:"Kerwa,Mittelfranken,Neustadt an der Aisch-Bad Windsheim
GEO:49.5511465;10.6421397
END:VEVENT
BEGIN:VEVENT
DTSTART;VALUE=DATE:20260904
DTEND;VALUE=DATE:20260909
DTSTAMP:20260422T032100
CREATED:20260131T141118Z
LAST-MODIFIED:20260411T175853Z
UID:10002549-1788480000-1788911999@fraenkische-kirchweih.de
SUMMARY:Benzendorfer Kärwa
DESCRIPTION:
URL:https://fraenkische-kirchweih.de/kalendereintrag/benzendorfer-kaerwa-5/
LOCATION:Kärwaboum und Madla Benzendorf e.V.\, Benzendorf\, Bayern\, 90542\, DEU
CATEGORIES:"Kärwa,Erlangen-Höchstadt,Mittelfranken
GEO:49.5994544;11.2614013
END:VEVENT
BEGIN:VEVENT
DTSTART;VALUE=DATE:20260905
DTEND;VALUE=DATE:20260906
DTSTAMP:20260422T032100
CREATED:20260109T010031Z
LAST-MODIFIED:20260131T135450Z
UID:10002405-1788566400-1788652799@fraenkische-kirchweih.de
SUMMARY:Kirmes Roßbach
DESCRIPTION:
URL:https://fraenkische-kirchweih.de/kalendereintrag/kirmes-rossbach-5/
LOCATION:Kirmesburschen und -mädchen Roßbach\, Roßbach\, Hessen\, 36088\, DEU
CATEGORIES:"Kirmes,Fulda,Osthessen
GEO:50.7071496;9.7770344
END:VEVENT
BEGIN:VEVENT
DTSTART;VALUE=DATE:20260905
DTEND;VALUE=DATE:20260907
DTSTAMP:20260422T032100
CREATED:20260131T151350Z
LAST-MODIFIED:20260131T151350Z
UID:10002813-1788566400-1788739199@fraenkische-kirchweih.de
SUMMARY:Kirchweih Obereßfeld
DESCRIPTION:
URL:https://fraenkische-kirchweih.de/kalendereintrag/kirchweih-oberessfeld-5/
LOCATION:Ortsvereine Obereßfeld\, Obereßfeld\, Bayern\, 97528\, DEU
CATEGORIES:"Kirchweih,Rhön-Grabfeld,Unterfranken
GEO:50.2677946;10.5391099
END:VEVENT
BEGIN:VEVENT
DTSTART;VALUE=DATE:20260905
DTEND;VALUE=DATE:20260907
DTSTAMP:20260422T032100
CREATED:20260131T154149Z
LAST-MODIFIED:20260131T154149Z
UID:10002946-1788566400-1788739199@fraenkische-kirchweih.de
SUMMARY:Kirmes in Schnellbach
DESCRIPTION:
URL:https://fraenkische-kirchweih.de/kalendereintrag/kirmes-in-schnellbach-5/
LOCATION:Freiwillige Feuerwehr Schnellbach\, Schnellbach\, Thüringen\, 98593\, DEU
CATEGORIES:"Kirmes,Schmalkalden-Meiningen,Werra-Main-Franken
GEO:50.7556357;10.4996505
END:VEVENT
BEGIN:VEVENT
DTSTART;VALUE=DATE:20260905
DTEND;VALUE=DATE:20260908
DTSTAMP:20260422T032100
CREATED:20260131T140906Z
LAST-MODIFIED:20260411T175919Z
UID:10002505-1788566400-1788825599@fraenkische-kirchweih.de
SUMMARY:Kärwa Neuses
DESCRIPTION:
URL:https://fraenkische-kirchweih.de/kalendereintrag/kaerwa-neuses-5/
LOCATION:Fränkische Brauchtumspflege Neuses e.V.\, Neuses\, Bayern\, 90530\, DEU
CATEGORIES:"Kärwa,Mittelfranken,Roth
GEO:49.3355719;11.0884864
END:VEVENT
BEGIN:VEVENT
DTSTART;VALUE=DATE:20260905
DTEND;VALUE=DATE:20260908
DTSTAMP:20260422T032100
CREATED:20260131T151443Z
LAST-MODIFIED:20260131T151443Z
UID:10002845-1788566400-1788825599@fraenkische-kirchweih.de
SUMMARY:Ebersbacher Stodlkirwa
DESCRIPTION:
URL:https://fraenkische-kirchweih.de/kalendereintrag/ebersbacher-stodlkirwa-5/
LOCATION:Ortsvereine Ebersbach\, Ebersbach\, Bayern\, 92249\, DEU
CATEGORIES:"Kirwa,Amberg-Sulzbach,Oberpfalz
GEO:49.596584;11.8261644
END:VEVENT
BEGIN:VEVENT
DTSTART;VALUE=DATE:20260905
DTEND;VALUE=DATE:20260908
DTSTAMP:20260422T032100
CREATED:20260131T151756Z
LAST-MODIFIED:20260131T151756Z
UID:10002869-1788566400-1788825599@fraenkische-kirchweih.de
SUMMARY:Kirwa Pelchenhofen
DESCRIPTION:
URL:https://fraenkische-kirchweih.de/kalendereintrag/kirwa-pelchenhofen-5/
LOCATION:Ortsvereine Pelchenhofen\, Pelchenhofen\, Bayern\, 92318\, DEU
CATEGORIES:"Kirwa,Neumarkt in der Oberpfalz,Oberpfalz
GEO:49.2888793;11.5315254
END:VEVENT
BEGIN:VEVENT
DTSTART;VALUE=DATE:20260905
DTEND;VALUE=DATE:20260914
DTSTAMP:20260422T032100
CREATED:20260131T151351Z
LAST-MODIFIED:20260131T151351Z
UID:10002814-1788566400-1789343999@fraenkische-kirchweih.de
SUMMARY:Plankirchweih Gochsheim
DESCRIPTION:
URL:https://fraenkische-kirchweih.de/kalendereintrag/plankirchweih-gochsheim-5/
LOCATION:Ortsvereine Gochsheim\, Gochsheim\, Bayern\, 97469\, DEU
CATEGORIES:"Kirchweih,Schweinfurt,Unterfranken
GEO:50.0201557;10.2951262
END:VEVENT
BEGIN:VEVENT
DTSTART;VALUE=DATE:20260906
DTEND;VALUE=DATE:20260907
DTSTAMP:20260422T032100
CREATED:20260411T175930Z
LAST-MODIFIED:20260411T175930Z
UID:10003241-1788652800-1788739199@fraenkische-kirchweih.de
SUMMARY:Bergla Kerwa
DESCRIPTION:
URL:https://fraenkische-kirchweih.de/kalendereintrag/bergla-kerwa/
LOCATION:Ortsburschen und -madle Bergla\, Bergtheim\, Bayern\, 91468\, DEU
CATEGORIES:"Kerwa,Mittelfranken,Neustadt an der Aisch-Bad Windsheim
GEO:49.644529;10.6460002
END:VEVENT
BEGIN:VEVENT
DTSTART;VALUE=DATE:20260908
DTEND;VALUE=DATE:20260909
DTSTAMP:20260422T032100
CREATED:20260131T140829Z
LAST-MODIFIED:20260409T151854Z
UID:10002503-1788825600-1788911999@fraenkische-kirchweih.de
SUMMARY:Kerwa Fürstenforst
DESCRIPTION:
URL:https://fraenkische-kirchweih.de/kalendereintrag/kerwa-fuerstenforst-5/
LOCATION:Ortsvereine Fürstenforst\, Fürstenforst\, Bayern\, 96152\, DEU
CATEGORIES:"Kerwa,Mittelfranken,Neustadt an der Aisch-Bad Windsheim
GEO:49.7387003;10.5985478
END:VEVENT
BEGIN:VEVENT
DTSTART;VALUE=DATE:20260910
DTEND;VALUE=DATE:20260914
DTSTAMP:20260422T032100
CREATED:20260131T153805Z
LAST-MODIFIED:20260131T153805Z
UID:10002897-1788998400-1789343999@fraenkische-kirchweih.de
SUMMARY:Kirmes in Eicha
DESCRIPTION:
URL:https://fraenkische-kirchweih.de/kalendereintrag/kirmes-in-eicha-5/
LOCATION:TSV 1924 Eicha e.V.\, Eicha\, Thüringen\, 98630\, DEU
CATEGORIES:"Kirmes,Hildburghausen,Werra-Main-Franken
GEO:50.3496911;10.5701604
END:VEVENT
BEGIN:VEVENT
DTSTART;VALUE=DATE:20260910
DTEND;VALUE=DATE:20260914
DTSTAMP:20260422T032100
CREATED:20260131T154137Z
LAST-MODIFIED:20260131T154137Z
UID:10002938-1788998400-1789343999@fraenkische-kirchweih.de
SUMMARY:Kirmes Dillstädt
DESCRIPTION:
URL:https://fraenkische-kirchweih.de/kalendereintrag/kirmes-dillstaedt-5/
LOCATION:Kirmesgesellschaft Dillstädt e.V.\, Dillstädt\, Thüringen\, 98530\, DEU
CATEGORIES:"Kirmes,Schmalkalden-Meiningen,Werra-Main-Franken
GEO:50.5824563;10.5351579
END:VEVENT
BEGIN:VEVENT
DTSTART;VALUE=DATE:20260910
DTEND;VALUE=DATE:20260914
DTSTAMP:20260422T032100
CREATED:20260131T154149Z
LAST-MODIFIED:20260131T154149Z
UID:10002947-1788998400-1789343999@fraenkische-kirchweih.de
SUMMARY:Kirmes in Seligenthal
DESCRIPTION:
URL:https://fraenkische-kirchweih.de/kalendereintrag/kirmes-in-seligenthal-5/
LOCATION:Kirmesverein Seligenthal e.V.\, Seligenthal\, Thüringen\, 98593\, DEU
CATEGORIES:"Kirmes,Schmalkalden-Meiningen,Werra-Main-Franken
GEO:50.7621675;10.4751089
END:VEVENT
BEGIN:VEVENT
DTSTART;VALUE=DATE:20260910
DTEND;VALUE=DATE:20260914
DTSTAMP:20260422T032100
CREATED:20260131T154222Z
LAST-MODIFIED:20260131T154222Z
UID:10002961-1788998400-1789343999@fraenkische-kirchweih.de
SUMMARY:Kirmes Mittelsdorf
DESCRIPTION:
URL:https://fraenkische-kirchweih.de/kalendereintrag/kirmes-mittelsdorf-5/
LOCATION:Kirmesgesellschaft Mittelsdorf\, Mittelsdorf\, Thüringen\, 98634\, DEU
CATEGORIES:"Kirmes,Schmalkalden-Meiningen,Werra-Main-Franken
GEO:50.6075149;10.1321804
END:VEVENT
BEGIN:VEVENT
DTSTART;VALUE=DATE:20260910
DTEND;VALUE=DATE:20260914
DTSTAMP:20260422T032100
CREATED:20260409T160151Z
LAST-MODIFIED:20260411T175935Z
UID:10003183-1788998400-1789343999@fraenkische-kirchweih.de
SUMMARY:Hessdorfer Kerwa
DESCRIPTION:
URL:https://fraenkische-kirchweih.de/kalendereintrag/hessdorfer-kerwa/
LOCATION:Hessdorfer Ortsburschen und Madli\, Heßdorf\, Bayern\, 91093\, DEU
CATEGORIES:"Kerwa,Erlangen-Höchstadt,Mittelfranken
GEO:49.6547241;10.8913217
END:VEVENT
BEGIN:VEVENT
DTSTART;VALUE=DATE:20260910
DTEND;VALUE=DATE:20260914
DTSTAMP:20260422T032100
CREATED:20260411T175944Z
LAST-MODIFIED:20260411T175944Z
UID:10003243-1788998400-1789343999@fraenkische-kirchweih.de
SUMMARY:Mausdorfer Kerwa
DESCRIPTION:
URL:https://fraenkische-kirchweih.de/kalendereintrag/mausdorfer-kerwa/
LOCATION:Ortsburschen und Ortsmadli Mausdorf\, Mausdorf\, Bayern\, 91448\, DEU
CATEGORIES:"Kerwa,Mittelfranken,Neustadt an der Aisch-Bad Windsheim
GEO:49.5479536;10.7968566
END:VEVENT
BEGIN:VEVENT
DTSTART;VALUE=DATE:20260910
DTEND;VALUE=DATE:20260915
DTSTAMP:20260422T032100
CREATED:20260131T140909Z
LAST-MODIFIED:20260411T175932Z
UID:10002510-1788998400-1789430399@fraenkische-kirchweih.de
SUMMARY:Hartensteiner Kirwa
DESCRIPTION:
URL:https://fraenkische-kirchweih.de/kalendereintrag/hartensteiner-kirwa-5/
LOCATION:Kulturverein Hartenstein e. V.\, Hartenstein\, Bayern\, 91235\, DEU
CATEGORIES:"Kirwa,Mittelfranken,Nürnberger Land
GEO:49.5967;11.5249764
END:VEVENT
BEGIN:VEVENT
DTSTART;VALUE=DATE:20260910
DTEND;VALUE=DATE:20260915
DTSTAMP:20260422T032100
CREATED:20260131T141721Z
LAST-MODIFIED:20260411T175933Z
UID:10002635-1788998400-1789430399@fraenkische-kirchweih.de
SUMMARY:Immeldorfer Kerwa
DESCRIPTION:
URL:https://fraenkische-kirchweih.de/kalendereintrag/immeldorfer-kerwa/
LOCATION:Immeldorfer Kerwabuam und Kerwamadli\, Immeldorf\, Bayern\, 91586\, DEU
CATEGORIES:"Kerwa,Ansbach,Mittelfranken
GEO:49.2750922;10.723495
END:VEVENT
BEGIN:VEVENT
DTSTART;VALUE=DATE:20260910
DTEND;VALUE=DATE:20260915
DTSTAMP:20260422T032100
CREATED:20260131T145046Z
LAST-MODIFIED:20260131T145046Z
UID:10002759-1788998400-1789430399@fraenkische-kirchweih.de
SUMMARY:Ebser Kerwa
DESCRIPTION:
URL:https://fraenkische-kirchweih.de/kalendereintrag/ebser-kerwa-5/
LOCATION:Ebser Kerwa Glubb e.V.\, Ebermannstadt\, Bayern\, 91320\, DEU
CATEGORIES:"Kerwa,Forchheim,Oberfranken
GEO:49.7815565;11.1790694
END:VEVENT
BEGIN:VEVENT
DTSTART;VALUE=DATE:20260910
DTEND;VALUE=DATE:20260915
DTSTAMP:20260422T032100
CREATED:20260131T145046Z
LAST-MODIFIED:20260131T145046Z
UID:10002760-1788998400-1789430399@fraenkische-kirchweih.de
SUMMARY:Zeltkerwaa Buckenhofen
DESCRIPTION:
URL:https://fraenkische-kirchweih.de/kalendereintrag/zeltkerwaa-buckenhofen-5/
LOCATION:Kerwasburschen Buckenhofen e.V.\, Buckenhofen\, Bayern\, 91301\, DEU
CATEGORIES:"Kerwa,Forchheim,Oberfranken
GEO:49.7316311;11.0460247
END:VEVENT
END:VCALENDAR