BEGIN:VCALENDAR
VERSION:2.0
PRODID:-//Fränkische Kirchweih - ECPv6.15.17.1//NONSGML v1.0//EN
CALSCALE:GREGORIAN
METHOD:PUBLISH
X-ORIGINAL-URL:https://fraenkische-kirchweih.de
X-WR-CALDESC:Veranstaltungen für Fränkische Kirchweih
REFRESH-INTERVAL;VALUE=DURATION:PT1H
X-Robots-Tag:noindex
X-PUBLISHED-TTL:PT1H
BEGIN:VTIMEZONE
TZID:Europe/Berlin
BEGIN:DAYLIGHT
TZOFFSETFROM:+0100
TZOFFSETTO:+0200
TZNAME:CEST
DTSTART:20250330T010000
END:DAYLIGHT
BEGIN:STANDARD
TZOFFSETFROM:+0200
TZOFFSETTO:+0100
TZNAME:CET
DTSTART:20251026T010000
END:STANDARD
BEGIN:DAYLIGHT
TZOFFSETFROM:+0100
TZOFFSETTO:+0200
TZNAME:CEST
DTSTART:20260329T010000
END:DAYLIGHT
BEGIN:STANDARD
TZOFFSETFROM:+0200
TZOFFSETTO:+0100
TZNAME:CET
DTSTART:20261025T010000
END:STANDARD
BEGIN:DAYLIGHT
TZOFFSETFROM:+0100
TZOFFSETTO:+0200
TZNAME:CEST
DTSTART:20270328T010000
END:DAYLIGHT
BEGIN:STANDARD
TZOFFSETFROM:+0200
TZOFFSETTO:+0100
TZNAME:CET
DTSTART:20271031T010000
END:STANDARD
END:VTIMEZONE
BEGIN:VEVENT
DTSTART;VALUE=DATE:20260902
DTEND;VALUE=DATE:20260908
DTSTAMP:20260422T003002
CREATED:20260131T141549Z
LAST-MODIFIED:20260411T175825Z
UID:10002619-1788307200-1788825599@fraenkische-kirchweih.de
SUMMARY:Kerwa Ebersdorf
DESCRIPTION:
URL:https://fraenkische-kirchweih.de/kalendereintrag/kerwa-ebersdorf/
LOCATION:Ortsvereine Ebersdorf\, Ebersdorf\, Bayern\, 90599\, DEU
CATEGORIES:"Kerwa,Ansbach,Mittelfranken
GEO:50.4898867;11.3502157
END:VEVENT
BEGIN:VEVENT
DTSTART;VALUE=DATE:20260902
DTEND;VALUE=DATE:20260908
DTSTAMP:20260422T003002
CREATED:20260131T151349Z
LAST-MODIFIED:20260131T151349Z
UID:10002811-1788307200-1788825599@fraenkische-kirchweih.de
SUMMARY:Aicher Kerwa
DESCRIPTION:
URL:https://fraenkische-kirchweih.de/kalendereintrag/aicher-kerwa-5/
LOCATION:Kerwas-Moggl\, Kirchaich\, Bayern\, 97514\, DEU
CATEGORIES:"Kerwa,Haßberge,Unterfranken
GEO:49.9181219;10.682048
END:VEVENT
BEGIN:VEVENT
DTSTART;VALUE=DATE:20260903
DTEND;VALUE=DATE:20260906
DTSTAMP:20260422T003002
CREATED:20260131T141420Z
LAST-MODIFIED:20260411T175829Z
UID:10002607-1788393600-1788652799@fraenkische-kirchweih.de
SUMMARY:Bergener Kerwa
DESCRIPTION:
URL:https://fraenkische-kirchweih.de/kalendereintrag/bergener-kerwa/
LOCATION:Ortsvereine Bergen\, Bergen\, Bayern\, 91790\, DEU
CATEGORIES:"Kerwa,Mittelfranken,Weißenburg-Gunzenhausen
GEO:49.0737998;11.1138546
END:VEVENT
BEGIN:VEVENT
DTSTART;VALUE=DATE:20260903
DTEND;VALUE=DATE:20260907
DTSTAMP:20260422T003002
CREATED:20260131T135450Z
LAST-MODIFIED:20260131T135450Z
UID:10002406-1788393600-1788739199@fraenkische-kirchweih.de
SUMMARY:Zeltkirmes Oberlengsfeld
DESCRIPTION:
URL:https://fraenkische-kirchweih.de/kalendereintrag/zeltkirmes-oberlengsfeld-5/
LOCATION:Kirmesburschen und Mädchen Oberlengsfeld\, Oberlengsfeld\, Hessen\, 36277\, DEU
CATEGORIES:"Kirmes,Hersfeld-Rotenburg,Osthessen
GEO:50.821648;9.8596869
END:VEVENT
BEGIN:VEVENT
DTSTART;VALUE=DATE:20260903
DTEND;VALUE=DATE:20260907
DTSTAMP:20260422T003002
CREATED:20260131T153836Z
LAST-MODIFIED:20260131T153836Z
UID:10002918-1788393600-1788739199@fraenkische-kirchweih.de
SUMMARY:Kirmes in St. Bernhard
DESCRIPTION:
URL:https://fraenkische-kirchweih.de/kalendereintrag/kirmes-in-st-bernhard-5/
LOCATION:Kirmesgesellschaft St. Bernhard\, St. Bernhard\, Thüringen\, 98660\, DEU
CATEGORIES:"Kirmes,Hildburghausen,Werra-Main-Franken
GEO:50.4591821;10.5936467
END:VEVENT
BEGIN:VEVENT
DTSTART;VALUE=DATE:20260903
DTEND;VALUE=DATE:20260907
DTSTAMP:20260422T003002
CREATED:20260131T154037Z
LAST-MODIFIED:20260131T154037Z
UID:10002922-1788393600-1788739199@fraenkische-kirchweih.de
SUMMARY:Zeltkirmes Streufdorf
DESCRIPTION:
URL:https://fraenkische-kirchweih.de/kalendereintrag/zeltkirmes-streufdorf-5/
LOCATION:Kirmesgesellschaft Streufdorf\, Streufdorf\, Thüringen\, 98646\, DEU
CATEGORIES:"Kirmes,Hildburghausen,Werra-Main-Franken
GEO:50.36025;10.6891508
END:VEVENT
BEGIN:VEVENT
DTSTART;VALUE=DATE:20260903
DTEND;VALUE=DATE:20260907
DTSTAMP:20260422T003002
CREATED:20260131T154231Z
LAST-MODIFIED:20260131T154231Z
UID:10002965-1788393600-1788739199@fraenkische-kirchweih.de
SUMMARY:Kirmes in Neubrunn
DESCRIPTION:
URL:https://fraenkische-kirchweih.de/kalendereintrag/kirmes-in-neubrunn-5/
LOCATION:Kirmesgesellschaft Neubrunn\, Neubrunn\, Thüringen\, 98617\, DEU
CATEGORIES:"Kirmes,Schmalkalden-Meiningen,Werra-Main-Franken
GEO:50.4993897;10.4680453
END:VEVENT
BEGIN:VEVENT
DTSTART;VALUE=DATE:20260903
DTEND;VALUE=DATE:20260907
DTSTAMP:20260422T003002
CREATED:20260131T154254Z
LAST-MODIFIED:20260131T154254Z
UID:10002976-1788393600-1788739199@fraenkische-kirchweih.de
SUMMARY:Kirmes Asbach
DESCRIPTION:
URL:https://fraenkische-kirchweih.de/kalendereintrag/kirmes-asbach-5/
LOCATION:Kirmesverein Asbach e.V.\, Asbach\, Thüringen\, 98574\, DEU
CATEGORIES:Hildburghausen,Schmalkalden-Meiningen,Werra-Main-Franken
GEO:50.7271074;10.4849426
END:VEVENT
BEGIN:VEVENT
DTSTART;VALUE=DATE:20260903
DTEND;VALUE=DATE:20260907
DTSTAMP:20260422T003002
CREATED:20260131T154303Z
LAST-MODIFIED:20260131T154303Z
UID:10002979-1788393600-1788739199@fraenkische-kirchweih.de
SUMMARY:Kirmes Niederschmalkalden
DESCRIPTION:
URL:https://fraenkische-kirchweih.de/kalendereintrag/kirmes-niederschmalkalden-5/
LOCATION:Kirmesverein Niederschmalkalden e.V.\, Niederschmalkalden\, Thüringen\, 98574\, DEU
CATEGORIES:Hildburghausen,Schmalkalden-Meiningen,Werra-Main-Franken
GEO:50.7162224;10.372877
END:VEVENT
BEGIN:VEVENT
DTSTART;VALUE=DATE:20260903
DTEND;VALUE=DATE:20260907
DTSTAMP:20260422T003002
CREATED:20260131T154844Z
LAST-MODIFIED:20260131T154844Z
UID:10003046-1788393600-1788739199@fraenkische-kirchweih.de
SUMMARY:Kermes Wichtshausen
DESCRIPTION:
URL:https://fraenkische-kirchweih.de/kalendereintrag/kermes-wichtshausen-5/
LOCATION:Kirmesgesellschaft Wichtshausen e.V.\, Wichtshausen\, Thüringen\, 98530\, DEU
CATEGORIES:"Kermes,Suhl,Werra-Main-Franken
GEO:50.60037;10.5736128
END:VEVENT
BEGIN:VEVENT
DTSTART;VALUE=DATE:20260903
DTEND;VALUE=DATE:20260908
DTSTAMP:20260422T003002
CREATED:20260131T140813Z
LAST-MODIFIED:20260411T175826Z
UID:10002498-1788393600-1788825599@fraenkische-kirchweih.de
SUMMARY:Seebier Kerwa
DESCRIPTION:
URL:https://fraenkische-kirchweih.de/kalendereintrag/seebier-kerwa-5/
LOCATION:FSV Großenseebach\, Großenseebach\, Bayern\, 91091\, DEU
CATEGORIES:"Kerwa,Erlangen-Höchstadt,Mittelfranken
GEO:49.6308822;10.8780298
END:VEVENT
BEGIN:VEVENT
DTSTART;VALUE=DATE:20260903
DTEND;VALUE=DATE:20260908
DTSTAMP:20260422T003002
CREATED:20260131T141258Z
LAST-MODIFIED:20260411T175827Z
UID:10002573-1788393600-1788825599@fraenkische-kirchweih.de
SUMMARY:Kirwa Weigenhofen
DESCRIPTION:
URL:https://fraenkische-kirchweih.de/kalendereintrag/kirwa-weigenhofen-5/
LOCATION:Kirwaboum Weigenhofen e.V.\, Weigenhofen\, Bayern\, 91207\, DEU
CATEGORIES:"Kirwa,Mittelfranken,Nürnberger Land
GEO:49.4824026;11.3192987
END:VEVENT
BEGIN:VEVENT
DTSTART;VALUE=DATE:20260903
DTEND;VALUE=DATE:20260908
DTSTAMP:20260422T003002
CREATED:20260131T141551Z
LAST-MODIFIED:20260411T175842Z
UID:10002622-1788393600-1788825599@fraenkische-kirchweih.de
SUMMARY:Kerwa Sondernohe
DESCRIPTION:
URL:https://fraenkische-kirchweih.de/kalendereintrag/kerwa-sondernohe/
LOCATION:Ortsvereine Sondernohe\, Sondernohe\, Bayern\, 91604\, DEU
CATEGORIES:"Kerwa,Ansbach,Mittelfranken
GEO:49.439991;10.5226481
END:VEVENT
BEGIN:VEVENT
DTSTART;VALUE=DATE:20260903
DTEND;VALUE=DATE:20260908
DTSTAMP:20260422T003002
CREATED:20260131T145044Z
LAST-MODIFIED:20260131T145044Z
UID:10002757-1788393600-1788825599@fraenkische-kirchweih.de
SUMMARY:Zeltkerwa Truppach
DESCRIPTION:
URL:https://fraenkische-kirchweih.de/kalendereintrag/zeltkerwa-truppach-5/
LOCATION:Landjugend Truppach e.V.\, Truppach\, Bayern\, 95490\, DEU
CATEGORIES:"Kerwa,Bayreuth,Oberfranken
GEO:49.908601;11.3720315
END:VEVENT
BEGIN:VEVENT
DTSTART;VALUE=DATE:20260903
DTEND;VALUE=DATE:20260908
DTSTAMP:20260422T003002
CREATED:20260131T153817Z
LAST-MODIFIED:20260131T153817Z
UID:10002909-1788393600-1788825599@fraenkische-kirchweih.de
SUMMARY:Zeltkirmes Schönbrunn
DESCRIPTION:
URL:https://fraenkische-kirchweih.de/kalendereintrag/zeltkirmes-schoenbrunn-5/
LOCATION:Kirmesgesellschaft Schönbrunn e.V.\, Schönbrunn\, Thüringen\, 98667\, DEU
CATEGORIES:"Kirmes,Hildburghausen,Werra-Main-Franken
GEO:50.5199534;10.8753445
END:VEVENT
BEGIN:VEVENT
DTSTART;VALUE=DATE:20260903
DTEND;VALUE=DATE:20260908
DTSTAMP:20260422T003002
CREATED:20260131T155102Z
LAST-MODIFIED:20260131T155102Z
UID:10003056-1788393600-1788825599@fraenkische-kirchweih.de
SUMMARY:Kirmes in Immelborn
DESCRIPTION:
URL:https://fraenkische-kirchweih.de/kalendereintrag/kirmes-in-immelborn-5/
LOCATION:Kirmesverein Immelborn e.V.\, Immelborn\, Thüringen\, 36456\, DEU
CATEGORIES:"Kirmes,Wartburgkreis,Werra-Main-Franken
GEO:50.79307;10.2782488
END:VEVENT
BEGIN:VEVENT
DTSTART;VALUE=DATE:20260903
DTEND;VALUE=DATE:20260908
DTSTAMP:20260422T003002
CREATED:20260131T155845Z
LAST-MODIFIED:20260131T155845Z
UID:10003084-1788393600-1788825599@fraenkische-kirchweih.de
SUMMARY:Zeltkirmes Schleid
DESCRIPTION:
URL:https://fraenkische-kirchweih.de/kalendereintrag/zeltkirmes-schleid-5/
LOCATION:Kirmesgesellschaft Schleid\, Schleid\, Thüringen\, 36419\, DEU
CATEGORIES:"Kirmes,Wartburgkreis,Werra-Main-Franken
GEO:50.6958137;9.9536588
END:VEVENT
BEGIN:VEVENT
DTSTART;VALUE=DATE:20260904
DTEND;VALUE=DATE:20260907
DTSTAMP:20260422T003002
CREATED:20260131T145042Z
LAST-MODIFIED:20260131T145042Z
UID:10002755-1788480000-1788739199@fraenkische-kirchweih.de
SUMMARY:Betzensteiner Kirwa
DESCRIPTION:
URL:https://fraenkische-kirchweih.de/kalendereintrag/betzensteiner-kirwa-5/
LOCATION:Kirwa Betzenstein\, Betzenstein\, Bayern\, 91282\, DEU
CATEGORIES:"Kirwa,Bayreuth,Oberfranken
GEO:49.6800476;11.4176052
END:VEVENT
BEGIN:VEVENT
DTSTART;VALUE=DATE:20260904
DTEND;VALUE=DATE:20260907
DTSTAMP:20260422T003002
CREATED:20260131T145044Z
LAST-MODIFIED:20260131T145044Z
UID:10002756-1788480000-1788739199@fraenkische-kirchweih.de
SUMMARY:Stechendorfer Zeltkerwa
DESCRIPTION:
URL:https://fraenkische-kirchweih.de/kalendereintrag/stechendorfer-zeltkerwa-5/
LOCATION:Kerwasburschen und -madla Stechendorf e.V.\, Stechendorf\, Bayern\, 96142\, DEU
CATEGORIES:"Kerwa,Bayreuth,Oberfranken
GEO:49.9083246;11.3157644
END:VEVENT
BEGIN:VEVENT
DTSTART;VALUE=DATE:20260904
DTEND;VALUE=DATE:20260907
DTSTAMP:20260422T003002
CREATED:20260131T153758Z
LAST-MODIFIED:20260131T153758Z
UID:10002890-1788480000-1788739199@fraenkische-kirchweih.de
SUMMARY:Wallrabser Trachtrenkirmes
DESCRIPTION:
URL:https://fraenkische-kirchweih.de/kalendereintrag/wallrabser-trachtrenkirmes-5/
LOCATION:Kirmesverein Wallrabs e.V.\, Wallrabs\, Thüringen\, 98646\, DEU
CATEGORIES:"Kirmes,Hildburghausen,Werra-Main-Franken
GEO:50.421627;10.7144116
END:VEVENT
BEGIN:VEVENT
DTSTART;VALUE=DATE:20260904
DTEND;VALUE=DATE:20260907
DTSTAMP:20260422T003002
CREATED:20260131T154716Z
LAST-MODIFIED:20260131T154716Z
UID:10003016-1788480000-1788739199@fraenkische-kirchweih.de
SUMMARY:Kermse Goldisthal
DESCRIPTION:
URL:https://fraenkische-kirchweih.de/kalendereintrag/kermse-goldisthal-5/
LOCATION:Kermsen- und Heimatverein Goldisthal e.V.\, Goldisthal\, Thüringen\, 98746\, DEU
CATEGORIES:"Kermse,Sonneberg,Werra-Main-Franken
GEO:50.5204055;11.00532
END:VEVENT
BEGIN:VEVENT
DTSTART;VALUE=DATE:20260904
DTEND;VALUE=DATE:20260907
DTSTAMP:20260422T003002
CREATED:20260131T155445Z
LAST-MODIFIED:20260131T155445Z
UID:10003076-1788480000-1788739199@fraenkische-kirchweih.de
SUMMARY:Kirmes in Etterwinden
DESCRIPTION:
URL:https://fraenkische-kirchweih.de/kalendereintrag/kirmes-in-etterwinden-5/
LOCATION:Kirmesgesellschaft Etterwinden\, Etterwinden\, Thüringen\, 36433\, DEU
CATEGORIES:"Kirmes,Wartburgkreis,Werra-Main-Franken
GEO:50.894405;10.2971631
END:VEVENT
BEGIN:VEVENT
DTSTART;VALUE=DATE:20260904
DTEND;VALUE=DATE:20260907
DTSTAMP:20260422T003002
CREATED:20260131T160046Z
LAST-MODIFIED:20260131T160046Z
UID:10003092-1788480000-1788739199@fraenkische-kirchweih.de
SUMMARY:Zeltkirmes in Weilar
DESCRIPTION:
URL:https://fraenkische-kirchweih.de/kalendereintrag/zeltkirmes-in-weilar-5/
LOCATION:Kirmesgesellschaft Weilar\, Weilar\, Thüringen\, 36457\, DEU
CATEGORIES:"Kirmes,Wartburgkreis,Werra-Main-Franken
GEO:50.7626206;10.1559319
END:VEVENT
BEGIN:VEVENT
DTSTART;VALUE=DATE:20260904
DTEND;VALUE=DATE:20260908
DTSTAMP:20260422T003002
CREATED:20260131T140827Z
LAST-MODIFIED:20260411T175843Z
UID:10002499-1788480000-1788825599@fraenkische-kirchweih.de
SUMMARY:Poppenreuther Kärwa
DESCRIPTION:
URL:https://fraenkische-kirchweih.de/kalendereintrag/poppenreuther-kaerwa-5/
LOCATION:Kreuzbauern Fürth Poppenreuth\, Poppenreuth\, Bayern\, 90765\, DEU
CATEGORIES:"Kärwa,Fürth,Mittelfranken
GEO:49.4824015;11.0089162
END:VEVENT
BEGIN:VEVENT
DTSTART;VALUE=DATE:20260904
DTEND;VALUE=DATE:20260908
DTSTAMP:20260422T003002
CREATED:20260131T140828Z
LAST-MODIFIED:20260411T175843Z
UID:10002500-1788480000-1788825599@fraenkische-kirchweih.de
SUMMARY:Weitersdorfer Stodlkärwa
DESCRIPTION:
URL:https://fraenkische-kirchweih.de/kalendereintrag/weitersdorfer-stodlkaerwa-5/
LOCATION:Weitersdorfer Kärwaboum e.V.\, Weitersdorf\, Bayern\, 90574\, DEU
CATEGORIES:"Kärwa,Fürth,Mittelfranken
GEO:49.4024212;10.9107118
END:VEVENT
BEGIN:VEVENT
DTSTART;VALUE=DATE:20260904
DTEND;VALUE=DATE:20260908
DTSTAMP:20260422T003002
CREATED:20260131T140828Z
LAST-MODIFIED:20260411T175843Z
UID:10002501-1788480000-1788825599@fraenkische-kirchweih.de
SUMMARY:Weiherhofer Kärwa
DESCRIPTION:
URL:https://fraenkische-kirchweih.de/kalendereintrag/weiherhofer-kaerwa-5/
LOCATION:Kärwaburschen und Madli Weiherhof e. V.\, Weiherhof\, Bayern\, 90513\, DEU
CATEGORIES:"Kärwa,Fürth,Mittelfranken
GEO:49.4567254;10.9276909
END:VEVENT
BEGIN:VEVENT
DTSTART;VALUE=DATE:20260904
DTEND;VALUE=DATE:20260908
DTSTAMP:20260422T003002
CREATED:20260131T140905Z
LAST-MODIFIED:20260411T175844Z
UID:10002504-1788480000-1788825599@fraenkische-kirchweih.de
SUMMARY:Kärwa Mimberg
DESCRIPTION:
URL:https://fraenkische-kirchweih.de/kalendereintrag/kaerwa-mimberg-5/
LOCATION:Kärwa Mimberg\, Mimberg\, Bayern\, 90559\, DEU
CATEGORIES:"Kärwa,Mittelfranken,Nürnberger Land
GEO:49.3526242;11.2787274
END:VEVENT
BEGIN:VEVENT
DTSTART;VALUE=DATE:20260904
DTEND;VALUE=DATE:20260908
DTSTAMP:20260422T003002
CREATED:20260131T141118Z
LAST-MODIFIED:20260411T175857Z
UID:10002550-1788480000-1788825599@fraenkische-kirchweih.de
SUMMARY:Bruckberger Kärwa
DESCRIPTION:
URL:https://fraenkische-kirchweih.de/kalendereintrag/bruckberger-kaerwa-5/
LOCATION:Bruckberger Kärwabuum e. V.\, Bruckberg\, Bayern\, 91590\, DEU
CATEGORIES:"Kärwa,Ansbach,Mittelfranken
GEO:49.358097;10.6980217
END:VEVENT
BEGIN:VEVENT
DTSTART;VALUE=DATE:20260904
DTEND;VALUE=DATE:20260908
DTSTAMP:20260422T003002
CREATED:20260131T141713Z
LAST-MODIFIED:20260411T175900Z
UID:10002631-1788480000-1788825599@fraenkische-kirchweih.de
SUMMARY:Kirchweih Leutershausen
DESCRIPTION:
URL:https://fraenkische-kirchweih.de/kalendereintrag/kirchweih-leutershausen/
LOCATION:Kerwabuam und -Madli Leutershausen\, Leutershausen\, Bayern\, 91578\, DEU
CATEGORIES:"Kerwa,Ansbach,Mittelfranken
GEO:49.2855401;10.380519
END:VEVENT
BEGIN:VEVENT
DTSTART;VALUE=DATE:20260904
DTEND;VALUE=DATE:20260908
DTSTAMP:20260422T003002
CREATED:20260131T145045Z
LAST-MODIFIED:20260131T145045Z
UID:10002758-1788480000-1788825599@fraenkische-kirchweih.de
SUMMARY:Neundorfer Zeltkirchweih
DESCRIPTION:
URL:https://fraenkische-kirchweih.de/kalendereintrag/neundorfer-zeltkirchweih-5/
LOCATION:Ortsvereine Neundorf\, Neundorf\, Bayern\, 96479\, DEU
CATEGORIES:"Kirchweih,Coburg,Oberfranken
GEO:50.2252019;10.8435996
END:VEVENT
END:VCALENDAR