BEGIN:VCALENDAR
VERSION:2.0
PRODID:-//Fränkische Kirchweih - ECPv6.15.17.1//NONSGML v1.0//EN
CALSCALE:GREGORIAN
METHOD:PUBLISH
X-WR-CALNAME:Fränkische Kirchweih
X-ORIGINAL-URL:https://fraenkische-kirchweih.de
X-WR-CALDESC:Veranstaltungen für Fränkische Kirchweih
REFRESH-INTERVAL;VALUE=DURATION:PT1H
X-Robots-Tag:noindex
X-PUBLISHED-TTL:PT1H
BEGIN:VTIMEZONE
TZID:Europe/Berlin
BEGIN:DAYLIGHT
TZOFFSETFROM:+0100
TZOFFSETTO:+0200
TZNAME:CEST
DTSTART:20250330T010000
END:DAYLIGHT
BEGIN:STANDARD
TZOFFSETFROM:+0200
TZOFFSETTO:+0100
TZNAME:CET
DTSTART:20251026T010000
END:STANDARD
BEGIN:DAYLIGHT
TZOFFSETFROM:+0100
TZOFFSETTO:+0200
TZNAME:CEST
DTSTART:20260329T010000
END:DAYLIGHT
BEGIN:STANDARD
TZOFFSETFROM:+0200
TZOFFSETTO:+0100
TZNAME:CET
DTSTART:20261025T010000
END:STANDARD
BEGIN:DAYLIGHT
TZOFFSETFROM:+0100
TZOFFSETTO:+0200
TZNAME:CEST
DTSTART:20270328T010000
END:DAYLIGHT
BEGIN:STANDARD
TZOFFSETFROM:+0200
TZOFFSETTO:+0100
TZNAME:CET
DTSTART:20271031T010000
END:STANDARD
END:VTIMEZONE
BEGIN:VEVENT
DTSTART;VALUE=DATE:20260820
DTEND;VALUE=DATE:20260825
DTSTAMP:20260422T043240
CREATED:20260131T145041Z
LAST-MODIFIED:20260131T145041Z
UID:10002753-1787184000-1787615999@fraenkische-kirchweih.de
SUMMARY:Lindenkerwa Langenstadt
DESCRIPTION:
URL:https://fraenkische-kirchweih.de/kalendereintrag/lindenkerwa-langenstadt-5/
LOCATION:Ortsburschen Langenstadt/Buch am Sand\, Langenstadt\, Bayern\, 95512\, DEU
CATEGORIES:"Kerwa,Kulmbach,Oberfranken
GEO:50.0341654;11.4546997
END:VEVENT
BEGIN:VEVENT
DTSTART;VALUE=DATE:20260820
DTEND;VALUE=DATE:20260825
DTSTAMP:20260422T043240
CREATED:20260222T162216Z
LAST-MODIFIED:20260411T175703Z
UID:10003112-1787184000-1787615999@fraenkische-kirchweih.de
SUMMARY:Kirwa Diepersdorf
DESCRIPTION:
URL:https://fraenkische-kirchweih.de/kalendereintrag/kirwa-diepersdorf/
LOCATION:Diepersdorfer Kirwaboum\, Diepersdorf\, Bayern\, 91227\, DEU
CATEGORIES:"Kirwa,Mittelfranken,Nürnberger Land
GEO:49.4608203;11.2901094
END:VEVENT
BEGIN:VEVENT
DTSTART;VALUE=DATE:20260820
DTEND;VALUE=DATE:20260825
DTSTAMP:20260422T043240
CREATED:20260409T160949Z
LAST-MODIFIED:20260411T175703Z
UID:10003200-1787184000-1787615999@fraenkische-kirchweih.de
SUMMARY:Weingartsgreuther Kerwa
DESCRIPTION:
URL:https://fraenkische-kirchweih.de/kalendereintrag/weingartsgreuther-kerwa/
LOCATION:Kulturverein Weingartsgreuth e.V.\, Weingartsgreuth\, Bayern\, 96193\, DEU
CATEGORIES:"Kerwa,Erlangen-Höchstadt,Mittelfranken
GEO:49.7372066;10.7353346
END:VEVENT
BEGIN:VEVENT
DTSTART;VALUE=DATE:20260820
DTEND;VALUE=DATE:20260825
DTSTAMP:20260422T043240
CREATED:20260411T175704Z
LAST-MODIFIED:20260411T175704Z
UID:10003234-1787184000-1787615999@fraenkische-kirchweih.de
SUMMARY:Zeltkerwa Gerhardshofen
DESCRIPTION:
URL:https://fraenkische-kirchweih.de/kalendereintrag/zeltkerwa-gerhardshofen/
LOCATION:Ortsburschen und -Madle Gerhardshofen\, Gerhardshofen\, Bayern\, 91466\, DEU
CATEGORIES:"Kerwa,Mittelfranken,Neustadt an der Aisch-Bad Windsheim
GEO:49.6297064;10.6945405
END:VEVENT
BEGIN:VEVENT
DTSTART;VALUE=DATE:20260820
DTEND;VALUE=DATE:20260826
DTSTAMP:20260422T043240
CREATED:20260131T145041Z
LAST-MODIFIED:20260131T145041Z
UID:10002754-1787184000-1787702399@fraenkische-kirchweih.de
SUMMARY:Limmersdorfer Lindenkirchweih
DESCRIPTION:
URL:https://fraenkische-kirchweih.de/kalendereintrag/limmersdorfer-lindenkirchweih-5/
LOCATION:Verein zur Erhaltung und Förderung der Limmersdorfer Kirchweihtradition\, Limmersdorf\, Bayern\, 95349\, DEU
CATEGORIES:"Kirchweih,Kulmbach,Oberfranken
GEO:50.0093635;11.4067489
END:VEVENT
BEGIN:VEVENT
DTSTART;VALUE=DATE:20260820
DTEND;VALUE=DATE:20260828
DTSTAMP:20260422T043240
CREATED:20260131T145040Z
LAST-MODIFIED:20260131T145040Z
UID:10002751-1787184000-1787875199@fraenkische-kirchweih.de
SUMMARY:Ehrabocha Kerwa
DESCRIPTION:
URL:https://fraenkische-kirchweih.de/kalendereintrag/ehrabocha-kerwa-5/
LOCATION:Brauchtums- und Geselligkeitsverein Ehrabocha Kerwasburschen e.V.\, Kirchehrenbach\, Bayern\, 91356\, DEU
CATEGORIES:"Kerwa,Forchheim,Oberfranken
GEO:49.7327889;11.1542996
END:VEVENT
BEGIN:VEVENT
DTSTART;VALUE=DATE:20260821
DTEND;VALUE=DATE:20260823
DTSTAMP:20260422T043240
CREATED:20260409T160349Z
LAST-MODIFIED:20260411T175740Z
UID:10003185-1787270400-1787443199@fraenkische-kirchweih.de
SUMMARY:Hesselberger Kerwa
DESCRIPTION:
URL:https://fraenkische-kirchweih.de/kalendereintrag/hesselberger-kerwa/
LOCATION:Hesselberger Ortsburschen und Madle\, Hesselberg\, Bayern\, 91093\, DEU
CATEGORIES:"Kerwa,Erlangen-Höchstadt,Mittelfranken
GEO:49.6584962;10.8685557
END:VEVENT
BEGIN:VEVENT
DTSTART;VALUE=DATE:20260821
DTEND;VALUE=DATE:20260824
DTSTAMP:20260422T043240
CREATED:20260131T140806Z
LAST-MODIFIED:20260411T175704Z
UID:10002489-1787270400-1787529599@fraenkische-kirchweih.de
SUMMARY:Igelsdorfer Kerwa
DESCRIPTION:
URL:https://fraenkische-kirchweih.de/kalendereintrag/igelsdorfer-kerwa-5/
LOCATION:Kerwasburschen Igelsdorf\, Igelsdorf\, Bayern\, 91083\, DEU
CATEGORIES:"Kerwa,Erlangen-Höchstadt,Mittelfranken
GEO:49.6461177;11.0420716
END:VEVENT
BEGIN:VEVENT
DTSTART;VALUE=DATE:20260821
DTEND;VALUE=DATE:20260824
DTSTAMP:20260422T043240
CREATED:20260131T140808Z
LAST-MODIFIED:20260409T151826Z
UID:10002492-1787270400-1787529599@fraenkische-kirchweih.de
SUMMARY:Kerwa Seitenbuch
DESCRIPTION:
URL:https://fraenkische-kirchweih.de/kalendereintrag/kerwa-seitenbuch-5/
LOCATION:Ortsvereine Seitenbuch\, Seitenbuch\, Bayern\, 96152\, DEU
CATEGORIES:"Kerwa,Mittelfranken,Neustadt an der Aisch-Bad Windsheim
GEO:49.7081815;10.494087
END:VEVENT
BEGIN:VEVENT
DTSTART;VALUE=DATE:20260821
DTEND;VALUE=DATE:20260824
DTSTAMP:20260422T043240
CREATED:20260131T141402Z
LAST-MODIFIED:20260411T175712Z
UID:10002601-1787270400-1787529599@fraenkische-kirchweih.de
SUMMARY:Haundorfer Kerwa
DESCRIPTION:
URL:https://fraenkische-kirchweih.de/kalendereintrag/haundorfer-kerwa-6/
LOCATION:Ortsvereine Haundorf\, Haundorf\, Bayern\, 91729\, DEU
CATEGORIES:"Kerwa,Mittelfranken,Weißenburg-Gunzenhausen
GEO:49.5882569;10.9189151
END:VEVENT
BEGIN:VEVENT
DTSTART;VALUE=DATE:20260821
DTEND;VALUE=DATE:20260824
DTSTAMP:20260422T043240
CREATED:20260131T141712Z
LAST-MODIFIED:20260411T175713Z
UID:10002628-1787270400-1787529599@fraenkische-kirchweih.de
SUMMARY:Kärwa Müncherlbach
DESCRIPTION:
URL:https://fraenkische-kirchweih.de/kalendereintrag/kaerwa-muencherlbach/
LOCATION:Müncherlbacher Kärwarudl\, Müncherlbach\, Bayern\, 91560\, DEU
CATEGORIES:"Kärwa,Ansbach,Mittelfranken
GEO:49.3520955;10.845601
END:VEVENT
BEGIN:VEVENT
DTSTART;VALUE=DATE:20260821
DTEND;VALUE=DATE:20260824
DTSTAMP:20260422T043240
CREATED:20260131T144858Z
LAST-MODIFIED:20260131T144858Z
UID:10002748-1787270400-1787529599@fraenkische-kirchweih.de
SUMMARY:Misslwoocha Kerwa
DESCRIPTION:
URL:https://fraenkische-kirchweih.de/kalendereintrag/misslwoocha-kerwa-5/
LOCATION:Kerwa Mistelbach\, Mistelbach\, Bayern\, 95511\, DEU
CATEGORIES:"Kerwa,Bayreuth,Oberfranken
GEO:49.9145091;11.51771
END:VEVENT
BEGIN:VEVENT
DTSTART;VALUE=DATE:20260821
DTEND;VALUE=DATE:20260824
DTSTAMP:20260422T043240
CREATED:20260131T151304Z
LAST-MODIFIED:20260131T153745Z
UID:10002787-1787270400-1787529599@fraenkische-kirchweih.de
SUMMARY:Trachtenkirmes Wiedersbach
DESCRIPTION:
URL:https://fraenkische-kirchweih.de/kalendereintrag/trachtenkirmes-wiedersbach-5/
LOCATION:Kirmesgesellschaft Wiedersbach\, Wiedersbach\, Thüringen\, 98673\, DEU
CATEGORIES:"Kirmes,Hildburghausen,Werra-Main-Franken
GEO:50.4759387;10.800672
END:VEVENT
BEGIN:VEVENT
DTSTART;VALUE=DATE:20260821
DTEND;VALUE=DATE:20260824
DTSTAMP:20260422T043240
CREATED:20260131T154730Z
LAST-MODIFIED:20260131T154730Z
UID:10003019-1787270400-1787529599@fraenkische-kirchweih.de
SUMMARY:Neuhäuser Kirmes
DESCRIPTION:
URL:https://fraenkische-kirchweih.de/kalendereintrag/neuhaeuser-kirmes-5/
LOCATION:Carnevals- und Kirmesverein Neuhaus e.V.\, Neuhaus\, Thüringen\, 98724\, DEU
CATEGORIES:"Kirmes,Sonneberg,Werra-Main-Franken
GEO:50.4939927;11.1404127
END:VEVENT
BEGIN:VEVENT
DTSTART;VALUE=DATE:20260821
DTEND;VALUE=DATE:20260824
DTSTAMP:20260422T043240
CREATED:20260131T154800Z
LAST-MODIFIED:20260131T154800Z
UID:10003030-1787270400-1787529599@fraenkische-kirchweih.de
SUMMARY:Kerwa Blechhammer
DESCRIPTION:
URL:https://fraenkische-kirchweih.de/kalendereintrag/kerwa-blechhammer-5/
LOCATION:Ortsvereine Blechhammer\, Blechhammer\, Thüringen\, 96515\, DEU
CATEGORIES:"Kerwa,Sonneberg,Werra-Main-Franken
GEO:50.3970844;11.2020702
END:VEVENT
BEGIN:VEVENT
DTSTART;VALUE=DATE:20260821
DTEND;VALUE=DATE:20260824
DTSTAMP:20260422T043240
CREATED:20260131T154801Z
LAST-MODIFIED:20260131T154801Z
UID:10003032-1787270400-1787529599@fraenkische-kirchweih.de
SUMMARY:Hönbacher Kirchweih
DESCRIPTION:
URL:https://fraenkische-kirchweih.de/kalendereintrag/hoenbacher-kirchweih-5/
LOCATION:Kirmesverein Hönbach e.V.\, Hönbach\, Thüringen\, 96515\, DEU
CATEGORIES:"Kirchweih,Sonneberg,Werra-Main-Franken
GEO:50.3482328;11.1466227
END:VEVENT
BEGIN:VEVENT
DTSTART;VALUE=DATE:20260821
DTEND;VALUE=DATE:20260824
DTSTAMP:20260422T043240
CREATED:20260131T154843Z
LAST-MODIFIED:20260131T154843Z
UID:10003044-1787270400-1787529599@fraenkische-kirchweih.de
SUMMARY:Kirmes Mäbendorf
DESCRIPTION:
URL:https://fraenkische-kirchweih.de/kalendereintrag/kirmes-maebendorf-5/
LOCATION:Bürgerverein PRO Mäbendorf e.V.\, Mäbendorf\, Thüringen\, 98529\, DEU
CATEGORIES:"Kirmes,Suhl,Werra-Main-Franken
GEO:50.6041954;10.6265297
END:VEVENT
BEGIN:VEVENT
DTSTART;VALUE=DATE:20260821
DTEND;VALUE=DATE:20260824
DTSTAMP:20260422T043240
CREATED:20260131T154843Z
LAST-MODIFIED:20260131T154843Z
UID:10003045-1787270400-1787529599@fraenkische-kirchweih.de
SUMMARY:Schmiedefelder Zeltkirmes
DESCRIPTION:
URL:https://fraenkische-kirchweih.de/kalendereintrag/schmiedefelder-zeltkirmes-5/
LOCATION:Kirmesgesellschaft Schmiedefeld\, Schmiedefeld am Rennsteig\, Thüringen\, 98711\, DEU
CATEGORIES:"Kirmes,Suhl,Werra-Main-Franken
GEO:50.6082051;10.8123411
END:VEVENT
BEGIN:VEVENT
DTSTART;VALUE=DATE:20260821
DTEND;VALUE=DATE:20260824
DTSTAMP:20260422T043240
CREATED:20260131T155445Z
LAST-MODIFIED:20260131T155445Z
UID:10003075-1787270400-1787529599@fraenkische-kirchweih.de
SUMMARY:Kirmes in Leimbach
DESCRIPTION:
URL:https://fraenkische-kirchweih.de/kalendereintrag/kirmes-in-leimbach-5/
LOCATION:Kirmesgesellschaft Leimbach\, Leimbach\, Thüringen\, 36433\, DEU
CATEGORIES:"Kirmes,Wartburgkreis,Werra-Main-Franken
GEO:50.8140024;10.192262
END:VEVENT
BEGIN:VEVENT
DTSTART;VALUE=DATE:20260821
DTEND;VALUE=DATE:20260824
DTSTAMP:20260422T043240
CREATED:20260320T232155Z
LAST-MODIFIED:20260411T175726Z
UID:10003145-1787270400-1787529599@fraenkische-kirchweih.de
SUMMARY:Kärwa Clarsbach
DESCRIPTION:
URL:https://fraenkische-kirchweih.de/kalendereintrag/kaerwa-clarsbach/
LOCATION:Ortsvereine Clarsbach\, Clarsbach\, Bayern\, 90574\, DEU
CATEGORIES:"Kärwa,Fürth,Mittelfranken
GEO:49.3837145;10.8540715
END:VEVENT
BEGIN:VEVENT
DTSTART;VALUE=DATE:20260821
DTEND;VALUE=DATE:20260824
DTSTAMP:20260422T043240
CREATED:20260320T232156Z
LAST-MODIFIED:20260411T175738Z
UID:10003146-1787270400-1787529599@fraenkische-kirchweih.de
SUMMARY:Kerwa Stöckach
DESCRIPTION:
URL:https://fraenkische-kirchweih.de/kalendereintrag/kerwa-stoeckach/
LOCATION:Kerwaboum Stöckach e.V.\, Stöckach\, Bayern\, 90574\, DEU
CATEGORIES:"Kerwa,Fürth,Mittelfranken
GEO:49.6142548;11.2239861
END:VEVENT
BEGIN:VEVENT
DTSTART;VALUE=DATE:20260821
DTEND;VALUE=DATE:20260825
DTSTAMP:20260422T043240
CREATED:20260131T140807Z
LAST-MODIFIED:20260411T175705Z
UID:10002490-1787270400-1787615999@fraenkische-kirchweih.de
SUMMARY:Fürberger Kärwa
DESCRIPTION:
URL:https://fraenkische-kirchweih.de/kalendereintrag/fuerberger-kaerwa-5/
LOCATION:Fürberger Kärwaburschen e. V.\, Fürberg\, Bayern\, 90768\, DEU
CATEGORIES:"Kärwa,Fürth,Mittelfranken
GEO:49.4713725;10.9546862
END:VEVENT
BEGIN:VEVENT
DTSTART;VALUE=DATE:20260821
DTEND;VALUE=DATE:20260825
DTSTAMP:20260422T043240
CREATED:20260131T140808Z
LAST-MODIFIED:20260411T175711Z
UID:10002491-1787270400-1787615999@fraenkische-kirchweih.de
SUMMARY:Stadelner Kärwa
DESCRIPTION:
URL:https://fraenkische-kirchweih.de/kalendereintrag/stadelner-kaerwa-5/
LOCATION:Stadelner Kärwaverein e.V.\, Stadeln\, Bayern\, 90765\, DEU
CATEGORIES:"Kärwa,Fürth,Mittelfranken
GEO:49.5084925;10.9784722
END:VEVENT
BEGIN:VEVENT
DTSTART;VALUE=DATE:20260821
DTEND;VALUE=DATE:20260825
DTSTAMP:20260422T043240
CREATED:20260131T140811Z
LAST-MODIFIED:20260411T175711Z
UID:10002496-1787270400-1787615999@fraenkische-kirchweih.de
SUMMARY:Kerwa Leerstetten
DESCRIPTION:
URL:https://fraenkische-kirchweih.de/kalendereintrag/kerwa-leerstetten-5/
LOCATION:Kerwaboum Leerstetten\, Leerstetten\, Bayern\, 90596\, DEU
CATEGORIES:"Kerwa,Mittelfranken,Roth
GEO:49.3192915;11.1272611
END:VEVENT
BEGIN:VEVENT
DTSTART;VALUE=DATE:20260821
DTEND;VALUE=DATE:20260825
DTSTAMP:20260422T043240
CREATED:20260131T141259Z
LAST-MODIFIED:20260411T175712Z
UID:10002576-1787270400-1787615999@fraenkische-kirchweih.de
SUMMARY:Kirchweih Röthenbach
DESCRIPTION:
URL:https://fraenkische-kirchweih.de/kalendereintrag/kirchweih-roethenbach-3/
LOCATION:Kirchweihverein Röthenbach an der Pegnitz\, Röthenbach an der Pegnitz\, Bayern\, 90552\, DEU
CATEGORIES:"Kirchweih,Mittelfranken,Nürnberger Land
GEO:49.4818269;11.2389749
END:VEVENT
BEGIN:VEVENT
DTSTART;VALUE=DATE:20260821
DTEND;VALUE=DATE:20260825
DTSTAMP:20260422T043240
CREATED:20260131T142336Z
LAST-MODIFIED:20260411T175724Z
UID:10002662-1787270400-1787615999@fraenkische-kirchweih.de
SUMMARY:Kärwa Gustenfelden
DESCRIPTION:
URL:https://fraenkische-kirchweih.de/kalendereintrag/kaerwa-gustenfelden/
LOCATION:Kärwaboum und Kärwamadli Gustenfelden\, Gustenfelden\, Bayern\, 91189\, DEU
CATEGORIES:"Kärwa,Mittelfranken,Roth
GEO:49.3346;10.9753424
END:VEVENT
BEGIN:VEVENT
DTSTART;VALUE=DATE:20260821
DTEND;VALUE=DATE:20260825
DTSTAMP:20260422T043240
CREATED:20260131T144859Z
LAST-MODIFIED:20260131T144859Z
UID:10002749-1787270400-1787615999@fraenkische-kirchweih.de
SUMMARY:Kirwa Plech
DESCRIPTION:
URL:https://fraenkische-kirchweih.de/kalendereintrag/kirwa-plech-5/
LOCATION:Kirwa Plech e.V.\, Plech\, Bayern\, 91287\, DEU
CATEGORIES:"Kirwa,Bayreuth,Oberfranken
GEO:49.6502769;11.4684321
END:VEVENT
BEGIN:VEVENT
DTSTART;VALUE=DATE:20260821
DTEND;VALUE=DATE:20260825
DTSTAMP:20260422T043240
CREATED:20260131T144859Z
LAST-MODIFIED:20260131T144859Z
UID:10002750-1787270400-1787615999@fraenkische-kirchweih.de
SUMMARY:Stöckacher Kerwa
DESCRIPTION:
URL:https://fraenkische-kirchweih.de/kalendereintrag/stoeckacher-kerwa-5/
LOCATION:Kerwaboum Stöckach e.V.\, Stöckach\, Bayern\, 90574\, DEU
CATEGORIES:"Kerwa,Forchheim,Oberfranken
GEO:49.6142548;11.2239861
END:VEVENT
BEGIN:VEVENT
DTSTART;VALUE=DATE:20260821
DTEND;VALUE=DATE:20260825
DTSTAMP:20260422T043240
CREATED:20260131T145041Z
LAST-MODIFIED:20260131T145041Z
UID:10002752-1787270400-1787615999@fraenkische-kirchweih.de
SUMMARY:Melkendorfer Kerwa
DESCRIPTION:
URL:https://fraenkische-kirchweih.de/kalendereintrag/melkendorfer-kerwa-5/
LOCATION:Ortsvereine Melkendorf\, Melkendorf\, Bayern\, 95326\, DEU
CATEGORIES:"Kerwa,Kulmbach,Oberfranken
GEO:50.0898712;11.4145694
END:VEVENT
BEGIN:VEVENT
DTSTART;VALUE=DATE:20260821
DTEND;VALUE=DATE:20260825
DTSTAMP:20260422T043240
CREATED:20260222T162203Z
LAST-MODIFIED:20260411T175724Z
UID:10003101-1787270400-1787615999@fraenkische-kirchweih.de
SUMMARY:Kärwa Unterferrieden
DESCRIPTION:
URL:https://fraenkische-kirchweih.de/kalendereintrag/kaerwa-unterferrieden/
LOCATION:Kärwaboum und Kärwamadla Unterferrieden\, Unterferrieden\, Bayern\, 90559\, DEU
CATEGORIES:"Kärwa,Mittelfranken,Nürnberger Land
GEO:49.3270571;11.3099883
END:VEVENT
END:VCALENDAR