BEGIN:VCALENDAR
VERSION:2.0
PRODID:-//Fränkische Kirchweih - ECPv6.15.17.1//NONSGML v1.0//EN
CALSCALE:GREGORIAN
METHOD:PUBLISH
X-ORIGINAL-URL:https://fraenkische-kirchweih.de
X-WR-CALDESC:Veranstaltungen für Fränkische Kirchweih
REFRESH-INTERVAL;VALUE=DURATION:PT1H
X-Robots-Tag:noindex
X-PUBLISHED-TTL:PT1H
BEGIN:VTIMEZONE
TZID:Europe/Berlin
BEGIN:DAYLIGHT
TZOFFSETFROM:+0100
TZOFFSETTO:+0200
TZNAME:CEST
DTSTART:20250330T010000
END:DAYLIGHT
BEGIN:STANDARD
TZOFFSETFROM:+0200
TZOFFSETTO:+0100
TZNAME:CET
DTSTART:20251026T010000
END:STANDARD
BEGIN:DAYLIGHT
TZOFFSETFROM:+0100
TZOFFSETTO:+0200
TZNAME:CEST
DTSTART:20260329T010000
END:DAYLIGHT
BEGIN:STANDARD
TZOFFSETFROM:+0200
TZOFFSETTO:+0100
TZNAME:CET
DTSTART:20261025T010000
END:STANDARD
BEGIN:DAYLIGHT
TZOFFSETFROM:+0100
TZOFFSETTO:+0200
TZNAME:CEST
DTSTART:20270328T010000
END:DAYLIGHT
BEGIN:STANDARD
TZOFFSETFROM:+0200
TZOFFSETTO:+0100
TZNAME:CET
DTSTART:20271031T010000
END:STANDARD
END:VTIMEZONE
BEGIN:VEVENT
DTSTART;VALUE=DATE:20260801
DTEND;VALUE=DATE:20260805
DTSTAMP:20260421T172544
CREATED:20260131T151334Z
LAST-MODIFIED:20260131T151334Z
UID:10002805-1785542400-1785887999@fraenkische-kirchweih.de
SUMMARY:Schonunger Kirchweih
DESCRIPTION:
URL:https://fraenkische-kirchweih.de/kalendereintrag/schonunger-kirchweih-5/
LOCATION:Planpaare Schonungen\, Schonungen\, Bayern\, 97453\, DEU
CATEGORIES:"Kirchweih,Schweinfurt,Unterfranken
GEO:50.0494329;10.309223
END:VEVENT
BEGIN:VEVENT
DTSTART;VALUE=DATE:20260804
DTEND;VALUE=DATE:20260810
DTSTAMP:20260421T172544
CREATED:20260131T154716Z
LAST-MODIFIED:20260131T154716Z
UID:10003017-1785801600-1786319999@fraenkische-kirchweih.de
SUMMARY:Koppner Kerwa
DESCRIPTION:
URL:https://fraenkische-kirchweih.de/kalendereintrag/koppner-kerwa-5/
LOCATION:Kirmesgesellschaft Köpplein e.V.\, Lauscha\, Thüringen\, 98724\, DEU
CATEGORIES:"Kerwa,Sonneberg,Werra-Main-Franken
GEO:50.4939927;11.1404127
END:VEVENT
BEGIN:VEVENT
DTSTART;VALUE=DATE:20260805
DTEND;VALUE=DATE:20260811
DTSTAMP:20260421T172544
CREATED:20260321T234740Z
LAST-MODIFIED:20260411T175433Z
UID:10003155-1785888000-1786406399@fraenkische-kirchweih.de
SUMMARY:Büchenbacher Kerwa
DESCRIPTION:
URL:https://fraenkische-kirchweih.de/kalendereintrag/buechenbacher-kerwa/
LOCATION:Kerwasburschen Büchenbach\, Büchenbach\, Bayern\, 91056\, DEU
CATEGORIES:"Kerwa,Erlangen,Mittelfranken
GEO:49.5892741;10.960239
END:VEVENT
BEGIN:VEVENT
DTSTART;VALUE=DATE:20260805
DTEND;VALUE=DATE:20260811
DTSTAMP:20260421T172544
CREATED:20260409T160551Z
LAST-MODIFIED:20260411T175434Z
UID:10003192-1785888000-1786406399@fraenkische-kirchweih.de
SUMMARY:Kirchweih Kalchreuth
DESCRIPTION:
URL:https://fraenkische-kirchweih.de/kalendereintrag/kirchweih-kalchreuth/
LOCATION:Ortsvereine Kalchreuth\, Kalchreuth\, Bayern\, 90562\, DEU
CATEGORIES:"Kerwa,Erlangen-Höchstadt,Mittelfranken
GEO:49.5567925;11.1297677
END:VEVENT
BEGIN:VEVENT
DTSTART;VALUE=DATE:20260806
DTEND;VALUE=DATE:20260809
DTSTAMP:20260421T172544
CREATED:20260131T153815Z
LAST-MODIFIED:20260131T153815Z
UID:10002907-1785974400-1786233599@fraenkische-kirchweih.de
SUMMARY:Kirmes in Schlechtsart
DESCRIPTION:
URL:https://fraenkische-kirchweih.de/kalendereintrag/kirmes-in-schlechtsart-5/
LOCATION:Kirmesgesellschaft Schlechtsart\, Schlechtsart\, Thüringen\, 98663\, DEU
CATEGORIES:"Kirmes,Hildburghausen,Werra-Main-Franken
GEO:50.3289667;10.6225982
END:VEVENT
BEGIN:VEVENT
DTSTART;VALUE=DATE:20260806
DTEND;VALUE=DATE:20260810
DTSTAMP:20260421T172544
CREATED:20260131T153755Z
LAST-MODIFIED:20260131T153755Z
UID:10002886-1785974400-1786319999@fraenkische-kirchweih.de
SUMMARY:Kirmes Birkenfeld
DESCRIPTION:
URL:https://fraenkische-kirchweih.de/kalendereintrag/kirmes-birkenfeld-5/
LOCATION:Kirmesgesellschaft Birkenfeld\, Birkenfeld\, Thüringen\, 98646\, DEU
CATEGORIES:"Kirmes,Hildburghausen,Werra-Main-Franken
GEO:50.4042177;10.7077937
END:VEVENT
BEGIN:VEVENT
DTSTART;VALUE=DATE:20260806
DTEND;VALUE=DATE:20260810
DTSTAMP:20260421T172544
CREATED:20260131T154801Z
LAST-MODIFIED:20260131T154801Z
UID:10003031-1785974400-1786319999@fraenkische-kirchweih.de
SUMMARY:Hasenthaler Kermes
DESCRIPTION:
URL:https://fraenkische-kirchweih.de/kalendereintrag/hasenthaler-kermes-5/
LOCATION:Kirmes- und Trachenverein Hasenthal ’99 e.V.\, Hasenthal\, Thüringen\, 96515\, DEU
CATEGORIES:"Kermes,Sonneberg,Werra-Main-Franken
GEO:50.4735403;11.2263749
END:VEVENT
BEGIN:VEVENT
DTSTART;VALUE=DATE:20260806
DTEND;VALUE=DATE:20260811
DTSTAMP:20260421T172544
CREATED:20260131T144812Z
LAST-MODIFIED:20260131T144812Z
UID:10002734-1785974400-1786406399@fraenkische-kirchweih.de
SUMMARY:Laurenzikirchweih Bamberg
DESCRIPTION:
URL:https://fraenkische-kirchweih.de/kalendereintrag/laurenzikirchweih-bamberg-5/
LOCATION:Ortsvereine Berggebiet\, Kaulberg\, Bayern\, 96049\, DEU
CATEGORIES:"Kirchweih,Bamberg,Oberfranken
GEO:49.8878044;10.8824935
END:VEVENT
BEGIN:VEVENT
DTSTART;VALUE=DATE:20260806
DTEND;VALUE=DATE:20260811
DTSTAMP:20260421T172544
CREATED:20260131T144826Z
LAST-MODIFIED:20260131T144826Z
UID:10002736-1785974400-1786406399@fraenkische-kirchweih.de
SUMMARY:Dörfleinser Krichweih
DESCRIPTION:
URL:https://fraenkische-kirchweih.de/kalendereintrag/doerfleinser-krichweih-5/
LOCATION:SV Dörfleins 1949 e.V.\, Dörfleins\, Bayern\, 96103\, DEU
CATEGORIES:"Kerwa,Bamberg,Oberfranken
GEO:49.9333702;10.8581782
END:VEVENT
BEGIN:VEVENT
DTSTART;VALUE=DATE:20260806
DTEND;VALUE=DATE:20260811
DTSTAMP:20260421T172544
CREATED:20260131T144826Z
LAST-MODIFIED:20260131T144826Z
UID:10002737-1785974400-1786406399@fraenkische-kirchweih.de
SUMMARY:Kerwa Weiher
DESCRIPTION:
URL:https://fraenkische-kirchweih.de/kalendereintrag/kerwa-weiher-5/
LOCATION:Kerwagemeinschaft Weiher e.V.\, Weiher\, Bayern\, 96142\, DEU
CATEGORIES:"Kerwa,Bayreuth,Oberfranken
GEO:49.9423868;11.279487
END:VEVENT
BEGIN:VEVENT
DTSTART;VALUE=DATE:20260806
DTEND;VALUE=DATE:20260811
DTSTAMP:20260421T172544
CREATED:20260131T144827Z
LAST-MODIFIED:20260131T144827Z
UID:10002739-1785974400-1786406399@fraenkische-kirchweih.de
SUMMARY:Muggendorfer Kerwa
DESCRIPTION:
URL:https://fraenkische-kirchweih.de/kalendereintrag/muggendorfer-kerwa-5/
LOCATION:Muggendorfer Kerwa\, Muggendorf\, Bayern\, 91346\, DEU
CATEGORIES:"Kerwa,Forchheim,Oberfranken
GEO:49.8032569;11.2607154
END:VEVENT
BEGIN:VEVENT
DTSTART;VALUE=DATE:20260806
DTEND;VALUE=DATE:20260811
DTSTAMP:20260421T172544
CREATED:20260409T155928Z
LAST-MODIFIED:20260411T175434Z
UID:10003170-1785974400-1786406399@fraenkische-kirchweih.de
SUMMARY:Wellerstädter Kerwa
DESCRIPTION:
URL:https://fraenkische-kirchweih.de/kalendereintrag/wellerstaedter-kerwa/
LOCATION:Kerwasburschen Wellerstadt\, Wellerstadt\, Bayern\, 91083\, DEU
CATEGORIES:"Kerwa,Erlangen-Höchstadt,Mittelfranken
GEO:49.6671223;11.0384378
END:VEVENT
BEGIN:VEVENT
DTSTART;VALUE=DATE:20260806
DTEND;VALUE=DATE:20260811
DTSTAMP:20260421T172544
CREATED:20260411T175435Z
LAST-MODIFIED:20260411T175435Z
UID:10003225-1785974400-1786406399@fraenkische-kirchweih.de
SUMMARY:Zeltkerwa Dettendorf
DESCRIPTION:
URL:https://fraenkische-kirchweih.de/kalendereintrag/zeltkerwa-dettendorf/
LOCATION:Kerwa Dettendorf\, Dettendorf\, Bayern\, 91456\, DEU
CATEGORIES:"Kerwa,Mittelfranken,Neustadt an der Aisch-Bad Windsheim
GEO:49.5906799;10.6741072
END:VEVENT
BEGIN:VEVENT
DTSTART;VALUE=DATE:20260806
DTEND;VALUE=DATE:20260811
DTSTAMP:20260421T172544
CREATED:20260411T175448Z
LAST-MODIFIED:20260411T175448Z
UID:10003226-1785974400-1786406399@fraenkische-kirchweih.de
SUMMARY:Lachhamer Kerwa
DESCRIPTION:
URL:https://fraenkische-kirchweih.de/kalendereintrag/lachhamer-kerwa/
LOCATION:Ortsburschen Lachheim\, Lachheim\, Bayern\, 91480\, DEU
CATEGORIES:"Kerwa,Mittelfranken,Neustadt an der Aisch-Bad Windsheim
GEO:49.6720604;10.5363061
END:VEVENT
BEGIN:VEVENT
DTSTART;VALUE=DATE:20260807
DTEND;VALUE=DATE:20260809
DTSTAMP:20260421T172544
CREATED:20260320T232001Z
LAST-MODIFIED:20260411T175517Z
UID:10003141-1786060800-1786233599@fraenkische-kirchweih.de
SUMMARY:Brunner Kärwa
DESCRIPTION:
URL:https://fraenkische-kirchweih.de/kalendereintrag/brunner-kaerwa/
LOCATION:Kärwaburschen und -madli Vincenzenbronn\, Vincenzenbronn\, Bayern\, 90613\, DEU
CATEGORIES:"Kärwa,Fürth,Mittelfranken
GEO:49.4138937;10.8202283
END:VEVENT
BEGIN:VEVENT
DTSTART;VALUE=DATE:20260807
DTEND;VALUE=DATE:20260811
DTSTAMP:20260421T172544
CREATED:20260131T140705Z
LAST-MODIFIED:20260411T175449Z
UID:10002470-1786060800-1786406399@fraenkische-kirchweih.de
SUMMARY:Burggrafenhofer Zeltkärwa
DESCRIPTION:
URL:https://fraenkische-kirchweih.de/kalendereintrag/burggrafenhofer-zeltkaerwa-5/
LOCATION:Ortsvereine Burggrafenhof\, Burggrafenhof\, Bayern\, 90579\, DEU
CATEGORIES:"Kärwa,Fürth,Mittelfranken
GEO:49.4857395;10.7775016
END:VEVENT
BEGIN:VEVENT
DTSTART;VALUE=DATE:20260807
DTEND;VALUE=DATE:20260811
DTSTAMP:20260421T172544
CREATED:20260131T140706Z
LAST-MODIFIED:20260411T175450Z
UID:10002473-1786060800-1786406399@fraenkische-kirchweih.de
SUMMARY:Kirwa Henfenfeld
DESCRIPTION:
URL:https://fraenkische-kirchweih.de/kalendereintrag/kirwa-henfenfeld-5/
LOCATION:Kirchweihverein Henfenfeld\, Henfenfeld\, Bayern\, 91239\, DEU
CATEGORIES:"Kirwa,Mittelfranken,Nürnberger Land
GEO:49.5002822;11.3922923
END:VEVENT
BEGIN:VEVENT
DTSTART;VALUE=DATE:20260807
DTEND;VALUE=DATE:20260811
DTSTAMP:20260421T172544
CREATED:20260131T140708Z
LAST-MODIFIED:20260411T175502Z
UID:10002474-1786060800-1786406399@fraenkische-kirchweih.de
SUMMARY:Kirwa Rollhofen
DESCRIPTION:
URL:https://fraenkische-kirchweih.de/kalendereintrag/kirwa-rollhofen-5/
LOCATION:Ortsvereine Rollhofen\, Rollhofen\, Bayern\, 91233\, DEU
CATEGORIES:"Kirwa,Mittelfranken,Nürnberger Land
GEO:49.5425168;11.3368567
END:VEVENT
BEGIN:VEVENT
DTSTART;VALUE=DATE:20260807
DTEND;VALUE=DATE:20260811
DTSTAMP:20260421T172544
CREATED:20260131T141232Z
LAST-MODIFIED:20260411T175503Z
UID:10002567-1786060800-1786406399@fraenkische-kirchweih.de
SUMMARY:Schupfer Kirwa
DESCRIPTION:
URL:https://fraenkische-kirchweih.de/kalendereintrag/schupfer-kirwa-5/
LOCATION:Ortsvereine Schupf\, Schupf\, Bayern\, 91230\, DEU
CATEGORIES:"Kirwa,Mittelfranken,Nürnberger Land
GEO:49.4443757;11.4813091
END:VEVENT
BEGIN:VEVENT
DTSTART;VALUE=DATE:20260807
DTEND;VALUE=DATE:20260811
DTSTAMP:20260421T172544
CREATED:20260131T141550Z
LAST-MODIFIED:20260411T175503Z
UID:10002621-1786060800-1786406399@fraenkische-kirchweih.de
SUMMARY:Kerwa Flachslanden
DESCRIPTION:
URL:https://fraenkische-kirchweih.de/kalendereintrag/kerwa-flachslanden/
LOCATION:Ortsvereine Flachslanden\, Flachslanden\, Bayern\, 91604\, DEU
CATEGORIES:"Kerwa,Ansbach,Mittelfranken
GEO:49.3995621;10.5126638
END:VEVENT
BEGIN:VEVENT
DTSTART;VALUE=DATE:20260807
DTEND;VALUE=DATE:20260811
DTSTAMP:20260421T172544
CREATED:20260131T141741Z
LAST-MODIFIED:20260411T175504Z
UID:10002646-1786060800-1786406399@fraenkische-kirchweih.de
SUMMARY:Kerwa Vestenberg
DESCRIPTION:
URL:https://fraenkische-kirchweih.de/kalendereintrag/kerwa-vestenberg/
LOCATION:Landjugend Vestenberg\, Vestenberg\, Bayern\, 91580\, DEU
CATEGORIES:"Kerwa,Ansbach,Mittelfranken
GEO:49.3281926;10.6886495
END:VEVENT
BEGIN:VEVENT
DTSTART;VALUE=DATE:20260807
DTEND;VALUE=DATE:20260811
DTSTAMP:20260421T172544
CREATED:20260131T142409Z
LAST-MODIFIED:20260411T175504Z
UID:10002687-1786060800-1786406399@fraenkische-kirchweih.de
SUMMARY:Kärwa Schwand
DESCRIPTION:
URL:https://fraenkische-kirchweih.de/kalendereintrag/kaerwa-schwand/
LOCATION:Kärwaboum- und Madli Schwand\, Schwand bei Nürnberg\, Bayern\, 90596\, DEU
CATEGORIES:"Kärwa,Mittelfranken,Roth
GEO:49.3016749;11.1236351
END:VEVENT
BEGIN:VEVENT
DTSTART;VALUE=DATE:20260807
DTEND;VALUE=DATE:20260811
DTSTAMP:20260421T172544
CREATED:20260131T144813Z
LAST-MODIFIED:20260131T144813Z
UID:10002735-1786060800-1786406399@fraenkische-kirchweih.de
SUMMARY:Kirchweih Breitengüßbach
DESCRIPTION:
URL:https://fraenkische-kirchweih.de/kalendereintrag/kirchweih-breitenguessbach-5/
LOCATION:Ortsvereine Breitengüßbach\, Breitengüßbach\, Bayern\, 96149\, DEU
CATEGORIES:"Kirchweih,Bamberg,Oberfranken
GEO:49.9725765;10.8905088
END:VEVENT
BEGIN:VEVENT
DTSTART;VALUE=DATE:20260807
DTEND;VALUE=DATE:20260811
DTSTAMP:20260421T172544
CREATED:20260131T144827Z
LAST-MODIFIED:20260131T144827Z
UID:10002738-1786060800-1786406399@fraenkische-kirchweih.de
SUMMARY:Kerwa Obertrubach
DESCRIPTION:
URL:https://fraenkische-kirchweih.de/kalendereintrag/kerwa-obertrubach-5/
LOCATION:Ortsvereine Obertrubach\, Obertrubach\, Bayern\, 91286\, DEU
CATEGORIES:"Kerwa,Forchheim,Oberfranken
GEO:49.695125;11.3462419
END:VEVENT
BEGIN:VEVENT
DTSTART;VALUE=DATE:20260807
DTEND;VALUE=DATE:20260811
DTSTAMP:20260421T172544
CREATED:20260131T153816Z
LAST-MODIFIED:20260131T153816Z
UID:10002908-1786060800-1786406399@fraenkische-kirchweih.de
SUMMARY:Kirmes Biberau
DESCRIPTION:
URL:https://fraenkische-kirchweih.de/kalendereintrag/kirmes-biberau-5/
LOCATION:Kirmesgesellschaft Biberau\, Biberau\, Thüringen\, 98667\, DEU
CATEGORIES:"Kirmes,Hildburghausen,Werra-Main-Franken
GEO:50.4924605;10.8650235
END:VEVENT
BEGIN:VEVENT
DTSTART;VALUE=DATE:20260807
DTEND;VALUE=DATE:20260811
DTSTAMP:20260421T172544
CREATED:20260131T160245Z
LAST-MODIFIED:20260131T160245Z
UID:10003094-1786060800-1786406399@fraenkische-kirchweih.de
SUMMARY:Zeltkirmes Zella
DESCRIPTION:
URL:https://fraenkische-kirchweih.de/kalendereintrag/zeltkirmes-zella-5/
LOCATION:Kirmesgesellschaft Zella\, Zella/Rhön\, Thüringen\, 36452\, DEU
CATEGORIES:"Kirmes,Wartburgkreis,Werra-Main-Franken
GEO:50.6721482;10.1082724
END:VEVENT
BEGIN:VEVENT
DTSTART;VALUE=DATE:20260807
DTEND;VALUE=DATE:20260811
DTSTAMP:20260421T172544
CREATED:20260320T232001Z
LAST-MODIFIED:20260411T175517Z
UID:10003142-1786060800-1786406399@fraenkische-kirchweih.de
SUMMARY:Kärwa Meiersberg
DESCRIPTION:
URL:https://fraenkische-kirchweih.de/kalendereintrag/kaerwa-meiersberg/
LOCATION:Ortsburschen und Madli Meiersberg-Dippoldsberg e.V.\, Meiersberg\, Bayern\, 91452\, DEU
CATEGORIES:"Kärwa,Fürth,Mittelfranken
GEO:49.4676716;10.7232999
END:VEVENT
BEGIN:VEVENT
DTSTART;VALUE=DATE:20260807
DTEND;VALUE=DATE:20260811
DTSTAMP:20260421T172544
CREATED:20260409T155929Z
LAST-MODIFIED:20260411T175518Z
UID:10003171-1786060800-1786406399@fraenkische-kirchweih.de
SUMMARY:Brander Kirwa
DESCRIPTION:
URL:https://fraenkische-kirchweih.de/kalendereintrag/brander-kirwa/
LOCATION:Kirwaboum Brand e.V.\, Brand\, Bayern\, 90542\, DEU
CATEGORIES:"Kirwa,Erlangen-Höchstadt,Mittelfranken
GEO:49.5838479;11.185311
END:VEVENT
BEGIN:VEVENT
DTSTART;VALUE=DATE:20260807
DTEND;VALUE=DATE:20260811
DTSTAMP:20260421T172544
CREATED:20260409T160351Z
LAST-MODIFIED:20260411T175518Z
UID:10003187-1786060800-1786406399@fraenkische-kirchweih.de
SUMMARY:Fränkische Kerwa Niederlindach
DESCRIPTION:
URL:https://fraenkische-kirchweih.de/kalendereintrag/fraenkische-kerwa-niederlindach/
LOCATION:Lindier Bum und Madle\, Niederlindach\, Bayern\, 91093\, DEU
CATEGORIES:"Kerwa,Erlangen-Höchstadt,Mittelfranken
GEO:49.6460911;10.8939077
END:VEVENT
BEGIN:VEVENT
DTSTART;VALUE=DATE:20260807
DTEND;VALUE=DATE:20260811
DTSTAMP:20260421T172544
CREATED:20260411T175519Z
LAST-MODIFIED:20260411T175519Z
UID:10003227-1786060800-1786406399@fraenkische-kirchweih.de
SUMMARY:Kerwa Trautskirchen
DESCRIPTION:
URL:https://fraenkische-kirchweih.de/kalendereintrag/kerwa-trautskirchen/
LOCATION:Ortsburschen und Mädchen Trautskirchen\, Trautskirchen\, Bayern\, 90619\, DEU
CATEGORIES:"Kerwa,Mittelfranken,Neustadt an der Aisch-Bad Windsheim
GEO:49.4678529;10.5760029
END:VEVENT
END:VCALENDAR