BEGIN:VCALENDAR
VERSION:2.0
PRODID:-//Fränkische Kirchweih - ECPv6.15.17.1//NONSGML v1.0//EN
CALSCALE:GREGORIAN
METHOD:PUBLISH
X-ORIGINAL-URL:https://fraenkische-kirchweih.de
X-WR-CALDESC:Veranstaltungen für Fränkische Kirchweih
REFRESH-INTERVAL;VALUE=DURATION:PT1H
X-Robots-Tag:noindex
X-PUBLISHED-TTL:PT1H
BEGIN:VTIMEZONE
TZID:Europe/Berlin
BEGIN:DAYLIGHT
TZOFFSETFROM:+0100
TZOFFSETTO:+0200
TZNAME:CEST
DTSTART:20250330T010000
END:DAYLIGHT
BEGIN:STANDARD
TZOFFSETFROM:+0200
TZOFFSETTO:+0100
TZNAME:CET
DTSTART:20251026T010000
END:STANDARD
BEGIN:DAYLIGHT
TZOFFSETFROM:+0100
TZOFFSETTO:+0200
TZNAME:CEST
DTSTART:20260329T010000
END:DAYLIGHT
BEGIN:STANDARD
TZOFFSETFROM:+0200
TZOFFSETTO:+0100
TZNAME:CET
DTSTART:20261025T010000
END:STANDARD
BEGIN:DAYLIGHT
TZOFFSETFROM:+0100
TZOFFSETTO:+0200
TZNAME:CEST
DTSTART:20270328T010000
END:DAYLIGHT
BEGIN:STANDARD
TZOFFSETFROM:+0200
TZOFFSETTO:+0100
TZNAME:CET
DTSTART:20271031T010000
END:STANDARD
END:VTIMEZONE
BEGIN:VEVENT
DTSTART;VALUE=DATE:20260723
DTEND;VALUE=DATE:20260728
DTSTAMP:20260422T044716
CREATED:20260131T140635Z
LAST-MODIFIED:20260411T175203Z
UID:10002458-1784764800-1785196799@fraenkische-kirchweih.de
SUMMARY:Kirwa Reichenschwand
DESCRIPTION:
URL:https://fraenkische-kirchweih.de/kalendereintrag/kirwa-reichenschwand-5/
LOCATION:Kirchweihverein Reichenschwand e.V.\, Reichenschwand\, Bayern\, 91244\, DEU
CATEGORIES:"Kirwa,Mittelfranken,Nürnberger Land
GEO:49.5134495;11.3721144
END:VEVENT
BEGIN:VEVENT
DTSTART;VALUE=DATE:20260723
DTEND;VALUE=DATE:20260728
DTSTAMP:20260422T044716
CREATED:20260131T141117Z
LAST-MODIFIED:20260411T175216Z
UID:10002548-1784764800-1785196799@fraenkische-kirchweih.de
SUMMARY:Aspertshiefer Kirwa
DESCRIPTION:
URL:https://fraenkische-kirchweih.de/kalendereintrag/aspertshiefer-kirwa-5/
LOCATION:Ortsvereine Aspertshofen\, Aspertshofen\, Bayern\, 91241\, DEU
CATEGORIES:"Kirwa,Mittelfranken,Nürnberger Land
GEO:49.5443301;11.4321063
END:VEVENT
BEGIN:VEVENT
DTSTART;VALUE=DATE:20260723
DTEND;VALUE=DATE:20260728
DTSTAMP:20260422T044716
CREATED:20260131T141228Z
LAST-MODIFIED:20260411T175217Z
UID:10002562-1784764800-1785196799@fraenkische-kirchweih.de
SUMMARY:Kirwa Offenhausen
DESCRIPTION:
URL:https://fraenkische-kirchweih.de/kalendereintrag/kirwa-offenhausen-5/
LOCATION:Ortsvereine Offenhausen\, Offenhausen\, Bayern\, 91238\, DEU
CATEGORIES:"Kirwa,Mittelfranken,Nürnberger Land
GEO:49.4488923;11.4112384
END:VEVENT
BEGIN:VEVENT
DTSTART;VALUE=DATE:20260723
DTEND;VALUE=DATE:20260728
DTSTAMP:20260422T044716
CREATED:20260131T141711Z
LAST-MODIFIED:20260411T175217Z
UID:10002627-1784764800-1785196799@fraenkische-kirchweih.de
SUMMARY:Kärwa Bürglein
DESCRIPTION:
URL:https://fraenkische-kirchweih.de/kalendereintrag/kaerwa-buerglein/
LOCATION:Kärwaburschen und -madli Bürglein\, Bürglein\, Bayern\, 91560\, DEU
CATEGORIES:"Kärwa,Ansbach,Mittelfranken
GEO:49.3759283;10.7937642
END:VEVENT
BEGIN:VEVENT
DTSTART;VALUE=DATE:20260723
DTEND;VALUE=DATE:20260728
DTSTAMP:20260422T044716
CREATED:20260131T141740Z
LAST-MODIFIED:20260411T175217Z
UID:10002645-1784764800-1785196799@fraenkische-kirchweih.de
SUMMARY:Großhaslacher Kärwa
DESCRIPTION:
URL:https://fraenkische-kirchweih.de/kalendereintrag/grosshaslacher-kaerwa/
LOCATION:Kärwabuam Großhaslach\, Großhaslach\, Bayern\, 91580\, DEU
CATEGORIES:"Kärwa,Ansbach,Mittelfranken
GEO:49.3375696;10.7272911
END:VEVENT
BEGIN:VEVENT
DTSTART;VALUE=DATE:20260723
DTEND;VALUE=DATE:20260728
DTSTAMP:20260422T044716
CREATED:20260131T155229Z
LAST-MODIFIED:20260131T155229Z
UID:10003065-1784764800-1785196799@fraenkische-kirchweih.de
SUMMARY:Zeltkirmes Empfertshausen
DESCRIPTION:
URL:https://fraenkische-kirchweih.de/kalendereintrag/zeltkirmes-empfertshausen-5/
LOCATION:Kirmes- und Kulturverein Empfertshausen\, Empfertshausen\, Thüringen\, 36452\, DEU
CATEGORIES:"Kirmes,Wartburgkreis,Werra-Main-Franken
GEO:50.66461;10.1002442
END:VEVENT
BEGIN:VEVENT
DTSTART;VALUE=DATE:20260723
DTEND;VALUE=DATE:20260728
DTSTAMP:20260422T044716
CREATED:20260320T231008Z
LAST-MODIFIED:20260411T175218Z
UID:10003139-1784764800-1785196799@fraenkische-kirchweih.de
SUMMARY:Unterasbacher Kärwa
DESCRIPTION:
URL:https://fraenkische-kirchweih.de/kalendereintrag/unterasbacher-kaerwa/
LOCATION:Kärwaboum und Kärwamadlis Unterasbach\, Unterasbach\, Bayern\, 90522\, DEU
CATEGORIES:"Kärwa,Fürth,Mittelfranken
GEO:49.4207407;10.9812756
END:VEVENT
BEGIN:VEVENT
DTSTART;VALUE=DATE:20260723
DTEND;VALUE=DATE:20260728
DTSTAMP:20260422T044716
CREATED:20260411T175231Z
LAST-MODIFIED:20260411T175231Z
UID:10003223-1784764800-1785196799@fraenkische-kirchweih.de
SUMMARY:Zeltkerwa Willmersbach
DESCRIPTION:
URL:https://fraenkische-kirchweih.de/kalendereintrag/zeltkerwa-willmersbach/
LOCATION:Ortsburschen und Madle Willmersbach\, Willmersbach\, Bayern\, 91466\, DEU
CATEGORIES:"Kerwa,Mittelfranken,Neustadt an der Aisch-Bad Windsheim
GEO:49.6102169;10.709924
END:VEVENT
BEGIN:VEVENT
DTSTART;VALUE=DATE:20260724
DTEND;VALUE=DATE:20260727
DTSTAMP:20260422T044716
CREATED:20260131T141348Z
LAST-MODIFIED:20260411T175302Z
UID:10002584-1784851200-1785110399@fraenkische-kirchweih.de
SUMMARY:Mosbacher Kärwa
DESCRIPTION:
URL:https://fraenkische-kirchweih.de/kalendereintrag/mosbacher-kaerwa-3/
LOCATION:Kärwafreunde Mosbach\, Mosbach\, Bayern\, 91174\, DEU
CATEGORIES:"Kärwa,Mittelfranken,Roth
GEO:49.1874992;10.9686022
END:VEVENT
BEGIN:VEVENT
DTSTART;VALUE=DATE:20260724
DTEND;VALUE=DATE:20260727
DTSTAMP:20260422T044716
CREATED:20260131T142339Z
LAST-MODIFIED:20260411T175317Z
UID:10002665-1784851200-1785110399@fraenkische-kirchweih.de
SUMMARY:Kerwa Dermummerla
DESCRIPTION:
URL:https://fraenkische-kirchweih.de/kalendereintrag/kerwa-dermummerla/
LOCATION:Kerwaboum und -madli Dermummerla\, Dürrenmungenau\, Bayern\, 91183\, DEU
CATEGORIES:"Kerwa,Mittelfranken,Roth
GEO:49.2332805;10.9184435
END:VEVENT
BEGIN:VEVENT
DTSTART;VALUE=DATE:20260724
DTEND;VALUE=DATE:20260727
DTSTAMP:20260422T044716
CREATED:20260131T151332Z
LAST-MODIFIED:20260131T151332Z
UID:10002804-1784851200-1785110399@fraenkische-kirchweih.de
SUMMARY:Kerwa Trossenfurt-Tretzendorf
DESCRIPTION:
URL:https://fraenkische-kirchweih.de/kalendereintrag/kerwa-trossenfurt-tretzendorf-5/
LOCATION:Kerwa-Jugend Trossenfurt-Tretzendorf\, Trossenfurt\, Bayern\, 97514\, DEU
CATEGORIES:"Kerwa,Haßberge,Unterfranken
GEO:49.9240188;10.6603957
END:VEVENT
BEGIN:VEVENT
DTSTART;VALUE=DATE:20260724
DTEND;VALUE=DATE:20260727
DTSTAMP:20260422T044716
CREATED:20260131T154134Z
LAST-MODIFIED:20260131T154134Z
UID:10002935-1784851200-1785110399@fraenkische-kirchweih.de
SUMMARY:Brotteröder Kirmes
DESCRIPTION:
URL:https://fraenkische-kirchweih.de/kalendereintrag/brotteroeder-kirmes-5/
LOCATION:Kirmesgesellschaft Brotterode\, Brotterode\, Thüringen\, 98596\, DEU
CATEGORIES:"Kirmes,Schmalkalden-Meiningen,Werra-Main-Franken
GEO:50.78785;10.4083935
END:VEVENT
BEGIN:VEVENT
DTSTART;VALUE=DATE:20260724
DTEND;VALUE=DATE:20260727
DTSTAMP:20260422T044716
CREATED:20260320T231625Z
LAST-MODIFIED:20260411T175332Z
UID:10003140-1784851200-1785110399@fraenkische-kirchweih.de
SUMMARY:Weimerschdorfer Kärwa
DESCRIPTION:
URL:https://fraenkische-kirchweih.de/kalendereintrag/weimerschdorfer-kaerwa/
LOCATION:Ortsvereine Großweismannsdorf\, Großweismanndorf\, Bayern\, 90574\, DEU
CATEGORIES:"Kärwa,Fürth,Mittelfranken
GEO:49.3819751;10.9365025
END:VEVENT
BEGIN:VEVENT
DTSTART;VALUE=DATE:20260724
DTEND;VALUE=DATE:20260728
DTSTAMP:20260422T044716
CREATED:20260131T140634Z
LAST-MODIFIED:20260411T175232Z
UID:10002455-1784851200-1785196799@fraenkische-kirchweih.de
SUMMARY:Ronhofer Kärwa
DESCRIPTION:
URL:https://fraenkische-kirchweih.de/kalendereintrag/ronhofer-kaerwa-5/
LOCATION:Ronhof Kärwaburschen\, Ronhof\, Bayern\, 90765\, DEU
CATEGORIES:"Kärwa,Fürth,Mittelfranken
GEO:49.4950469;11.0045671
END:VEVENT
BEGIN:VEVENT
DTSTART;VALUE=DATE:20260724
DTEND;VALUE=DATE:20260728
DTSTAMP:20260422T044716
CREATED:20260131T140634Z
LAST-MODIFIED:20260411T175232Z
UID:10002456-1784851200-1785196799@fraenkische-kirchweih.de
SUMMARY:Buttendorfer Stodlkärwa
DESCRIPTION:
URL:https://fraenkische-kirchweih.de/kalendereintrag/buttendorfer-stodlkaerwa-5/
LOCATION:Kärwamadli und Kärwaboum Buttendorf e.V.\, Buttendorf\, Bayern\, 90574\, DEU
CATEGORIES:"Kärwa,Fürth,Mittelfranken
GEO:49.4062861;10.8565053
END:VEVENT
BEGIN:VEVENT
DTSTART;VALUE=DATE:20260724
DTEND;VALUE=DATE:20260728
DTSTAMP:20260422T044716
CREATED:20260131T140650Z
LAST-MODIFIED:20260411T175233Z
UID:10002459-1784851200-1785196799@fraenkische-kirchweih.de
SUMMARY:Kirwa Großbellhofen
DESCRIPTION:
URL:https://fraenkische-kirchweih.de/kalendereintrag/kirwa-grossbellhofen-5/
LOCATION:Kirwaboum Großbellhofen e. V.\, Großbellhofen\, Bayern\, 91220\, DEU
CATEGORIES:"Kirwa,Mittelfranken,Nürnberger Land
GEO:49.5692157;11.3113629
END:VEVENT
BEGIN:VEVENT
DTSTART;VALUE=DATE:20260724
DTEND;VALUE=DATE:20260728
DTSTAMP:20260422T044716
CREATED:20260131T140651Z
LAST-MODIFIED:20260411T175246Z
UID:10002460-1784851200-1785196799@fraenkische-kirchweih.de
SUMMARY:Unterreichenbacher Kerwa
DESCRIPTION:
URL:https://fraenkische-kirchweih.de/kalendereintrag/unterreichenbacher-kerwa-5/
LOCATION:Kerwa Unterreichenbach\, Unterreichenbach\, Bayern\, 91126\, DEU
CATEGORIES:"Kerwa,Mittelfranken,Schwabach
GEO:49.3287042;10.996655
END:VEVENT
BEGIN:VEVENT
DTSTART;VALUE=DATE:20260724
DTEND;VALUE=DATE:20260728
DTSTAMP:20260422T044716
CREATED:20260131T140651Z
LAST-MODIFIED:20260411T175247Z
UID:10002461-1784851200-1785196799@fraenkische-kirchweih.de
SUMMARY:Kärwa Burgfarrnbach
DESCRIPTION:
URL:https://fraenkische-kirchweih.de/kalendereintrag/kaerwa-burgfarrnbach-5/
LOCATION:Kärwaburschen Burgfarrnbach\, Burgfarrnbach\, Bayern\, 90768\, DEU
CATEGORIES:"Kärwa,Fürth,Mittelfranken
GEO:49.4905305;10.9239734
END:VEVENT
BEGIN:VEVENT
DTSTART;VALUE=DATE:20260724
DTEND;VALUE=DATE:20260728
DTSTAMP:20260422T044716
CREATED:20260131T140652Z
LAST-MODIFIED:20260411T175331Z
UID:10002463-1784851200-1785196799@fraenkische-kirchweih.de
SUMMARY:Reichelsdorfer Kärwa
DESCRIPTION:
URL:https://fraenkische-kirchweih.de/kalendereintrag/reichelsdorfer-kaerwa-5/
LOCATION:Reichelsdorfer Kärwaboum und Kärwamadla\, Reichelsdorf\, Bayern\, 90453\, DEU
CATEGORIES:"Kärwa,Mittelfranken,Nürnberg
GEO:49.3811958;11.0316898
END:VEVENT
BEGIN:VEVENT
DTSTART;VALUE=DATE:20260724
DTEND;VALUE=DATE:20260728
DTSTAMP:20260422T044716
CREATED:20260131T141228Z
LAST-MODIFIED:20260411T175248Z
UID:10002561-1784851200-1785196799@fraenkische-kirchweih.de
SUMMARY:Kirwa Mosenberg-Ranna
DESCRIPTION:
URL:https://fraenkische-kirchweih.de/kalendereintrag/kirwa-mosenberg-ranna-5/
LOCATION:Kirwaleut Mosenberg-Ranna\, Mosenberg und Ranna\, Bayern\, 91284\, DEU
CATEGORIES:"Kirwa,Kirwa Mosenberg-Ranna,Mittelfranken
GEO:49.6537766;11.5699423
END:VEVENT
BEGIN:VEVENT
DTSTART;VALUE=DATE:20260724
DTEND;VALUE=DATE:20260728
DTSTAMP:20260422T044716
CREATED:20260131T141241Z
LAST-MODIFIED:20260411T175301Z
UID:10002568-1784851200-1785196799@fraenkische-kirchweih.de
SUMMARY:Kirwa Siegersdorf
DESCRIPTION:
URL:https://fraenkische-kirchweih.de/kalendereintrag/kirwa-siegersdorf-5/
LOCATION:Ortsvereine Siegersdorf\, Siegersdorf\, Bayern\, 91220\, DEU
CATEGORIES:"Kirwa,Mittelfranken,Nürnberger Land
GEO:49.5531601;11.3758127
END:VEVENT
BEGIN:VEVENT
DTSTART;VALUE=DATE:20260724
DTEND;VALUE=DATE:20260728
DTSTAMP:20260422T044716
CREATED:20260131T141401Z
LAST-MODIFIED:20260411T175302Z
UID:10002599-1784851200-1785196799@fraenkische-kirchweih.de
SUMMARY:Muhrer St. Johannis Kerwa
DESCRIPTION:
URL:https://fraenkische-kirchweih.de/kalendereintrag/muhrer-st-johannis-kerwa/
LOCATION:Ortsvereine Muhr\, Muhr am See\, Bayern\, 91735\, DEU
CATEGORIES:"Kerwa,Mittelfranken,Weißenburg-Gunzenhausen
GEO:49.1554104;10.7112472
END:VEVENT
BEGIN:VEVENT
DTSTART;VALUE=DATE:20260724
DTEND;VALUE=DATE:20260728
DTSTAMP:20260422T044717
CREATED:20260131T141549Z
LAST-MODIFIED:20260411T175303Z
UID:10002618-1784851200-1785196799@fraenkische-kirchweih.de
SUMMARY:Kärwa Dietenhofen
DESCRIPTION:
URL:https://fraenkische-kirchweih.de/kalendereintrag/kaerwa-dietenhofen/
LOCATION:Ortsburschen Dietenhofen\, Dietenhofen\, Bayern\, 90599\, DEU
CATEGORIES:"Kärwa,Ansbach,Mittelfranken
GEO:49.4117172;10.6825213
END:VEVENT
BEGIN:VEVENT
DTSTART;VALUE=DATE:20260724
DTEND;VALUE=DATE:20260728
DTSTAMP:20260422T044717
CREATED:20260131T141739Z
LAST-MODIFIED:20260411T175303Z
UID:10002643-1784851200-1785196799@fraenkische-kirchweih.de
SUMMARY:Kerwa Mitteldachstetten
DESCRIPTION:
URL:https://fraenkische-kirchweih.de/kalendereintrag/kerwa-mitteldachstetten/
LOCATION:Kerwaverein Mitteldachstetten\, Mitteldachstetten\, Bayern\, 91617\, DEU
CATEGORIES:"Kerwa,Ansbach,Mittelfranken
GEO:49.4026017;10.4646072
END:VEVENT
BEGIN:VEVENT
DTSTART;VALUE=DATE:20260724
DTEND;VALUE=DATE:20260728
DTSTAMP:20260422T044717
CREATED:20260131T141940Z
LAST-MODIFIED:20260411T175316Z
UID:10002649-1784851200-1785196799@fraenkische-kirchweih.de
SUMMARY:Kirchweih Weihenzell
DESCRIPTION:
URL:https://fraenkische-kirchweih.de/kalendereintrag/kirchweih-weihenzell/
LOCATION:Landjugend Weihenzell\, Weihenzell\, Bayern\, 91629\, DEU
CATEGORIES:"Kerwa,Ansbach,Mittelfranken
GEO:49.3555791;10.6281722
END:VEVENT
BEGIN:VEVENT
DTSTART;VALUE=DATE:20260724
DTEND;VALUE=DATE:20260728
DTSTAMP:20260422T044717
CREATED:20260131T142342Z
LAST-MODIFIED:20260411T175317Z
UID:10002669-1784851200-1785196799@fraenkische-kirchweih.de
SUMMARY:Kirchweih Büchenbach
DESCRIPTION:
URL:https://fraenkische-kirchweih.de/kalendereintrag/kirchweih-buechenbach/
LOCATION:Büchenbacher Kärwaboum und Madli\, Büchenbach\, Bayern\, 91186\, DEU
CATEGORIES:"Kärwa,Mittelfranken,Roth
GEO:49.2644268;11.0533138
END:VEVENT
BEGIN:VEVENT
DTSTART;VALUE=DATE:20260724
DTEND;VALUE=DATE:20260728
DTSTAMP:20260422T044717
CREATED:20260131T142408Z
LAST-MODIFIED:20260411T175318Z
UID:10002684-1784851200-1785196799@fraenkische-kirchweih.de
SUMMARY:Leuzdorfer Kärwa
DESCRIPTION:
URL:https://fraenkische-kirchweih.de/kalendereintrag/leuzdorfer-kaerwa/
LOCATION:Leuzdorfer Kärwaboumundmadli\, Leuzdorf\, Bayern\, 91189\, DEU
CATEGORIES:"Kärwa,Mittelfranken,Roth
GEO:49.3417025;10.9245623
END:VEVENT
BEGIN:VEVENT
DTSTART;VALUE=DATE:20260724
DTEND;VALUE=DATE:20260728
DTSTAMP:20260422T044717
CREATED:20260131T144752Z
LAST-MODIFIED:20260131T144752Z
UID:10002725-1784851200-1785196799@fraenkische-kirchweih.de
SUMMARY:Königsfelder Kirchweih
DESCRIPTION:
URL:https://fraenkische-kirchweih.de/kalendereintrag/koenigsfelder-kirchweih-5/
LOCATION:Ortsvereine Kirchfeld\, Königsfeld\, Bayern\, 96167\, DEU
CATEGORIES:"Kirchweih,Bamberg,Oberfranken
GEO:49.9443284;11.1633444
END:VEVENT
BEGIN:VEVENT
DTSTART;VALUE=DATE:20260724
DTEND;VALUE=DATE:20260728
DTSTAMP:20260422T044717
CREATED:20260131T144755Z
LAST-MODIFIED:20260131T144755Z
UID:10002728-1784851200-1785196799@fraenkische-kirchweih.de
SUMMARY:Winnämer Kerwa
DESCRIPTION:
URL:https://fraenkische-kirchweih.de/kalendereintrag/winnaemer-kerwa-5/
LOCATION:Kirchweihburschen und -madli Burgwindheim e.V.\, Burgwindheim\, Bayern\, 96154\, DEU
CATEGORIES:"Kerwa,Bamberg,Oberfranken
GEO:49.8273436;10.5981386
END:VEVENT
BEGIN:VEVENT
DTSTART;VALUE=DATE:20260724
DTEND;VALUE=DATE:20260728
DTSTAMP:20260422T044717
CREATED:20260131T144756Z
LAST-MODIFIED:20260131T144756Z
UID:10002729-1784851200-1785196799@fraenkische-kirchweih.de
SUMMARY:Steppacher Kärwa
DESCRIPTION:
URL:https://fraenkische-kirchweih.de/kalendereintrag/steppacher-kaerwa-5/
LOCATION:Steppacher Kärwasburschen e.V.\, Steppach\, Bayern\, 96178\, DEU
CATEGORIES:"Kärwa,Bamberg,Oberfranken
GEO:49.7725774;10.8060073
END:VEVENT
END:VCALENDAR