BEGIN:VCALENDAR
VERSION:2.0
PRODID:-//Fränkische Kirchweih - ECPv6.15.17.1//NONSGML v1.0//EN
CALSCALE:GREGORIAN
METHOD:PUBLISH
X-ORIGINAL-URL:https://fraenkische-kirchweih.de
X-WR-CALDESC:Veranstaltungen für Fränkische Kirchweih
REFRESH-INTERVAL;VALUE=DURATION:PT1H
X-Robots-Tag:noindex
X-PUBLISHED-TTL:PT1H
BEGIN:VTIMEZONE
TZID:Europe/Berlin
BEGIN:DAYLIGHT
TZOFFSETFROM:+0100
TZOFFSETTO:+0200
TZNAME:CEST
DTSTART:20250330T010000
END:DAYLIGHT
BEGIN:STANDARD
TZOFFSETFROM:+0200
TZOFFSETTO:+0100
TZNAME:CET
DTSTART:20251026T010000
END:STANDARD
BEGIN:DAYLIGHT
TZOFFSETFROM:+0100
TZOFFSETTO:+0200
TZNAME:CEST
DTSTART:20260329T010000
END:DAYLIGHT
BEGIN:STANDARD
TZOFFSETFROM:+0200
TZOFFSETTO:+0100
TZNAME:CET
DTSTART:20261025T010000
END:STANDARD
BEGIN:DAYLIGHT
TZOFFSETFROM:+0100
TZOFFSETTO:+0200
TZNAME:CEST
DTSTART:20270328T010000
END:DAYLIGHT
BEGIN:STANDARD
TZOFFSETFROM:+0200
TZOFFSETTO:+0100
TZNAME:CET
DTSTART:20271031T010000
END:STANDARD
END:VTIMEZONE
BEGIN:VEVENT
DTSTART;VALUE=DATE:20260717
DTEND;VALUE=DATE:20260721
DTSTAMP:20260422T003012
CREATED:20260131T141721Z
LAST-MODIFIED:20260411T175146Z
UID:10002634-1784246400-1784591999@fraenkische-kirchweih.de
SUMMARY:Kirchweih Lichtenau
DESCRIPTION:
URL:https://fraenkische-kirchweih.de/kalendereintrag/kirchweih-lichtenau/
LOCATION:Lichtenauer Kerwabuam\, Lichtenau\, Bayern\, 91586\, DEU
CATEGORIES:"Kerwa,Ansbach,Mittelfranken
GEO:49.2768001;10.6852019
END:VEVENT
BEGIN:VEVENT
DTSTART;VALUE=DATE:20260717
DTEND;VALUE=DATE:20260721
DTSTAMP:20260422T003012
CREATED:20260131T142342Z
LAST-MODIFIED:20260411T175147Z
UID:10002670-1784246400-1784591999@fraenkische-kirchweih.de
SUMMARY:Aurauer Kärwa
DESCRIPTION:
URL:https://fraenkische-kirchweih.de/kalendereintrag/aurauer-kaerwa/
LOCATION:Aurauer Kärwaboum- und Madli\, Aurau\, Bayern\, 91186\, DEU
CATEGORIES:"Kärwa,Mittelfranken,Roth
GEO:49.2486608;11.0187011
END:VEVENT
BEGIN:VEVENT
DTSTART;VALUE=DATE:20260717
DTEND;VALUE=DATE:20260721
DTSTAMP:20260422T003012
CREATED:20260131T142415Z
LAST-MODIFIED:20260411T175147Z
UID:10002688-1784246400-1784591999@fraenkische-kirchweih.de
SUMMARY:Weigadder Kerwa
DESCRIPTION:
URL:https://fraenkische-kirchweih.de/kalendereintrag/weigadder-kerwa/
LOCATION:Landjugend Großweingarten\, Großweingarten\, Bayern\, 91174\, DEU
CATEGORIES:"Kerwa,Mittelfranken,Roth
GEO:49.1662633;10.9397251
END:VEVENT
BEGIN:VEVENT
DTSTART;VALUE=DATE:20260717
DTEND;VALUE=DATE:20260721
DTSTAMP:20260422T003012
CREATED:20260131T142416Z
LAST-MODIFIED:20260411T175148Z
UID:10002691-1784246400-1784591999@fraenkische-kirchweih.de
SUMMARY:Kerwa Offenbau
DESCRIPTION:
URL:https://fraenkische-kirchweih.de/kalendereintrag/kerwa-offenbau/
LOCATION:Kerwajugend Offenbau\, Offenbau\, Bayern\, 91177\, DEU
CATEGORIES:"Kerwa,Mittelfranken,Roth
GEO:49.1238427;11.2710956
END:VEVENT
BEGIN:VEVENT
DTSTART;VALUE=DATE:20260717
DTEND;VALUE=DATE:20260721
DTSTAMP:20260422T003012
CREATED:20260131T144751Z
LAST-MODIFIED:20260131T144751Z
UID:10002724-1784246400-1784591999@fraenkische-kirchweih.de
SUMMARY:Effeltricher Kerwa
DESCRIPTION:
URL:https://fraenkische-kirchweih.de/kalendereintrag/effeltricher-kerwa-5/
LOCATION:Burschenvereine Concordia Effeltrich\, Effeltrich\, Bayern\, 91090\, DEU
CATEGORIES:"Kerwa,Forchheim,Oberfranken
GEO:49.6600722;11.1047748
END:VEVENT
BEGIN:VEVENT
DTSTART;VALUE=DATE:20260717
DTEND;VALUE=DATE:20260721
DTSTAMP:20260422T003012
CREATED:20260131T151804Z
LAST-MODIFIED:20260131T151804Z
UID:10002877-1784246400-1784591999@fraenkische-kirchweih.de
SUMMARY:Sunzendorfer Kirwa
DESCRIPTION:
URL:https://fraenkische-kirchweih.de/kalendereintrag/sunzendorfer-kirwa-5/
LOCATION:Ortsvereine Sunzendorf\, Sunzendorf\, Bayern\, 92262\, DEU
CATEGORIES:"Kirwa,Amberg-Sulzbach,Oberpfalz
GEO:49.4719174;11.6326366
END:VEVENT
BEGIN:VEVENT
DTSTART;VALUE=DATE:20260717
DTEND;VALUE=DATE:20260721
DTSTAMP:20260422T003012
CREATED:20260222T162209Z
LAST-MODIFIED:20260411T175148Z
UID:10003107-1784246400-1784591999@fraenkische-kirchweih.de
SUMMARY:Hohensteiner Kirwa
DESCRIPTION:
URL:https://fraenkische-kirchweih.de/kalendereintrag/hohensteiner-kirwa/
LOCATION:Ortsvereine Hohenstein\, Hohenstein\, Bayern\, 91241\, DEU
CATEGORIES:"Kirwa,Mittelfranken,Nürnberger Land
GEO:49.5870738;11.4239131
END:VEVENT
BEGIN:VEVENT
DTSTART;VALUE=DATE:20260717
DTEND;VALUE=DATE:20260721
DTSTAMP:20260422T003012
CREATED:20260304T172906Z
LAST-MODIFIED:20260411T175201Z
UID:10003119-1784246400-1784591999@fraenkische-kirchweih.de
SUMMARY:Buchenbüchler Kirchweih
DESCRIPTION:
URL:https://fraenkische-kirchweih.de/kalendereintrag/buchenbuechler-kirchweih/
LOCATION:Bürgerverein Nürnberg-Buchenbühl\, Buchenbühl\, Bayern\, 90411\, DEU
CATEGORIES:"Kirchweih,Mittelfranken,Nürnberg
GEO:49.5019203;11.1134309
END:VEVENT
BEGIN:VEVENT
DTSTART;VALUE=DATE:20260717
DTEND;VALUE=DATE:20260721
DTSTAMP:20260422T003012
CREATED:20260409T160751Z
LAST-MODIFIED:20260411T175202Z
UID:10003197-1784246400-1784591999@fraenkische-kirchweih.de
SUMMARY:Spardorfer Kerwa
DESCRIPTION:
URL:https://fraenkische-kirchweih.de/kalendereintrag/spardorfer-kerwa/
LOCATION:Brauchtumspflegeverein Spardorf\, Spardorf\, Bayern\, 91080\, DEU
CATEGORIES:"Kerwa,Erlangen-Höchstadt,Mittelfranken
GEO:49.6002127;11.0558962
END:VEVENT
BEGIN:VEVENT
DTSTART;VALUE=DATE:20260717
DTEND;VALUE=DATE:20260721
DTSTAMP:20260422T003012
CREATED:20260411T175203Z
LAST-MODIFIED:20260411T175203Z
UID:10003222-1784246400-1784591999@fraenkische-kirchweih.de
SUMMARY:Eschenbacher Kerwa
DESCRIPTION:
URL:https://fraenkische-kirchweih.de/kalendereintrag/eschenbacher-kerwa/
LOCATION:Ortsburschen Eschenbach\, Eschenbach\, Bayern\, 91459\, DEU
CATEGORIES:"Kerwa,Mittelfranken,Neustadt an der Aisch-Bad Windsheim
GEO:49.4854047;10.6710693
END:VEVENT
BEGIN:VEVENT
DTSTART;VALUE=DATE:20260717
DTEND;VALUE=DATE:20260722
DTSTAMP:20260422T003012
CREATED:20260131T140631Z
LAST-MODIFIED:20260411T175131Z
UID:10002451-1784246400-1784678399@fraenkische-kirchweih.de
SUMMARY:Boxdorfer Kärwa
DESCRIPTION:
URL:https://fraenkische-kirchweih.de/kalendereintrag/boxdorfer-kaerwa-5/
LOCATION:Ortsvereine Boxdorf\, Boxdorf\, Bayern\, 90427\, DEU
CATEGORIES:"Kärwa,Mittelfranken,Nürnberg
GEO:49.5163637;11.0172093
END:VEVENT
BEGIN:VEVENT
DTSTART;VALUE=DATE:20260717
DTEND;VALUE=DATE:20260722
DTSTAMP:20260422T003012
CREATED:20260131T140633Z
LAST-MODIFIED:20260411T175132Z
UID:10002454-1784246400-1784678399@fraenkische-kirchweih.de
SUMMARY:Veldner Kirwa
DESCRIPTION:
URL:https://fraenkische-kirchweih.de/kalendereintrag/veldner-kirwa-5/
LOCATION:Kirwaboum Velden e.V.\, Velden\, Bayern\, 91235\, DEU
CATEGORIES:"Kirwa,Mittelfranken,Nürnberger Land
GEO:49.6135634;11.5108126
END:VEVENT
BEGIN:VEVENT
DTSTART;VALUE=DATE:20260717
DTEND;VALUE=DATE:20260722
DTSTAMP:20260422T003012
CREATED:20260131T151414Z
LAST-MODIFIED:20260131T151414Z
UID:10002831-1784246400-1784678399@fraenkische-kirchweih.de
SUMMARY:Etzelwanger Kirwa
DESCRIPTION:
URL:https://fraenkische-kirchweih.de/kalendereintrag/etzelwanger-kirwa-5/
LOCATION:Kirwaverein Etzelwang\, Etzelwang\, Bayern\, 92268\, DEU
CATEGORIES:"Kirwa,Amberg-Sulzbach,Oberpfalz
GEO:49.5278214;11.5858166
END:VEVENT
BEGIN:VEVENT
DTSTART;VALUE=DATE:20260717
DTEND;VALUE=DATE:20260723
DTSTAMP:20260422T003012
CREATED:20260131T140632Z
LAST-MODIFIED:20260411T175132Z
UID:10002452-1784246400-1784764799@fraenkische-kirchweih.de
SUMMARY:Kärwa Feucht
DESCRIPTION:
URL:https://fraenkische-kirchweih.de/kalendereintrag/kaerwa-feucht-5/
LOCATION:Kärwaleute Feucht\, Feucht\, Bayern\, 90537\, DEU
CATEGORIES:"Kärwa,Mittelfranken,Nürnberger Land
GEO:49.3748517;11.2291112
END:VEVENT
BEGIN:VEVENT
DTSTART;VALUE=DATE:20260718
DTEND;VALUE=DATE:20260720
DTSTAMP:20260422T003012
CREATED:20260131T144750Z
LAST-MODIFIED:20260131T144750Z
UID:10002723-1784332800-1784505599@fraenkische-kirchweih.de
SUMMARY:Kerwa Tüchersfeld
DESCRIPTION:
URL:https://fraenkische-kirchweih.de/kalendereintrag/kerwa-tuechersfeld-5/
LOCATION:Dorfjugend Tüchersfeld e.V.\, Tüchersfeld\, Bayern\, 91278\, DEU
CATEGORIES:"Kerwa,Bayreuth,Oberfranken
GEO:49.7853184;11.3605696
END:VEVENT
BEGIN:VEVENT
DTSTART;VALUE=DATE:20260718
DTEND;VALUE=DATE:20260720
DTSTAMP:20260422T003012
CREATED:20260131T151425Z
LAST-MODIFIED:20260131T151425Z
UID:10002836-1784332800-1784505599@fraenkische-kirchweih.de
SUMMARY:Kärwa Kemnath
DESCRIPTION:
URL:https://fraenkische-kirchweih.de/kalendereintrag/kaerwa-kemnath-5/
LOCATION:Kärwa Kemnath\, Kemnath\, Bayern\, 92353\, DEU
CATEGORIES:"Kärwa,Neumarkt in der Oberpfalz,Oberpfalz
GEO:49.2981644;11.3424098
END:VEVENT
BEGIN:VEVENT
DTSTART;VALUE=DATE:20260718
DTEND;VALUE=DATE:20260721
DTSTAMP:20260422T003012
CREATED:20260131T151358Z
LAST-MODIFIED:20260131T151358Z
UID:10002819-1784332800-1784591999@fraenkische-kirchweih.de
SUMMARY:Ritzenfelder Kirwa
DESCRIPTION:
URL:https://fraenkische-kirchweih.de/kalendereintrag/ritzenfelder-kirwa-5/
LOCATION:Kirwagemeinschaft Ritzenfeld e.V.\, Ritzenfeld\, Bayern\, 92278\, DEU
CATEGORIES:"Kirwa,Amberg-Sulzbach,Oberpfalz
GEO:49.4308304;11.6958314
END:VEVENT
BEGIN:VEVENT
DTSTART;VALUE=DATE:20260722
DTEND;VALUE=DATE:20260728
DTSTAMP:20260422T003012
CREATED:20260131T144756Z
LAST-MODIFIED:20260131T144756Z
UID:10002730-1784678400-1785196799@fraenkische-kirchweih.de
SUMMARY:Abicher Kerwa
DESCRIPTION:
URL:https://fraenkische-kirchweih.de/kalendereintrag/abicher-kerwa-5/
LOCATION:Ortskulturring Ebing\, Ebing\, Bayern\, 96179\, DEU
CATEGORIES:"Kerwa,Bamberg,Oberfranken
GEO:50.0086668;10.9055955
END:VEVENT
BEGIN:VEVENT
DTSTART;VALUE=DATE:20260723
DTEND;VALUE=DATE:20260727
DTSTAMP:20260422T003012
CREATED:20260131T155444Z
LAST-MODIFIED:20260131T155444Z
UID:10003074-1784764800-1785110399@fraenkische-kirchweih.de
SUMMARY:Zeltkirmes in Merkers
DESCRIPTION:
URL:https://fraenkische-kirchweih.de/kalendereintrag/zeltkirmes-in-merkers-5/
LOCATION:Kirmesgesellschaft Merkers\, Merkers\, Thüringen\, 36460\, DEU
CATEGORIES:"Kirmes,Wartburgkreis,Werra-Main-Franken
GEO:50.8209001;10.1246654
END:VEVENT
BEGIN:VEVENT
DTSTART;VALUE=DATE:20260723
DTEND;VALUE=DATE:20260727
DTSTAMP:20260422T003012
CREATED:20260131T155446Z
LAST-MODIFIED:20260131T155446Z
UID:10003077-1784764800-1785110399@fraenkische-kirchweih.de
SUMMARY:Kirmes Gumpelstadt
DESCRIPTION:
URL:https://fraenkische-kirchweih.de/kalendereintrag/kirmes-gumpelstadt-5/
LOCATION:Kirmesgesellschaft Gumpelstadt\, Gumpelstadt\, Thüringen\, 36433\, DEU
CATEGORIES:"Kirmes,Wartburgkreis,Werra-Main-Franken
GEO:50.836342;10.2921979
END:VEVENT
BEGIN:VEVENT
DTSTART;VALUE=DATE:20260723
DTEND;VALUE=DATE:20260728
DTSTAMP:20260422T003012
CREATED:20260131T140635Z
LAST-MODIFIED:20260411T175203Z
UID:10002458-1784764800-1785196799@fraenkische-kirchweih.de
SUMMARY:Kirwa Reichenschwand
DESCRIPTION:
URL:https://fraenkische-kirchweih.de/kalendereintrag/kirwa-reichenschwand-5/
LOCATION:Kirchweihverein Reichenschwand e.V.\, Reichenschwand\, Bayern\, 91244\, DEU
CATEGORIES:"Kirwa,Mittelfranken,Nürnberger Land
GEO:49.5134495;11.3721144
END:VEVENT
BEGIN:VEVENT
DTSTART;VALUE=DATE:20260723
DTEND;VALUE=DATE:20260728
DTSTAMP:20260422T003012
CREATED:20260131T141117Z
LAST-MODIFIED:20260411T175216Z
UID:10002548-1784764800-1785196799@fraenkische-kirchweih.de
SUMMARY:Aspertshiefer Kirwa
DESCRIPTION:
URL:https://fraenkische-kirchweih.de/kalendereintrag/aspertshiefer-kirwa-5/
LOCATION:Ortsvereine Aspertshofen\, Aspertshofen\, Bayern\, 91241\, DEU
CATEGORIES:"Kirwa,Mittelfranken,Nürnberger Land
GEO:49.5443301;11.4321063
END:VEVENT
BEGIN:VEVENT
DTSTART;VALUE=DATE:20260723
DTEND;VALUE=DATE:20260728
DTSTAMP:20260422T003012
CREATED:20260131T141228Z
LAST-MODIFIED:20260411T175217Z
UID:10002562-1784764800-1785196799@fraenkische-kirchweih.de
SUMMARY:Kirwa Offenhausen
DESCRIPTION:
URL:https://fraenkische-kirchweih.de/kalendereintrag/kirwa-offenhausen-5/
LOCATION:Ortsvereine Offenhausen\, Offenhausen\, Bayern\, 91238\, DEU
CATEGORIES:"Kirwa,Mittelfranken,Nürnberger Land
GEO:49.4488923;11.4112384
END:VEVENT
BEGIN:VEVENT
DTSTART;VALUE=DATE:20260723
DTEND;VALUE=DATE:20260728
DTSTAMP:20260422T003012
CREATED:20260131T141711Z
LAST-MODIFIED:20260411T175217Z
UID:10002627-1784764800-1785196799@fraenkische-kirchweih.de
SUMMARY:Kärwa Bürglein
DESCRIPTION:
URL:https://fraenkische-kirchweih.de/kalendereintrag/kaerwa-buerglein/
LOCATION:Kärwaburschen und -madli Bürglein\, Bürglein\, Bayern\, 91560\, DEU
CATEGORIES:"Kärwa,Ansbach,Mittelfranken
GEO:49.3759283;10.7937642
END:VEVENT
BEGIN:VEVENT
DTSTART;VALUE=DATE:20260723
DTEND;VALUE=DATE:20260728
DTSTAMP:20260422T003013
CREATED:20260131T141740Z
LAST-MODIFIED:20260411T175217Z
UID:10002645-1784764800-1785196799@fraenkische-kirchweih.de
SUMMARY:Großhaslacher Kärwa
DESCRIPTION:
URL:https://fraenkische-kirchweih.de/kalendereintrag/grosshaslacher-kaerwa/
LOCATION:Kärwabuam Großhaslach\, Großhaslach\, Bayern\, 91580\, DEU
CATEGORIES:"Kärwa,Ansbach,Mittelfranken
GEO:49.3375696;10.7272911
END:VEVENT
BEGIN:VEVENT
DTSTART;VALUE=DATE:20260723
DTEND;VALUE=DATE:20260728
DTSTAMP:20260422T003013
CREATED:20260131T155229Z
LAST-MODIFIED:20260131T155229Z
UID:10003065-1784764800-1785196799@fraenkische-kirchweih.de
SUMMARY:Zeltkirmes Empfertshausen
DESCRIPTION:
URL:https://fraenkische-kirchweih.de/kalendereintrag/zeltkirmes-empfertshausen-5/
LOCATION:Kirmes- und Kulturverein Empfertshausen\, Empfertshausen\, Thüringen\, 36452\, DEU
CATEGORIES:"Kirmes,Wartburgkreis,Werra-Main-Franken
GEO:50.66461;10.1002442
END:VEVENT
BEGIN:VEVENT
DTSTART;VALUE=DATE:20260723
DTEND;VALUE=DATE:20260728
DTSTAMP:20260422T003013
CREATED:20260320T231008Z
LAST-MODIFIED:20260411T175218Z
UID:10003139-1784764800-1785196799@fraenkische-kirchweih.de
SUMMARY:Unterasbacher Kärwa
DESCRIPTION:
URL:https://fraenkische-kirchweih.de/kalendereintrag/unterasbacher-kaerwa/
LOCATION:Kärwaboum und Kärwamadlis Unterasbach\, Unterasbach\, Bayern\, 90522\, DEU
CATEGORIES:"Kärwa,Fürth,Mittelfranken
GEO:49.4207407;10.9812756
END:VEVENT
BEGIN:VEVENT
DTSTART;VALUE=DATE:20260723
DTEND;VALUE=DATE:20260728
DTSTAMP:20260422T003013
CREATED:20260411T175231Z
LAST-MODIFIED:20260411T175231Z
UID:10003223-1784764800-1785196799@fraenkische-kirchweih.de
SUMMARY:Zeltkerwa Willmersbach
DESCRIPTION:
URL:https://fraenkische-kirchweih.de/kalendereintrag/zeltkerwa-willmersbach/
LOCATION:Ortsburschen und Madle Willmersbach\, Willmersbach\, Bayern\, 91466\, DEU
CATEGORIES:"Kerwa,Mittelfranken,Neustadt an der Aisch-Bad Windsheim
GEO:49.6102169;10.709924
END:VEVENT
BEGIN:VEVENT
DTSTART;VALUE=DATE:20260724
DTEND;VALUE=DATE:20260727
DTSTAMP:20260422T003013
CREATED:20260131T141348Z
LAST-MODIFIED:20260411T175302Z
UID:10002584-1784851200-1785110399@fraenkische-kirchweih.de
SUMMARY:Mosbacher Kärwa
DESCRIPTION:
URL:https://fraenkische-kirchweih.de/kalendereintrag/mosbacher-kaerwa-3/
LOCATION:Kärwafreunde Mosbach\, Mosbach\, Bayern\, 91174\, DEU
CATEGORIES:"Kärwa,Mittelfranken,Roth
GEO:49.1874992;10.9686022
END:VEVENT
BEGIN:VEVENT
DTSTART;VALUE=DATE:20260724
DTEND;VALUE=DATE:20260727
DTSTAMP:20260422T003013
CREATED:20260131T142339Z
LAST-MODIFIED:20260411T175317Z
UID:10002665-1784851200-1785110399@fraenkische-kirchweih.de
SUMMARY:Kerwa Dermummerla
DESCRIPTION:
URL:https://fraenkische-kirchweih.de/kalendereintrag/kerwa-dermummerla/
LOCATION:Kerwaboum und -madli Dermummerla\, Dürrenmungenau\, Bayern\, 91183\, DEU
CATEGORIES:"Kerwa,Mittelfranken,Roth
GEO:49.2332805;10.9184435
END:VEVENT
END:VCALENDAR