BEGIN:VCALENDAR
VERSION:2.0
PRODID:-//Fränkische Kirchweih - ECPv6.15.17.1//NONSGML v1.0//EN
CALSCALE:GREGORIAN
METHOD:PUBLISH
X-ORIGINAL-URL:https://fraenkische-kirchweih.de
X-WR-CALDESC:Veranstaltungen für Fränkische Kirchweih
REFRESH-INTERVAL;VALUE=DURATION:PT1H
X-Robots-Tag:noindex
X-PUBLISHED-TTL:PT1H
BEGIN:VTIMEZONE
TZID:Europe/Berlin
BEGIN:DAYLIGHT
TZOFFSETFROM:+0100
TZOFFSETTO:+0200
TZNAME:CEST
DTSTART:20250330T010000
END:DAYLIGHT
BEGIN:STANDARD
TZOFFSETFROM:+0200
TZOFFSETTO:+0100
TZNAME:CET
DTSTART:20251026T010000
END:STANDARD
BEGIN:DAYLIGHT
TZOFFSETFROM:+0100
TZOFFSETTO:+0200
TZNAME:CEST
DTSTART:20260329T010000
END:DAYLIGHT
BEGIN:STANDARD
TZOFFSETFROM:+0200
TZOFFSETTO:+0100
TZNAME:CET
DTSTART:20261025T010000
END:STANDARD
BEGIN:DAYLIGHT
TZOFFSETFROM:+0100
TZOFFSETTO:+0200
TZNAME:CEST
DTSTART:20270328T010000
END:DAYLIGHT
BEGIN:STANDARD
TZOFFSETFROM:+0200
TZOFFSETTO:+0100
TZNAME:CET
DTSTART:20271031T010000
END:STANDARD
END:VTIMEZONE
BEGIN:VEVENT
DTSTART;VALUE=DATE:20260708
DTEND;VALUE=DATE:20260714
DTSTAMP:20260422T032326
CREATED:20260131T144620Z
LAST-MODIFIED:20260131T144620Z
UID:10002720-1783468800-1783987199@fraenkische-kirchweih.de
SUMMARY:Wernsdorfer Kirchweih
DESCRIPTION:
URL:https://fraenkische-kirchweih.de/kalendereintrag/wernsdorfer-kirchweih-5/
LOCATION:Ortsvereine Wernsdorf\, Wernsdrof\, Bayern\, 96129\, DEU
CATEGORIES:"Kirchweih,Bamberg,Oberfranken
GEO:49.8588415;11.0081246
END:VEVENT
BEGIN:VEVENT
DTSTART;VALUE=DATE:20260708
DTEND;VALUE=DATE:20260714
DTSTAMP:20260422T032326
CREATED:20260411T174947Z
LAST-MODIFIED:20260411T174947Z
UID:10003216-1783468800-1783987199@fraenkische-kirchweih.de
SUMMARY:Gutensteeder Kerwa
DESCRIPTION:
URL:https://fraenkische-kirchweih.de/kalendereintrag/gutensteeder-kerwa/
LOCATION:Ortsburschen und Madle Gutenstetten\, Gutenstetten\, Bayern\, 91468\, DEU
CATEGORIES:"Kerwa,Mittelfranken,Neustadt an der Aisch-Bad Windsheim
GEO:49.622672;10.627952
END:VEVENT
BEGIN:VEVENT
DTSTART;VALUE=DATE:20260709
DTEND;VALUE=DATE:20260714
DTSTAMP:20260422T032326
CREATED:20260131T141710Z
LAST-MODIFIED:20260411T174948Z
UID:10002626-1783555200-1783987199@fraenkische-kirchweih.de
SUMMARY:Krichweih Bonnhof
DESCRIPTION:
URL:https://fraenkische-kirchweih.de/kalendereintrag/krichweih-bonnhof/
LOCATION:Kärwa-Buam und -Madli Bonnhof\, Bonnhof\, Bayern\, 91560\, DEU
CATEGORIES:"Kärwa,Ansbach,Mittelfranken
GEO:49.3568106;10.7922821
END:VEVENT
BEGIN:VEVENT
DTSTART;VALUE=DATE:20260709
DTEND;VALUE=DATE:20260714
DTSTAMP:20260422T032326
CREATED:20260131T151754Z
LAST-MODIFIED:20260131T151754Z
UID:10002866-1783555200-1783987199@fraenkische-kirchweih.de
SUMMARY:Kirwa Weigendorf/Oed
DESCRIPTION:
URL:https://fraenkische-kirchweih.de/kalendereintrag/kirwa-weigendorf-oed-5/
LOCATION:Kirwaverein Weigendorf/Oed\, Weigendorf und Oed\, Bayern\, 91249\, DEU
CATEGORIES:"Kirwa,Amberg-Sulzbach,Oberpfalz
GEO:49.5071674;11.5709905
END:VEVENT
BEGIN:VEVENT
DTSTART;VALUE=DATE:20260709
DTEND;VALUE=DATE:20260714
DTSTAMP:20260422T032326
CREATED:20260411T174948Z
LAST-MODIFIED:20260411T174948Z
UID:10003217-1783555200-1783987199@fraenkische-kirchweih.de
SUMMARY:Dürrnbucher Kerwa
DESCRIPTION:
URL:https://fraenkische-kirchweih.de/kalendereintrag/duerrnbucher-kerwa/
LOCATION:FF Dürnbuch\, Dürrnbuch\, Bayern\, 91448\, DEU
CATEGORIES:"Kerwa,Mittelfranken,Neustadt an der Aisch-Bad Windsheim
GEO:49.517934;10.7223201
END:VEVENT
BEGIN:VEVENT
DTSTART;VALUE=DATE:20260709
DTEND;VALUE=DATE:20260714
DTSTAMP:20260422T032326
CREATED:20260411T175001Z
LAST-MODIFIED:20260411T175001Z
UID:10003218-1783555200-1783987199@fraenkische-kirchweih.de
SUMMARY:Kerwa Ullstadt
DESCRIPTION:
URL:https://fraenkische-kirchweih.de/kalendereintrag/kerwa-ullstadt/
LOCATION:Kerwaburschen und Kerwamadli Ullstadt\, Ullstadt\, Bayern\, 91484\, DEU
CATEGORIES:"Kerwa,Mittelfranken,Neustadt an der Aisch-Bad Windsheim
GEO:49.6152506;10.4773823
END:VEVENT
BEGIN:VEVENT
DTSTART;VALUE=DATE:20260710
DTEND;VALUE=DATE:20260713
DTSTAMP:20260422T032326
CREATED:20260131T151414Z
LAST-MODIFIED:20260131T151414Z
UID:10002830-1783641600-1783900799@fraenkische-kirchweih.de
SUMMARY:Deininger Kirwa
DESCRIPTION:
URL:https://fraenkische-kirchweih.de/kalendereintrag/deininger-kirwa-5/
LOCATION:Kirwaburschen Deining\, Deining\, Bayern\, 92364\, DEU
CATEGORIES:"Kirwa,Neumarkt in der Oberpfalz,Oberpfalz
GEO:49.215725;11.5378983
END:VEVENT
BEGIN:VEVENT
DTSTART;VALUE=DATE:20260710
DTEND;VALUE=DATE:20260713
DTSTAMP:20260422T032326
CREATED:20260131T154524Z
LAST-MODIFIED:20260131T154524Z
UID:10002997-1783641600-1783900799@fraenkische-kirchweih.de
SUMMARY:Föritzer Kirchweih
DESCRIPTION:
URL:https://fraenkische-kirchweih.de/kalendereintrag/foeritzer-kirchweih-5/
LOCATION:Föritzer Fetenmäuse\, Föritz\, Thüringen\, 96524\, DEU
CATEGORIES:"Krichweih,Sonneberg,Werra-Main-Franken
GEO:50.3391426;11.2322172
END:VEVENT
BEGIN:VEVENT
DTSTART;VALUE=DATE:20260710
DTEND;VALUE=DATE:20260713
DTSTAMP:20260422T032326
CREATED:20260131T154700Z
LAST-MODIFIED:20260131T154700Z
UID:10003010-1783641600-1783900799@fraenkische-kirchweih.de
SUMMARY:Effelder Kerwa
DESCRIPTION:
URL:https://fraenkische-kirchweih.de/kalendereintrag/effelder-kerwa-5/
LOCATION:Effelder Kirchweih- und Lindentanzverein e.V.\, Effelder\, Thüringen\, 96528\, DEU
CATEGORIES:"Kerwa,Sonneberg,Werra-Main-Franken
GEO:50.3793616;11.0744806
END:VEVENT
BEGIN:VEVENT
DTSTART;VALUE=DATE:20260710
DTEND;VALUE=DATE:20260713
DTSTAMP:20260422T032326
CREATED:20260222T162217Z
LAST-MODIFIED:20260411T175046Z
UID:10003113-1783641600-1783900799@fraenkische-kirchweih.de
SUMMARY:Renzenhofer Kirwa
DESCRIPTION:
URL:https://fraenkische-kirchweih.de/kalendereintrag/renzenhofer-kirwa/
LOCATION:Kirwaverein Renzenhof\, Renzenhof\, Bayern\, 90552\, DEU
CATEGORIES:"Kirwa,Mittelfranken,Nürnberger Land
GEO:49.4722583;11.2687498
END:VEVENT
BEGIN:VEVENT
DTSTART;VALUE=DATE:20260710
DTEND;VALUE=DATE:20260713
DTSTAMP:20260422T032326
CREATED:20260320T230741Z
LAST-MODIFIED:20260411T175048Z
UID:10003135-1783641600-1783900799@fraenkische-kirchweih.de
SUMMARY:Roßendorfer Wiesn Kärwa
DESCRIPTION:
URL:https://fraenkische-kirchweih.de/kalendereintrag/rossendorfer-wiesn-kaerwa-2/
LOCATION:Landjugend Roßendorf\, Roßendorf\, Bayern\, 90556\, DEU
CATEGORIES:"Kärwa,Fürth,Mittelfranken
GEO:49.4718642;10.8257801
END:VEVENT
BEGIN:VEVENT
DTSTART;VALUE=DATE:20260710
DTEND;VALUE=DATE:20260713
DTSTAMP:20260422T032326
CREATED:20260320T230741Z
LAST-MODIFIED:20260411T175048Z
UID:10003136-1783641600-1783900799@fraenkische-kirchweih.de
SUMMARY:Neuseser Bolzplatz Kärwa
DESCRIPTION:
URL:https://fraenkische-kirchweih.de/kalendereintrag/neuseser-bolzplatz-kaerwa/
LOCATION:Kärwafreunde Neuses\, Neuses\, Bayern\, 90574\, DEU
CATEGORIES:"Kärwa,Fürth,Mittelfranken
GEO:49.4146133;10.8601601
END:VEVENT
BEGIN:VEVENT
DTSTART;VALUE=DATE:20260710
DTEND;VALUE=DATE:20260714
DTSTAMP:20260422T032326
CREATED:20260131T140419Z
LAST-MODIFIED:20260411T175002Z
UID:10002441-1783641600-1783987199@fraenkische-kirchweih.de
SUMMARY:Oberasbacher Kärwa
DESCRIPTION:
URL:https://fraenkische-kirchweih.de/kalendereintrag/oberasbacher-kaerwa-5/
LOCATION:Kärwaboum Oberasbach e.V.\, Oberasbach\, Bayern\, 90522\, DEU
CATEGORIES:"Kärwa,Fürth,Mittelfranken
GEO:49.4325206;10.9711906
END:VEVENT
BEGIN:VEVENT
DTSTART;VALUE=DATE:20260710
DTEND;VALUE=DATE:20260714
DTSTAMP:20260422T032327
CREATED:20260131T140437Z
LAST-MODIFIED:20260411T175003Z
UID:10002445-1783641600-1783987199@fraenkische-kirchweih.de
SUMMARY:Kärwa Schwarzenbach
DESCRIPTION:
URL:https://fraenkische-kirchweih.de/kalendereintrag/kaerwa-schwarzenbach-5/
LOCATION:Kärwaboum Schwarzenbach Dörlbach\, Schwarzenbach\, Bayern\, 90559\, DEU
CATEGORIES:"Kärwa,Mittelfranken,Nürnberger Land
GEO:49.3496839;11.3442115
END:VEVENT
BEGIN:VEVENT
DTSTART;VALUE=DATE:20260710
DTEND;VALUE=DATE:20260714
DTSTAMP:20260422T032327
CREATED:20260131T140437Z
LAST-MODIFIED:20260411T175016Z
UID:10002447-1783641600-1783987199@fraenkische-kirchweih.de
SUMMARY:Kärwa Winkelhaid
DESCRIPTION:
URL:https://fraenkische-kirchweih.de/kalendereintrag/kaerwa-winkelhaid-5/
LOCATION:Kärwa Winkelhaid\, Winkelhaid\, Bayern\, 90610\, DEU
CATEGORIES:"Kärwa,Mittelfranken,Nürnberger Land
GEO:49.383333;11.3
END:VEVENT
BEGIN:VEVENT
DTSTART;VALUE=DATE:20260710
DTEND;VALUE=DATE:20260714
DTSTAMP:20260422T032327
CREATED:20260131T141419Z
LAST-MODIFIED:20260411T175017Z
UID:10002605-1783641600-1783987199@fraenkische-kirchweih.de
SUMMARY:Kirchweih Burgsalach
DESCRIPTION:
URL:https://fraenkische-kirchweih.de/kalendereintrag/kirchweih-burgsalach/
LOCATION:Ortsvereine Burgsalach\, Burgsalach\, Bayern\, 91790\, DEU
CATEGORIES:"Kirchweih,Mittelfranken,Weißenburg-Gunzenhausen
GEO:49.0327673;11.0957511
END:VEVENT
BEGIN:VEVENT
DTSTART;VALUE=DATE:20260710
DTEND;VALUE=DATE:20260714
DTSTAMP:20260422T032327
CREATED:20260131T141713Z
LAST-MODIFIED:20260411T175018Z
UID:10002630-1783641600-1783987199@fraenkische-kirchweih.de
SUMMARY:Kirchweih Obersulzbach
DESCRIPTION:
URL:https://fraenkische-kirchweih.de/kalendereintrag/kirchweih-obersulzbach/
LOCATION:Sulzber Kerwabuam und -madli\, Obersulzbach\, Bayern\, 91611\, DEU
CATEGORIES:"Kerwa,Ansbach,Mittelfranken
GEO:49.3783491;10.4279356
END:VEVENT
BEGIN:VEVENT
DTSTART;VALUE=DATE:20260710
DTEND;VALUE=DATE:20260714
DTSTAMP:20260422T032327
CREATED:20260131T142341Z
LAST-MODIFIED:20260411T175031Z
UID:10002668-1783641600-1783987199@fraenkische-kirchweih.de
SUMMARY:Wies‘n Kerwa Ebenried
DESCRIPTION:
URL:https://fraenkische-kirchweih.de/kalendereintrag/wiesn-kerwa-ebenried/
LOCATION:Kerwaleit Ebenried e.V.\, Ebenried\, Bayern\, 90584\, DEU
CATEGORIES:"Kerwa,Mittelfranken,Roth
GEO:49.2181523;11.2888539
END:VEVENT
BEGIN:VEVENT
DTSTART;VALUE=DATE:20260710
DTEND;VALUE=DATE:20260714
DTSTAMP:20260422T032327
CREATED:20260131T142344Z
LAST-MODIFIED:20260411T175031Z
UID:10002673-1783641600-1783987199@fraenkische-kirchweih.de
SUMMARY:Rittersbacher Kerwa
DESCRIPTION:
URL:https://fraenkische-kirchweih.de/kalendereintrag/rittersbacher-kerwa/
LOCATION:Kerwaboum- und Madli Rittersbach e.V.\, Rittersbach\, Bayern\, 91166\, DEU
CATEGORIES:"Kerwa,Mittelfranken,Roth
GEO:49.2191617;11.0256064
END:VEVENT
BEGIN:VEVENT
DTSTART;VALUE=DATE:20260710
DTEND;VALUE=DATE:20260714
DTSTAMP:20260422T032327
CREATED:20260131T142407Z
LAST-MODIFIED:20260411T175032Z
UID:10002683-1783641600-1783987199@fraenkische-kirchweih.de
SUMMARY:Regelsbacher Kärwa
DESCRIPTION:
URL:https://fraenkische-kirchweih.de/kalendereintrag/regelsbacher-kaerwa/
LOCATION:Regelsbacher Kärwaboum und -madli\, Regelsbach\, Bayern\, 91189\, DEU
CATEGORIES:"Kärwa,Mittelfranken,Roth
GEO:49.3678829;10.9495631
END:VEVENT
BEGIN:VEVENT
DTSTART;VALUE=DATE:20260710
DTEND;VALUE=DATE:20260714
DTSTAMP:20260422T032327
CREATED:20260131T142408Z
LAST-MODIFIED:20260411T175032Z
UID:10002685-1783641600-1783987199@fraenkische-kirchweih.de
SUMMARY:Kärwa Dechendorf
DESCRIPTION:
URL:https://fraenkische-kirchweih.de/kalendereintrag/kaerwa-dechendorf/
LOCATION:Dechendorfer Kärwaboum und -madli\, Dechendorf\, Bayern\, 91189\, DEU
CATEGORIES:"Kärwa,Mittelfranken,Roth
GEO:49.3093789;10.9203707
END:VEVENT
BEGIN:VEVENT
DTSTART;VALUE=DATE:20260710
DTEND;VALUE=DATE:20260714
DTSTAMP:20260422T032327
CREATED:20260131T142417Z
LAST-MODIFIED:20260411T175033Z
UID:10002692-1783641600-1783987199@fraenkische-kirchweih.de
SUMMARY:Ruppmannsburger Kerwa
DESCRIPTION:
URL:https://fraenkische-kirchweih.de/kalendereintrag/ruppmannsburger-kerwa/
LOCATION:Kerwa Ruppmannsburg\, Ruppmannsburg\, Bayern\, 91177\, DEU
CATEGORIES:"Kerwa,Mittelfranken,Roth
GEO:49.0680473;11.1881054
END:VEVENT
BEGIN:VEVENT
DTSTART;VALUE=DATE:20260710
DTEND;VALUE=DATE:20260714
DTSTAMP:20260422T032327
CREATED:20260131T144749Z
LAST-MODIFIED:20260131T144749Z
UID:10002721-1783641600-1783987199@fraenkische-kirchweih.de
SUMMARY:Trachtenkirchweih Steinbach
DESCRIPTION:
URL:https://fraenkische-kirchweih.de/kalendereintrag/trachtenkirchweih-steinbach-5/
LOCATION:Kirchweihgesellschaft Steinbach am Wal\, Steinbach am Wald\, Bayern\, 96361\, DEU
CATEGORIES:"Kirchweih,Kronach,Oberfranken
GEO:50.4408302;11.3789679
END:VEVENT
BEGIN:VEVENT
DTSTART;VALUE=DATE:20260710
DTEND;VALUE=DATE:20260714
DTSTAMP:20260422T032327
CREATED:20260131T151332Z
LAST-MODIFIED:20260131T151332Z
UID:10002803-1783641600-1783987199@fraenkische-kirchweih.de
SUMMARY:Gräfenneusier Kerwa
DESCRIPTION:
URL:https://fraenkische-kirchweih.de/kalendereintrag/graefenneusier-kerwa-5/
LOCATION:Ortsvereine Gräfenneuses\, Gräfenneuses\, Bayern\, 96160\, DEU
CATEGORIES:"Kerwa,Kitzingen,Unterfranken
GEO:49.7905855;10.4365107
END:VEVENT
BEGIN:VEVENT
DTSTART;VALUE=DATE:20260710
DTEND;VALUE=DATE:20260714
DTSTAMP:20260422T032327
CREATED:20260320T230742Z
LAST-MODIFIED:20260411T175048Z
UID:10003137-1783641600-1783987199@fraenkische-kirchweih.de
SUMMARY:Retzelfembacher Kärwa
DESCRIPTION:
URL:https://fraenkische-kirchweih.de/kalendereintrag/retzelfembacher-kaerwa/
LOCATION:Kärwaburschen und -Madli Femba\, Retzelfembach\, Bayern\, 90587\, DEU
CATEGORIES:"Kärwa,Fürth,Mittelfranken
GEO:49.5095333;10.852645
END:VEVENT
BEGIN:VEVENT
DTSTART;VALUE=DATE:20260710
DTEND;VALUE=DATE:20260714
DTSTAMP:20260422T032327
CREATED:20260409T160550Z
LAST-MODIFIED:20260411T175101Z
UID:10003191-1783641600-1783987199@fraenkische-kirchweih.de
SUMMARY:Kirchweih Zentbechhofen
DESCRIPTION:
URL:https://fraenkische-kirchweih.de/kalendereintrag/kirchweih-zentbechhofen/
LOCATION:Stammtisch Ponderosa\, Zentbechhofen\, Bayern\, 91315\, DEU
CATEGORIES:"Kerwa,Erlangen-Höchstadt,Mittelfranken
GEO:49.7613378;10.8941556
END:VEVENT
BEGIN:VEVENT
DTSTART;VALUE=DATE:20260710
DTEND;VALUE=DATE:20260714
DTSTAMP:20260422T032327
CREATED:20260411T175102Z
LAST-MODIFIED:20260411T175102Z
UID:10003219-1783641600-1783987199@fraenkische-kirchweih.de
SUMMARY:Kerwa Reinhardshofen
DESCRIPTION:
URL:https://fraenkische-kirchweih.de/kalendereintrag/kerwa-reinhardshofen/
LOCATION:Ortsburschen Reinhardshofen\, Reinhardshofen\, Bayern\, 91468\, DEU
CATEGORIES:"Kerwa,Mittelfranken,Neustadt an der Aisch-Bad Windsheim
GEO:49.62623;10.6521449
END:VEVENT
BEGIN:VEVENT
DTSTART;VALUE=DATE:20260710
DTEND;VALUE=DATE:20260714
DTSTAMP:20260422T032327
CREATED:20260411T175102Z
LAST-MODIFIED:20260411T175102Z
UID:10003220-1783641600-1783987199@fraenkische-kirchweih.de
SUMMARY:Kerwa Neuhof an der Zenn
DESCRIPTION:
URL:https://fraenkische-kirchweih.de/kalendereintrag/kerwa-neuhof-an-der-zenn/
LOCATION:Ortsburschen Neuhof an der Zenn\, Neuhof an der Zenn\, Bayern\, 90616\, DEU
CATEGORIES:"Kerwa,Mittelfranken,Neustadt an der Aisch-Bad Windsheim
GEO:49.4567234;10.6432642
END:VEVENT
BEGIN:VEVENT
DTSTART;VALUE=DATE:20260710
DTEND;VALUE=DATE:20260715
DTSTAMP:20260422T032327
CREATED:20260131T140420Z
LAST-MODIFIED:20260411T175002Z
UID:10002443-1783641600-1784073599@fraenkische-kirchweih.de
SUMMARY:Almoshofer Schloßkärwa
DESCRIPTION:
URL:https://fraenkische-kirchweih.de/kalendereintrag/almoshofer-schlosskaerwa-5/
LOCATION:Almoshofer Kirchweihburschen\, Almoshof\, Bayern\, 90427\, DEU
CATEGORIES:"Kärwa,Mittelfranken,Nürnberg
GEO:49.4914752;11.0617118
END:VEVENT
BEGIN:VEVENT
DTSTART;VALUE=DATE:20260710
DTEND;VALUE=DATE:20260715
DTSTAMP:20260422T032327
CREATED:20260131T140437Z
LAST-MODIFIED:20260411T175003Z
UID:10002446-1783641600-1784073599@fraenkische-kirchweih.de
SUMMARY:Rückersdorfer Kärwa
DESCRIPTION:
URL:https://fraenkische-kirchweih.de/kalendereintrag/rueckersdorfer-kaerwa-5/
LOCATION:Rückersdorfer Kärwaboum und -madla\, Rückersdorf\, Bayern\, 90607\, DEU
CATEGORIES:"Kärwa,Mittelfranken,Nürnberger Land
GEO:49.4976636;11.2428896
END:VEVENT
END:VCALENDAR