BEGIN:VCALENDAR
VERSION:2.0
PRODID:-//Fränkische Kirchweih - ECPv6.15.17.1//NONSGML v1.0//EN
CALSCALE:GREGORIAN
METHOD:PUBLISH
X-WR-CALNAME:Fränkische Kirchweih
X-ORIGINAL-URL:https://fraenkische-kirchweih.de
X-WR-CALDESC:Veranstaltungen für Fränkische Kirchweih
REFRESH-INTERVAL;VALUE=DURATION:PT1H
X-Robots-Tag:noindex
X-PUBLISHED-TTL:PT1H
BEGIN:VTIMEZONE
TZID:Europe/Berlin
BEGIN:DAYLIGHT
TZOFFSETFROM:+0100
TZOFFSETTO:+0200
TZNAME:CEST
DTSTART:20250330T010000
END:DAYLIGHT
BEGIN:STANDARD
TZOFFSETFROM:+0200
TZOFFSETTO:+0100
TZNAME:CET
DTSTART:20251026T010000
END:STANDARD
BEGIN:DAYLIGHT
TZOFFSETFROM:+0100
TZOFFSETTO:+0200
TZNAME:CEST
DTSTART:20260329T010000
END:DAYLIGHT
BEGIN:STANDARD
TZOFFSETFROM:+0200
TZOFFSETTO:+0100
TZNAME:CET
DTSTART:20261025T010000
END:STANDARD
BEGIN:DAYLIGHT
TZOFFSETFROM:+0100
TZOFFSETTO:+0200
TZNAME:CEST
DTSTART:20270328T010000
END:DAYLIGHT
BEGIN:STANDARD
TZOFFSETFROM:+0200
TZOFFSETTO:+0100
TZNAME:CET
DTSTART:20271031T010000
END:STANDARD
END:VTIMEZONE
BEGIN:VEVENT
DTSTART;VALUE=DATE:20260423
DTEND;VALUE=DATE:20260428
DTSTAMP:20260424T122949
CREATED:20260411T174530Z
LAST-MODIFIED:20260411T174530Z
UID:10003203-1776902400-1777334399@fraenkische-kirchweih.de
SUMMARY:Kerwa Oberickelsheim
DESCRIPTION:
URL:https://fraenkische-kirchweih.de/kalendereintrag/kerwa-oberickelsheim/
LOCATION:ELJ Oberickelsheim\, Oberickelsheim\, Bayern\, 97258\, DEU
CATEGORIES:"Kerwa,Mittelfranken,Neustadt an der Aisch-Bad Windsheim
GEO:49.6015445;10.1362448
END:VEVENT
BEGIN:VEVENT
DTSTART;VALUE=DATE:20260424
DTEND;VALUE=DATE:20260427
DTSTAMP:20260424T122949
CREATED:20260411T174532Z
LAST-MODIFIED:20260411T174532Z
UID:10003205-1776988800-1777247999@fraenkische-kirchweih.de
SUMMARY:Kerwa Thierberg
DESCRIPTION:
URL:https://fraenkische-kirchweih.de/kalendereintrag/kerwa-thierberg/
LOCATION:Feuerwehrverein Thierberg\, Thierberg\, Bayern\, 91443\, DEU
CATEGORIES:"Kerwa,Mittelfranken,Neustadt an der Aisch-Bad Windsheim
GEO:49.6724602;10.4967333
END:VEVENT
BEGIN:VEVENT
DTSTART;VALUE=DATE:20260424
DTEND;VALUE=DATE:20260428
DTSTAMP:20260424T122949
CREATED:20260411T174531Z
LAST-MODIFIED:20260411T174531Z
UID:10003204-1776988800-1777334399@fraenkische-kirchweih.de
SUMMARY:Kerwa Greith
DESCRIPTION:
URL:https://fraenkische-kirchweih.de/kalendereintrag/kerwa-greith/
LOCATION:Ortsburschen Greith\, Jobstgreuth\, Bayern\, 91459\, DEU
CATEGORIES:"Kerwa,Mittelfranken,Neustadt an der Aisch-Bad Windsheim
GEO:49.4972437;10.5290615
END:VEVENT
END:VCALENDAR